Workbook

Sheet Vstup
B1: Vstup
C4: Parametry
C5: Doba spoření | D5: Pojištění vkladů | E5: Vztah k riziku | F5: Likvidita | G5: Kombinace s pojištěním | H5: Navazující úvěr | I5: Vklad | J5: Možnost podpory od zaměstnavatele | K5: Zdanění výnosů | L5: Snížení základu daně
B6: 1 | C6: 0 - 4 roky | D6: pojištěny | E6: kladný | F6: okamžitě | G6: ano | H6: ano | I6: jednorázový | J6: ano | K6: osvobozeno | L6: požaduje
B7: 2 | C7: 5 - 8 let | D7: nepojištěny | E7: spíše kladný | F7: do 2 týdnů | G7: ne | H7: ne | I7: pravidelný | J7: ne | K7: 15 % z výnosů | L7: nepožaduje
B8: 3 | C8: 9 - 15 let | E8: spíše záporný | F8: 2 - 4 týdny
B9: 4 | C9: 16 a více let | E9: záporný | F9: 4 - 10 týdnů
B10: 5 | F10: více než 10 týdnů
C13: Vstupní data
C14: Doba spoření | D14: Pojištění vkladů | E14: Vztah k riziku | F14: Likvidita | G14: Kombinace s pojištěním | H14: Navazující úvěr | I14: Vklad | J14: Možnost podpory od zaměstnavatele | K14: Zdanění výnosů | L14: Snížení základu daně
B15: 1 | C15: N | D15: N | E15: N | F15: N | G15: N | H15: N | I15: N | J15: N | K15: N | L15: N
B16: 2 | C16: N | D16: N | E16: N | F16: N | G16: N | H16: N | I16: N | J16: N | K16: N | L16: N
B17: 3 | C17: N | E17: N | F17: N
B18: 4 | C18: N | E18: N | F18: N
B19: 5 | F19: N

Sheet Výsledné hodnocení
B1: Výsledné hodnocení
B4: Produkt | C4: Penzijní připojištění | D4: Kapitálové životní pojištění | E4: Investiční životní pojištění | F4: Stavební spoření | G4: Spořící účet | H4: Podílové fondy peněžního trhu | I4: Podílové fondy akciové
B5: Body | C5: =PP!D51 -> 0 | D5: =KŽP!D51 -> 0 | E5: =IŽP!D51 -> 0 | F5: ='Stavební spoření'!D51 -> 0 | G5: ='Spořící účet'!D51 -> 0 | H5: ='PF - peněžního trhu'!D51 -> 0 | I5: ='PF - akciové'!D51 -> 0
B6: Hodnocení | C6: =PP!D52 -> Zavrhnout | D6: =KŽP!D52 -> Zavrhnout | E6: =IŽP!D52 -> Zavrhnout | F6: ='Stavební spoření'!D52 -> Zavrhnout | G6: ='Spořící účet'!D52 -> Zavrhnout | H6: ='PF - peněžního trhu'!D52 -> Zavrhnout | I6: ='PF - akciové'!D52 -> Zavrhnout

Sheet PP
B1: Penzijní připojištění
C4: Vstupní stavová matice - popis
C5: Doba spoření | D5: Pojištění vkladů | E5: Vztah k riziku | F5: Likvidita | G5: Kombinace s pojištěním | H5: Navazující úvěr | I5: Vklad | J5: Možnost podpory od zaměstnavatele | K5: Zdanění výnosů | L5: Snížení základu daně
B6: 1 | C6: 0 - 4 roky | D6: pojištěny | E6: kladný | F6: okamžitě | G6: ano | H6: ano | I6: jednorázový | J6: ano | K6: osvobozeno | L6: požaduje
B7: 2 | C7: 5 - 8 let | D7: nepojištěny | E7: spíše kladný | F7: do 2 týdnů | G7: ne | H7: ne | I7: pravidelný | J7: ne | K7: 15 % z výnosů | L7: nepožaduje
B8: 3 | C8: 9 - 15 let | E8: spíše záporný | F8: 2 - 4 týdny
B9: 4 | C9: 15 a více let | E9: záporný | F9: 4 - 10 týdnů
B10: 5 | F10: více než 10 týdnů
C13: Transformační matice
C14: Doba spoření | D14: Pojištění vkladů | E14: Vztah k riziku | F14: Likvidita | G14: Kombinace s pojištěním | H14: Navazující úvěr | I14: Vklad | J14: Možnost podpory od zaměstnavatele | K14: Zdanění výnosů | L14: Snížení základu daně
B15: 1 | C15: 3 | D15: 3 | E15: 5 | F15: 0 | G15: 0 | H15: 0 | I15: 8 | J15: 15 | K15: 2 | L15: 15
B16: 2 | C16: 8 | D16: 5 | E16: 6 | F16: 1 | G16: 5 | H16: 5 | I16: 10 | J16: 5 | K16: 5 | L16: 5
B17: 3 | C17: 22 | E17: 10 | F17: 2
B18: 4 | C18: 17 | E18: 12 | F18: 6
B19: 5 | F19: 6
B20: max | C20: =MAX(C15:C19) -> 22 | D20: =MAX(D15:D19) -> 5 | E20: =MAX(E15:E19) -> 12 | F20: =MAX(F15:F19) -> 6 | G20: =MAX(G15:G19) -> 5 | H20: =MAX(H15:H19) -> 5 | I20: =MAX(I15:I19) -> 10 | J20: =MAX(J15:J19) -> 15 | ... L20: =MAX(L15:L19) -> 15 | M20: =SUM(C20:L20) -> 100
C23: Vstupní stavová matice (A;N)
C24: Doba spoření | D24: Pojištění vkladů | E24: Vztah k riziku | F24: Likvidita | G24: Kombinace s pojištěním | H24: Navazující úvěr | I24: Vklad | J24: Možnost podpory od zaměstnavatele | K24: Zdanění výnosů | L24: Snížení základu daně
B25: 1 | C25: =Vstup!C15 -> N | D25: =Vstup!D15 -> N | E25: =Vstup!E15 -> N | F25: =Vstup!F15 -> N | G25: =Vstup!G15 -> N | H25: =Vstup!H15 -> N | I25: =Vstup!I15 -> N | J25: =Vstup!J15 -> N | ... L25: =Vstup!L15 -> N
B26: 2 | C26: =Vstup!C16 -> N | D26: =Vstup!D16 -> N | E26: =Vstup!E16 -> N | F26: =Vstup!F16 -> N | G26: =Vstup!G16 -> N | H26: =Vstup!H16 -> N | I26: =Vstup!I16 -> N | J26: =Vstup!J16 -> N | ... L26: =Vstup!L16 -> N
B27: 3 | C27: =Vstup!C17 -> N | E27: =Vstup!E17 -> N | F27: =Vstup!F17 -> N
B28: 4 | C28: =Vstup!C18 -> N | E28: =Vstup!E18 -> N | F28: =Vstup!F18 -> N
B29: 5 | F29: =Vstup!F19 -> N
C32: Vstupní stavová matice (0;1)
C33: Doba spoření | D33: Pojištění vkladů | E33: Vztah k riziku | F33: Likvidita | G33: Kombinace s pojištěním | H33: Navazující úvěr | I33: Vklad | J33: Možnost podpory od zaměstnavatele | K33: Zdanění výnosů | L33: Snížení základu daně
B34: 1 | C34: =IF(C25="A",1,0) -> 0 | D34: =IF(D25="A",1,0) -> 0 | E34: =IF(E25="A",1,0) -> 0 | F34: =IF(F25="A",1,0) -> 0 | G34: =IF(G25="A",1,0) -> 0 | H34: =IF(H25="A",1,0) -> 0 | I34: =IF(I25="A",1,0) -> 0 | J34: =IF(J25="A",1,0) -> 0 | ... L34: =IF(L25="A",1,0) -> 0
B35: 2 | C35: =IF(C26="A",1,0) -> 0 | D35: =IF(D26="A",1,0) -> 0 | E35: =IF(E26="A",1,0) -> 0 | F35: =IF(F26="A",1,0) -> 0 | G35: =IF(G26="A",1,0) -> 0 | H35: =IF(H26="A",1,0) -> 0 | I35: =IF(I26="A",1,0) -> 0 | J35: =IF(J26="A",1,0) -> 0 | ... L35: =IF(L26="A",1,0) -> 0
B36: 3 | C36: =IF(C27="A",1,0) -> 0 | E36: =IF(E27="A",1,0) -> 0 | F36: =IF(F27="A",1,0) -> 0
B37: 4 | C37: =IF(C28="A",1,0) -> 0 | E37: =IF(E28="A",1,0) -> 0 | F37: =IF(F28="A",1,0) -> 0
B38: 5 | F38: =IF(F29="A",1,0) -> 0
C41: =SUM(C34:C37) -> 0 | D41: =SUM(D34:D35) -> 0 | E41: =SUM(E34:E37) -> 0 | F41: =SUM(F34:F38) -> 0 | G41: =SUM(G34:G35) -> 0 | H41: =SUM(H34:H35) -> 0 | I41: =SUM(I34:I35) -> 0 | J41: =SUM(J34:J35) -> 0 | K41: =SUM(K34:K36) -> 0 | L41: =SUM(L34:L35) -> 0
C42: =IF(C41>1,1,0) -> 0 | D42: =IF(D41>1,1,0) -> 0 | E42: =IF(E41>1,1,0) -> 0 | F42: =IF(F41>1,1,0) -> 0 | G42: =IF(G41>1,1,0) -> 0 | H42: =IF(H41>1,1,0) -> 0 | I42: =IF(I41>1,1,0) -> 0 | J42: =IF(J41>1,1,0) -> 0 | ... L42: =IF(L41>1,1,0) -> 0 | M42: =IF(SUM(C42:L42)=0,"SPRÁVNĚ","CHYBA!") -> SPRÁVNĚ
C45: Retransformační matice
C46: 0 - 70 | D46: Zavrhnout
C47: 71 - 80 | D47: Zatím nezavrhovat
C48: 81 - 100 | D48: Přijmout
C51: Výpočet | D51: =IF(M42="SPRÁVNĚ",SUMPRODUCT(C15:L19,C34:L38)/SUM(C20:L20)*100,"CHYBA!") -> 0
C52: Výsledné hodnocení | D52: =IF(M42="SPRÁVNĚ",IF(D51<=70,"Zavrhnout",IF(AND(D51>70,D51<=80),"Zatím nezavrhovat","Přijmout")),"CHYBA!") -> Zavrhnout

Sheet KŽP
B1: Kapitálové životní pojištění
C4: Vstupní stavová matice - popis
C5: Doba spoření | D5: Pojištění vkladů | E5: Vztah k riziku | F5: Likvidita | G5: Kombinace s pojištěním | H5: Navazující úvěr | I5: Vklad | J5: Možnost podpory od zaměstnavatele | K5: Zdanění výnosů | L5: Snížení základu daně
B6: 1 | C6: 0 - 4 roky | D6: pojištěny | E6: kladný | F6: okamžitě | G6: ano | H6: ano | I6: jednorázový | J6: ano | K6: osvobozeno | L6: požaduje
B7: 2 | C7: 5 - 8 let | D7: nepojištěny | E7: spíše kladný | F7: do 2 týdnů | G7: ne | H7: ne | I7: pravidelný | J7: ne | K7: 15 % z výnosů | L7: nepožaduje
B8: 3 | C8: 9 - 15 let | E8: spíše záporný | F8: 2 - 4 týdny
B9: 4 | C9: 15 a více let | E9: záporný | F9: 4 - 10 týdnů
B10: 5 | F10: více než 10 týdnů
C13: Transformační matice
C14: Doba spoření | D14: Pojištění vkladů | E14: Vztah k riziku | F14: Likvidita | G14: Kombinace s pojištěním | H14: Navazující úvěr | I14: Vklad | J14: Možnost podpory od zaměstnavatele | K14: Zdanění výnosů | L14: Snížení základu daně
B15: 1 | C15: 3 | D15: 3 | E15: 5 | F15: 0 | G15: 10 | H15: 2 | I15: 5 | J15: 15 | K15: 2 | L15: 15
B16: 2 | C16: 5 | D16: 5 | E16: 6 | F16: 1 | G16: 2 | H16: 7 | I16: 7 | J16: 5 | K16: 5 | L16: 5
B17: 3 | C17: 12 | E17: 9 | F17: 2
B18: 4 | C18: 20 | E18: 10 | F18: 6
B19: 5 | F19: 6
B20: max | C20: =MAX(C15:C19) -> 20 | D20: =MAX(D15:D19) -> 5 | E20: =MAX(E15:E19) -> 10 | F20: =MAX(F15:F19) -> 6 | G20: =MAX(G15:G19) -> 10 | H20: =MAX(H15:H19) -> 7 | I20: =MAX(I15:I19) -> 7 | J20: =MAX(J15:J19) -> 15 | ... L20: =MAX(L15:L19) -> 15 | M20: =SUM(C20:L20) -> 100
C23: Vstupní stavová matice (A;N)
C24: Doba spoření | D24: Pojištění vkladů | E24: Vztah k riziku | F24: Likvidita | G24: Kombinace s pojištěním | H24: Navazující úvěr | I24: Vklad | J24: Možnost podpory od zaměstnavatele | K24: Zdanění výnosů | L24: Snížení základu daně
B25: 1 | C25: =Vstup!C15 -> N | D25: =Vstup!D15 -> N | E25: =Vstup!E15 -> N | F25: =Vstup!F15 -> N | G25: =Vstup!G15 -> N | H25: =Vstup!H15 -> N | I25: =Vstup!I15 -> N | J25: =Vstup!J15 -> N | ... L25: =Vstup!L15 -> N
B26: 2 | C26: =Vstup!C16 -> N | D26: =Vstup!D16 -> N | E26: =Vstup!E16 -> N | F26: =Vstup!F16 -> N | G26: =Vstup!G16 -> N | H26: =Vstup!H16 -> N | I26: =Vstup!I16 -> N | J26: =Vstup!J16 -> N | ... L26: =Vstup!L16 -> N
B27: 3 | C27: =Vstup!C17 -> N | E27: =Vstup!E17 -> N | F27: =Vstup!F17 -> N
B28: 4 | C28: =Vstup!C18 -> N | E28: =Vstup!E18 -> N | F28: =Vstup!F18 -> N
B29: 5 | F29: =Vstup!F19 -> N
C32: Vstupní stavová matice (0;1)
C33: Doba spoření | D33: Pojištění vkladů | E33: Vztah k riziku | F33: Likvidita | G33: Kombinace s pojištěním | H33: Navazující úvěr | I33: Vklad | J33: Možnost podpory od zaměstnavatele | K33: Zdanění výnosů | L33: Snížení základu daně
B34: 1 | C34: =IF(C25="A",1,0) -> 0 | D34: =IF(D25="A",1,0) -> 0 | E34: =IF(E25="A",1,0) -> 0 | F34: =IF(F25="A",1,0) -> 0 | G34: =IF(G25="A",1,0) -> 0 | H34: =IF(H25="A",1,0) -> 0 | I34: =IF(I25="A",1,0) -> 0 | J34: =IF(J25="A",1,0) -> 0 | ... L34: =IF(L25="A",1,0) -> 0
B35: 2 | C35: =IF(C26="A",1,0) -> 0 | D35: =IF(D26="A",1,0) -> 0 | E35: =IF(E26="A",1,0) -> 0 | F35: =IF(F26="A",1,0) -> 0 | G35: =IF(G26="A",1,0) -> 0 | H35: =IF(H26="A",1,0) -> 0 | I35: =IF(I26="A",1,0) -> 0 | J35: =IF(J26="A",1,0) -> 0 | ... L35: =IF(L26="A",1,0) -> 0
B36: 3 | C36: =IF(C27="A",1,0) -> 0 | E36: =IF(E27="A",1,0) -> 0 | F36: =IF(F27="A",1,0) -> 0
B37: 4 | C37: =IF(C28="A",1,0) -> 0 | E37: =IF(E28="A",1,0) -> 0 | F37: =IF(F28="A",1,0) -> 0
B38: 5 | F38: =IF(F29="A",1,0) -> 0
C41: =SUM(C34:C37) -> 0 | D41: =SUM(D34:D35) -> 0 | E41: =SUM(E34:E37) -> 0 | F41: =SUM(F34:F38) -> 0 | G41: =SUM(G34:G35) -> 0 | H41: =SUM(H34:H35) -> 0 | I41: =SUM(I34:I35) -> 0 | J41: =SUM(J34:J35) -> 0 | K41: =SUM(K34:K36) -> 0 | L41: =SUM(L34:L35) -> 0
C42: =IF(C41>1,1,0) -> 0 | D42: =IF(D41>1,1,0) -> 0 | E42: =IF(E41>1,1,0) -> 0 | F42: =IF(F41>1,1,0) -> 0 | G42: =IF(G41>1,1,0) -> 0 | H42: =IF(H41>1,1,0) -> 0 | I42: =IF(I41>1,1,0) -> 0 | J42: =IF(J41>1,1,0) -> 0 | ... L42: =IF(L41>1,1,0) -> 0 | M42: =IF(SUM(C42:L42)=0,"SPRÁVNĚ","CHYBA!") -> SPRÁVNĚ
C45: Retransformační matice
C46: 0 - 70 | D46: Zavrhnout
C47: 71 - 80 | D47: Zatím nezavrhovat
C48: 81 - 100 | D48: Přijmout
C51: Výpočet | D51: =IF(M42="SPRÁVNĚ",SUMPRODUCT(C15:L19,C34:L38)/SUM(C20:L20)*100,"CHYBA!") -> 0
C52: Výsledné hodnocení | D52: =IF(M42="SPRÁVNĚ",IF(D51<=70,"Zavrhnout",IF(AND(D51>70,D51<=80),"Zatím nezavrhovat","Přijmout")),"CHYBA!") -> Zavrhnout

Sheet IŽP
B1: Investiční životní pojištění
C4: Vstupní stavová matice - popis
C5: Doba spoření | D5: Pojištění vkladů | E5: Vztah k riziku | F5: Likvidita | G5: Kombinace s pojištěním | H5: Navazující úvěr | I5: Vklad | J5: Možnost podpory od zaměstnavatele | K5: Zdanění výnosů | L5: Snížení základu daně
B6: 1 | C6: 0 - 4 roky | D6: pojištěny | E6: kladný | F6: okamžitě | G6: ano | H6: ano | I6: jednorázový | J6: ano | K6: osvobozeno | L6: požaduje
B7: 2 | C7: 5 - 8 let | D7: nepojištěny | E7: spíše kladný | F7: do 2 týdnů | G7: ne | H7: ne | I7: pravidelný | J7: ne | K7: 15 % z výnosů | L7: nepožaduje
B8: 3 | C8: 9 - 15 let | E8: spíše záporný | F8: 2 - 4 týdny
B9: 4 | C9: 15 a více let | E9: záporný | F9: 4 - 10 týdnů
B10: 5 | F10: více než 10 týdnů
C13: Transformační matice
C14: Doba spoření | D14: Pojištění vkladů | E14: Vztah k riziku | F14: Likvidita | G14: Kombinace s pojištěním | H14: Navazující úvěr | I14: Vklad | J14: Možnost podpory od zaměstnavatele | K14: Zdanění výnosů | L14: Snížení základu daně
B15: 1 | C15: 1 | D15: 1 | E15: 15 | F15: 0 | G15: 10 | H15: 0 | I15: 3 | J15: 15 | K15: 2 | L15: 15
B16: 2 | C16: 3 | D16: 5 | E16: 12 | F16: 1 | G16: 7 | H16: 5 | I16: 4 | J16: 5 | K16: 5 | L16: 5
B17: 3 | C17: 6 | E17: 5 | F17: 2
B18: 4 | C18: 20 | E18: 2 | F18: 6
B19: 5 | F19: 6
B20: max | C20: =MAX(C15:C19) -> 20 | D20: =MAX(D15:D19) -> 5 | E20: =MAX(E15:E19) -> 15 | F20: =MAX(F15:F19) -> 6 | G20: =MAX(G15:G19) -> 10 | H20: =MAX(H15:H19) -> 5 | I20: =MAX(I15:I19) -> 4 | J20: =MAX(J15:J19) -> 15 | ... L20: =MAX(L15:L19) -> 15 | M20: =SUM(C20:L20) -> 100
C23: Vstupní stavová matice (A;N)
C24: Doba spoření | D24: Pojištění vkladů | E24: Vztah k riziku | F24: Likvidita | G24: Kombinace s pojištěním | H24: Navazující úvěr | I24: Vklad | J24: Možnost podpory od zaměstnavatele | K24: Zdanění výnosů | L24: Snížení základu daně
B25: 1 | C25: =Vstup!C15 -> N | D25: =Vstup!D15 -> N | E25: =Vstup!E15 -> N | F25: =Vstup!F15 -> N | G25: =Vstup!G15 -> N | H25: =Vstup!H15 -> N | I25: =Vstup!I15 -> N | J25: =Vstup!J15 -> N | ... L25: =Vstup!L15 -> N
B26: 2 | C26: =Vstup!C16 -> N | D26: =Vstup!D16 -> N | E26: =Vstup!E16 -> N | F26: =Vstup!F16 -> N | G26: =Vstup!G16 -> N | H26: =Vstup!H16 -> N | I26: =Vstup!I16 -> N | J26: =Vstup!J16 -> N | ... L26: =Vstup!L16 -> N
B27: 3 | C27: =Vstup!C17 -> N | E27: =Vstup!E17 -> N | F27: =Vstup!F17 -> N
B28: 4 | C28: =Vstup!C18 -> N | E28: =Vstup!E18 -> N | F28: =Vstup!F18 -> N
B29: 5 | F29: =Vstup!F19 -> N
C32: Vstupní stavová matice (0;1)
C33: Doba spoření | D33: Pojištění vkladů | E33: Vztah k riziku | F33: Likvidita | G33: Kombinace s pojištěním | H33: Navazující úvěr | I33: Vklad | J33: Možnost podpory od zaměstnavatele | K33: Zdanění výnosů | L33: Snížení základu daně
B34: 1 | C34: =IF(C25="A",1,0) -> 0 | D34: =IF(D25="A",1,0) -> 0 | E34: =IF(E25="A",1,0) -> 0 | F34: =IF(F25="A",1,0) -> 0 | G34: =IF(G25="A",1,0) -> 0 | H34: =IF(H25="A",1,0) -> 0 | I34: =IF(I25="A",1,0) -> 0 | J34: =IF(J25="A",1,0) -> 0 | ... L34: =IF(L25="A",1,0) -> 0
B35: 2 | C35: =IF(C26="A",1,0) -> 0 | D35: =IF(D26="A",1,0) -> 0 | E35: =IF(E26="A",1,0) -> 0 | F35: =IF(F26="A",1,0) -> 0 | G35: =IF(G26="A",1,0) -> 0 | H35: =IF(H26="A",1,0) -> 0 | I35: =IF(I26="A",1,0) -> 0 | J35: =IF(J26="A",1,0) -> 0 | ... L35: =IF(L26="A",1,0) -> 0
B36: 3 | C36: =IF(C27="A",1,0) -> 0 | E36: =IF(E27="A",1,0) -> 0 | F36: =IF(F27="A",1,0) -> 0
B37: 4 | C37: =IF(C28="A",1,0) -> 0 | E37: =IF(E28="A",1,0) -> 0 | F37: =IF(F28="A",1,0) -> 0
B38: 5 | F38: =IF(F29="A",1,0) -> 0
C41: =SUM(C34:C37) -> 0 | D41: =SUM(D34:D35) -> 0 | E41: =SUM(E34:E37) -> 0 | F41: =SUM(F34:F38) -> 0 | G41: =SUM(G34:G35) -> 0 | H41: =SUM(H34:H35) -> 0 | I41: =SUM(I34:I35) -> 0 | J41: =SUM(J34:J35) -> 0 | K41: =SUM(K34:K36) -> 0 | L41: =SUM(L34:L35) -> 0
C42: =IF(C41>1,1,0) -> 0 | D42: =IF(D41>1,1,0) -> 0 | E42: =IF(E41>1,1,0) -> 0 | F42: =IF(F41>1,1,0) -> 0 | G42: =IF(G41>1,1,0) -> 0 | H42: =IF(H41>1,1,0) -> 0 | I42: =IF(I41>1,1,0) -> 0 | J42: =IF(J41>1,1,0) -> 0 | ... L42: =IF(L41>1,1,0) -> 0 | M42: =IF(SUM(C42:L42)=0,"SPRÁVNĚ","CHYBA!") -> SPRÁVNĚ
C45: Retransformační matice
C46: 0 - 70 | D46: Zavrhnout
C47: 71 - 80 | D47: Zatím nezavrhovat
C48: 81 - 100 | D48: Přijmout
C51: Výpočet | D51: =IF(M42="SPRÁVNĚ",SUMPRODUCT(C15:L19,C34:L38)/SUM(C20:L20)*100,"CHYBA!") -> 0
C52: Výsledné hodnocení | D52: =IF(M42="SPRÁVNĚ",IF(D51<=70,"Zavrhnout",IF(AND(D51>70,D51<=80),"Zatím nezavrhovat","Přijmout")),"CHYBA!") -> Zavrhnout

Sheet Stavební spoření
B1: Stavební spoření
C4: Vstupní stavová matice - popis
C5: Doba spoření | D5: Pojištění vkladů | E5: Vztah k riziku | F5: Likvidita | G5: Kombinace s pojištěním | H5: Navazující úvěr | I5: Vklad | J5: Možnost podpory od zaměstnavatele | K5: Zdanění výnosů | L5: Snížení základu daně
B6: 1 | C6: 0 - 4 roky | D6: pojištěny | E6: kladný | F6: okamžitě | G6: ano | H6: ano | I6: jednorázový | J6: ano | K6: osvobozeno | L6: požaduje
B7: 2 | C7: 5 - 8 let | D7: nepojištěny | E7: spíše kladný | F7: do 2 týdnů | G7: ne | H7: ne | I7: pravidelný | J7: ne | K7: 15 % z výnosů | L7: nepožaduje
B8: 3 | C8: 9 - 15 let | E8: spíše záporný | F8: 2 - 4 týdny
B9: 4 | C9: 15 a více let | E9: záporný | F9: 4 - 10 týdnů
B10: 5 | F10: více než 10 týdnů
C13: Transformační matice
C14: Doba spoření | D14: Pojištění vkladů | E14: Vztah k riziku | F14: Likvidita | G14: Kombinace s pojištěním | H14: Navazující úvěr | I14: Vklad | J14: Možnost podpory od zaměstnavatele | K14: Zdanění výnosů | L14: Snížení základu daně
B15: 1 | C15: 4 | D15: 10 | E15: 5 | F15: 0 | G15: 0 | H15: 15 | I15: 4 | J15: 5 | K15: 5 | L15: 0
B16: 2 | C16: 20 | D16: 10 | E16: 7 | F16: 1 | G16: 10 | H16: 10 | I16: 5 | J16: 10 | K16: 5 | L16: 5
B17: 3 | C17: 13 | E17: 12 | F17: 2
B18: 4 | C18: 8 | E18: 14 | F18: 4
B19: 5 | F19: 6
B20: max | C20: =MAX(C15:C19) -> 20 | D20: =MAX(D15:D19) -> 10 | E20: =MAX(E15:E19) -> 14 | F20: =MAX(F15:F19) -> 6 | G20: =MAX(G15:G19) -> 10 | H20: =MAX(H15:H19) -> 15 | I20: =MAX(I15:I19) -> 5 | J20: =MAX(J15:J19) -> 10 | ... L20: =MAX(L15:L19) -> 5 | M20: =SUM(C20:L20) -> 100
C23: Vstupní stavová matice (A;N)
C24: Doba spoření | D24: Pojištění vkladů | E24: Vztah k riziku | F24: Likvidita | G24: Kombinace s pojištěním | H24: Navazující úvěr | I24: Vklad | J24: Možnost podpory od zaměstnavatele | K24: Zdanění výnosů | L24: Snížení základu daně
B25: 1 | C25: =Vstup!C15 -> N | D25: =Vstup!D15 -> N | E25: =Vstup!E15 -> N | F25: =Vstup!F15 -> N | G25: =Vstup!G15 -> N | H25: =Vstup!H15 -> N | I25: =Vstup!I15 -> N | J25: =Vstup!J15 -> N | ... L25: =Vstup!L15 -> N
B26: 2 | C26: =Vstup!C16 -> N | D26: =Vstup!D16 -> N | E26: =Vstup!E16 -> N | F26: =Vstup!F16 -> N | G26: =Vstup!G16 -> N | H26: =Vstup!H16 -> N | I26: =Vstup!I16 -> N | J26: =Vstup!J16 -> N | ... L26: =Vstup!L16 -> N
B27: 3 | C27: =Vstup!C17 -> N | E27: =Vstup!E17 -> N | F27: =Vstup!F17 -> N
B28: 4 | C28: =Vstup!C18 -> N | E28: =Vstup!E18 -> N | F28: =Vstup!F18 -> N
B29: 5 | F29: =Vstup!F19 -> N
C32: Vstupní stavová matice (0;1)
C33: Doba spoření | D33: Pojištění vkladů | E33: Vztah k riziku | F33: Likvidita | G33: Kombinace s pojištěním | H33: Navazující úvěr | I33: Vklad | J33: Možnost podpory od zaměstnavatele | K33: Zdanění výnosů | L33: Snížení základu daně
B34: 1 | C34: =IF(C25="A",1,0) -> 0 | D34: =IF(D25="A",1,0) -> 0 | E34: =IF(E25="A",1,0) -> 0 | F34: =IF(F25="A",1,0) -> 0 | G34: =IF(G25="A",1,0) -> 0 | H34: =IF(H25="A",1,0) -> 0 | I34: =IF(I25="A",1,0) -> 0 | J34: =IF(J25="A",1,0) -> 0 | ... L34: =IF(L25="A",1,0) -> 0
B35: 2 | C35: =IF(C26="A",1,0) -> 0 | D35: =IF(D26="A",1,0) -> 0 | E35: =IF(E26="A",1,0) -> 0 | F35: =IF(F26="A",1,0) -> 0 | G35: =IF(G26="A",1,0) -> 0 | H35: =IF(H26="A",1,0) -> 0 | I35: =IF(I26="A",1,0) -> 0 | J35: =IF(J26="A",1,0) -> 0 | ... L35: =IF(L26="A",1,0) -> 0
B36: 3 | C36: =IF(C27="A",1,0) -> 0 | E36: =IF(E27="A",1,0) -> 0 | F36: =IF(F27="A",1,0) -> 0
B37: 4 | C37: =IF(C28="A",1,0) -> 0 | E37: =IF(E28="A",1,0) -> 0 | F37: =IF(F28="A",1,0) -> 0
B38: 5 | F38: =IF(F29="A",1,0) -> 0
C41: =SUM(C34:C37) -> 0 | D41: =SUM(D34:D35) -> 0 | E41: =SUM(E34:E37) -> 0 | F41: =SUM(F34:F38) -> 0 | G41: =SUM(G34:G35) -> 0 | H41: =SUM(H34:H35) -> 0 | I41: =SUM(I34:I35) -> 0 | J41: =SUM(J34:J35) -> 0 | K41: =SUM(K34:K36) -> 0 | L41: =SUM(L34:L35) -> 0
C42: =IF(C41>1,1,0) -> 0 | D42: =IF(D41>1,1,0) -> 0 | E42: =IF(E41>1,1,0) -> 0 | F42: =IF(F41>1,1,0) -> 0 | G42: =IF(G41>1,1,0) -> 0 | H42: =IF(H41>1,1,0) -> 0 | I42: =IF(I41>1,1,0) -> 0 | J42: =IF(J41>1,1,0) -> 0 | ... L42: =IF(L41>1,1,0) -> 0 | M42: =IF(SUM(C42:L42)=0,"SPRÁVNĚ","CHYBA!") -> SPRÁVNĚ
C45: Retransformační matice
C46: 0 - 70 | D46: Zavrhnout
C47: 71 - 80 | D47: Zatím nezavrhovat
C48: 81 - 100 | D48: Přijmout
C51: Výpočet | D51: =IF(M42="SPRÁVNĚ",SUMPRODUCT(C15:L19,C34:L38)/SUM(C20:L20)*100,"CHYBA!") -> 0
C52: Výsledné hodnocení | D52: =IF(M42="SPRÁVNĚ",IF(D51<=70,"Zavrhnout",IF(AND(D51>70,D51<=80),"Zatím nezavrhovat","Přijmout")),"CHYBA!") -> Zavrhnout

Sheet Spořící účet
B1: Spořící účet
C4: Vstupní stavová matice - popis
C5: Doba spoření | D5: Pojištění vkladů | E5: Vztah k riziku | F5: Likvidita | G5: Kombinace s pojištěním | H5: Navazující úvěr | I5: Vklad | J5: Možnost podpory od zaměstnavatele | K5: Zdanění výnosů | L5: Snížení základu daně
B6: 1 | C6: 0 - 4 roky | D6: pojištěny | E6: kladný | F6: okamžitě | G6: ano | H6: ano | I6: jednorázový | J6: ano | K6: osvobozeno | L6: požaduje
B7: 2 | C7: 5 - 8 let | D7: nepojištěny | E7: spíše kladný | F7: do 2 týdnů | G7: ne | H7: ne | I7: pravidelný | J7: ne | K7: 15 % z výnosů | L7: nepožaduje
B8: 3 | C8: 9 - 15 let | E8: spíše záporný | F8: 2 - 4 týdny
B9: 4 | C9: 15 a více let | E9: záporný | F9: 4 - 10 týdnů
B10: 5 | F10: více než 10 týdnů
C13: Transformační matice
C14: Doba spoření | D14: Pojištění vkladů | E14: Vztah k riziku | F14: Likvidita | G14: Kombinace s pojištěním | H14: Navazující úvěr | I14: Vklad | J14: Možnost podpory od zaměstnavatele | K14: Zdanění výnosů | L14: Snížení základu daně
B15: 1 | C15: 20 | D15: 15 | E15: 5 | F15: 6 | G15: 0 | H15: 0 | I15: 10 | J15: 0 | K15: 2 | L15: 0
B16: 2 | C16: 13 | D16: 15 | E16: 7 | F16: 6 | G16: 10 | H16: 10 | I16: 10 | J16: 5 | K16: 5 | L16: 5
B17: 3 | C17: 7 | E17: 12 | F17: 6
B18: 4 | C18: 5 | E18: 14 | F18: 6
B19: 5 | F19: 6
B20: max | C20: =MAX(C15:C19) -> 20 | D20: =MAX(D15:D19) -> 15 | E20: =MAX(E15:E19) -> 14 | F20: =MAX(F15:F19) -> 6 | G20: =MAX(G15:G19) -> 10 | H20: =MAX(H15:H19) -> 10 | I20: =MAX(I15:I19) -> 10 | J20: =MAX(J15:J19) -> 5 | ... L20: =MAX(L15:L19) -> 5 | M20: =SUM(C20:L20) -> 100
C23: Vstupní stavová matice (A;N)
C24: Doba spoření | D24: Pojištění vkladů | E24: Vztah k riziku | F24: Likvidita | G24: Kombinace s pojištěním | H24: Navazující úvěr | I24: Vklad | J24: Možnost podpory od zaměstnavatele | K24: Zdanění výnosů | L24: Snížení základu daně
B25: 1 | C25: =Vstup!C15 -> N | D25: =Vstup!D15 -> N | E25: =Vstup!E15 -> N | F25: =Vstup!F15 -> N | G25: =Vstup!G15 -> N | H25: =Vstup!H15 -> N | I25: =Vstup!I15 -> N | J25: =Vstup!J15 -> N | ... L25: =Vstup!L15 -> N
B26: 2 | C26: =Vstup!C16 -> N | D26: =Vstup!D16 -> N | E26: =Vstup!E16 -> N | F26: =Vstup!F16 -> N | G26: =Vstup!G16 -> N | H26: =Vstup!H16 -> N | I26: =Vstup!I16 -> N | J26: =Vstup!J16 -> N | ... L26: =Vstup!L16 -> N
B27: 3 | C27: =Vstup!C17 -> N | E27: =Vstup!E17 -> N | F27: =Vstup!F17 -> N
B28: 4 | C28: =Vstup!C18 -> N | E28: =Vstup!E18 -> N | F28: =Vstup!F18 -> N
B29: 5 | F29: =Vstup!F19 -> N
C32: Vstupní stavová matice (0;1)
C33: Doba spoření | D33: Pojištění vkladů | E33: Vztah k riziku | F33: Likvidita | G33: Kombinace s pojištěním | H33: Navazující úvěr | I33: Vklad | J33: Možnost podpory od zaměstnavatele | K33: Zdanění výnosů | L33: Snížení základu daně
B34: 1 | C34: =IF(C25="A",1,0) -> 0 | D34: =IF(D25="A",1,0) -> 0 | E34: =IF(E25="A",1,0) -> 0 | F34: =IF(F25="A",1,0) -> 0 | G34: =IF(G25="A",1,0) -> 0 | H34: =IF(H25="A",1,0) -> 0 | I34: =IF(I25="A",1,0) -> 0 | J34: =IF(J25="A",1,0) -> 0 | ... L34: =IF(L25="A",1,0) -> 0
B35: 2 | C35: =IF(C26="A",1,0) -> 0 | D35: =IF(D26="A",1,0) -> 0 | E35: =IF(E26="A",1,0) -> 0 | F35: =IF(F26="A",1,0) -> 0 | G35: =IF(G26="A",1,0) -> 0 | H35: =IF(H26="A",1,0) -> 0 | I35: =IF(I26="A",1,0) -> 0 | J35: =IF(J26="A",1,0) -> 0 | ... L35: =IF(L26="A",1,0) -> 0
B36: 3 | C36: =IF(C27="A",1,0) -> 0 | E36: =IF(E27="A",1,0) -> 0 | F36: =IF(F27="A",1,0) -> 0
B37: 4 | C37: =IF(C28="A",1,0) -> 0 | E37: =IF(E28="A",1,0) -> 0 | F37: =IF(F28="A",1,0) -> 0
B38: 5 | F38: =IF(F29="A",1,0) -> 0
C41: =SUM(C34:C37) -> 0 | D41: =SUM(D34:D35) -> 0 | E41: =SUM(E34:E37) -> 0 | F41: =SUM(F34:F38) -> 0 | G41: =SUM(G34:G35) -> 0 | H41: =SUM(H34:H35) -> 0 | I41: =SUM(I34:I35) -> 0 | J41: =SUM(J34:J35) -> 0 | K41: =SUM(K34:K36) -> 0 | L41: =SUM(L34:L35) -> 0
C42: =IF(C41>1,1,0) -> 0 | D42: =IF(D41>1,1,0) -> 0 | E42: =IF(E41>1,1,0) -> 0 | F42: =IF(F41>1,1,0) -> 0 | G42: =IF(G41>1,1,0) -> 0 | H42: =IF(H41>1,1,0) -> 0 | I42: =IF(I41>1,1,0) -> 0 | J42: =IF(J41>1,1,0) -> 0 | ... L42: =IF(L41>1,1,0) -> 0 | M42: =IF(SUM(C42:L42)=0,"SPRÁVNĚ","CHYBA!") -> SPRÁVNĚ
C45: Retransformační matice
C46: 0 - 70 | D46: Zavrhnout
C47: 71 - 80 | D47: Zatím nezavrhovat
C48: 81 - 100 | D48: Přijmout
C51: Výpočet | D51: =IF(M42="SPRÁVNĚ",SUMPRODUCT(C15:L19,C34:L38)/SUM(C20:L20)*100,"CHYBA!") -> 0
C52: Výsledné hodnocení | D52: =IF(M42="SPRÁVNĚ",IF(D51<=70,"Zavrhnout",IF(AND(D51>70,D51<=80),"Zatím nezavrhovat","Přijmout")),"CHYBA!") -> Zavrhnout

Sheet PF - peněžního trhu
B1: Podílové fondy - peněžního trhu
C4: Vstupní stavová matice - popis
C5: Doba spoření | D5: Pojištění vkladů | E5: Vztah k riziku | F5: Likvidita | G5: Kombinace s pojištěním | H5: Navazující úvěr | I5: Vklad | J5: Možnost podpory od zaměstnavatele | K5: Zdanění výnosů | L5: Snížení základu daně
B6: 1 | C6: 0 - 4 roky | D6: pojištěny | E6: kladný | F6: okamžitě | G6: ano | H6: ano | I6: jednorázový | J6: ano | K6: osvobozeno | L6: požaduje
B7: 2 | C7: 5 - 8 let | D7: nepojištěny | E7: spíše kladný | F7: do 2 týdnů | G7: ne | H7: ne | I7: pravidelný | J7: ne | K7: 15 % z výnosů | L7: nepožaduje
B8: 3 | C8: 9 - 15 let | E8: spíše záporný | F8: 2 - 4 týdny
B9: 4 | C9: 16 a více let | E9: záporný | F9: 4 - 10 týdnů
B10: 5 | F10: více než 10 týdnů
C13: Transformační matice
C14: Doba spoření | D14: Pojištění vkladů | E14: Vztah k riziku | F14: Likvidita | G14: Kombinace s pojištěním | H14: Navazující úvěr | I14: Vklad | J14: Možnost podpory od zaměstnavatele | K14: Zdanění výnosů | L14: Snížení základu daně
B15: 1 | C15: 20 | D15: 1 | E15: 15 | F15: 2 | G15: 0 | H15: 0 | I15: 15 | J15: 0 | K15: 5 | L15: 0
B16: 2 | C16: 13 | D16: 5 | E16: 16 | F16: 14 | G16: 5 | H16: 5 | I16: 15 | J16: 5 | K16: 5 | L16: 5
B17: 3 | C17: 7 | E17: 18 | F17: 14
B18: 4 | C18: 5 | E18: 21 | F18: 14
B19: 5 | F19: 14
B20: max | C20: =MAX(C15:C19) -> 20 | D20: =MAX(D15:D19) -> 5 | E20: =MAX(E15:E19) -> 21 | F20: =MAX(F15:F19) -> 14 | G20: =MAX(G15:G19) -> 5 | H20: =MAX(H15:H19) -> 5 | I20: =MAX(I15:I19) -> 15 | J20: =MAX(J15:J19) -> 5 | ... L20: =MAX(L15:L19) -> 5 | M20: =SUM(C20:L20) -> 100
C23: Vstupní stavová matice (A;N)
C24: Doba spoření | D24: Pojištění vkladů | E24: Vztah k riziku | F24: Likvidita | G24: Kombinace s pojištěním | H24: Navazující úvěr | I24: Vklad | J24: Možnost podpory od zaměstnavatele | K24: Zdanění výnosů | L24: Snížení základu daně
B25: 1 | C25: =Vstup!C15 -> N | D25: =Vstup!D15 -> N | E25: =Vstup!E15 -> N | F25: =Vstup!F15 -> N | G25: =Vstup!G15 -> N | H25: =Vstup!H15 -> N | I25: =Vstup!I15 -> N | J25: =Vstup!J15 -> N | ... L25: =Vstup!L15 -> N
B26: 2 | C26: =Vstup!C16 -> N | D26: =Vstup!D16 -> N | E26: =Vstup!E16 -> N | F26: =Vstup!F16 -> N | G26: =Vstup!G16 -> N | H26: =Vstup!H16 -> N | I26: =Vstup!I16 -> N | J26: =Vstup!J16 -> N | ... L26: =Vstup!L16 -> N
B27: 3 | C27: =Vstup!C17 -> N | E27: =Vstup!E17 -> N | F27: =Vstup!F17 -> N
B28: 4 | C28: =Vstup!C18 -> N | E28: =Vstup!E18 -> N | F28: =Vstup!F18 -> N
B29: 5 | F29: =Vstup!F19 -> N
C32: Vstupní stavová matice (0;1)
C33: Doba spoření | D33: Pojištění vkladů | E33: Vztah k riziku | F33: Likvidita | G33: Kombinace s pojištěním | H33: Navazující úvěr | I33: Vklad | J33: Možnost podpory od zaměstnavatele | K33: Zdanění výnosů | L33: Snížení základu daně
B34: 1 | C34: =IF(C25="A",1,0) -> 0 | D34: =IF(D25="A",1,0) -> 0 | E34: =IF(E25="A",1,0) -> 0 | F34: =IF(F25="A",1,0) -> 0 | G34: =IF(G25="A",1,0) -> 0 | H34: =IF(H25="A",1,0) -> 0 | I34: =IF(I25="A",1,0) -> 0 | J34: =IF(J25="A",1,0) -> 0 | ... L34: =IF(L25="A",1,0) -> 0
B35: 2 | C35: =IF(C26="A",1,0) -> 0 | D35: =IF(D26="A",1,0) -> 0 | E35: =IF(E26="A",1,0) -> 0 | F35: =IF(F26="A",1,0) -> 0 | G35: =IF(G26="A",1,0) -> 0 | H35: =IF(H26="A",1,0) -> 0 | I35: =IF(I26="A",1,0) -> 0 | J35: =IF(J26="A",1,0) -> 0 | ... L35: =IF(L26="A",1,0) -> 0
B36: 3 | C36: =IF(C27="A",1,0) -> 0 | E36: =IF(E27="A",1,0) -> 0 | F36: =IF(F27="A",1,0) -> 0
B37: 4 | C37: =IF(C28="A",1,0) -> 0 | E37: =IF(E28="A",1,0) -> 0 | F37: =IF(F28="A",1,0) -> 0
B38: 5 | F38: =IF(F29="A",1,0) -> 0
C41: =SUM(C34:C37) -> 0 | D41: =SUM(D34:D35) -> 0 | E41: =SUM(E34:E37) -> 0 | F41: =SUM(F34:F38) -> 0 | G41: =SUM(G34:G35) -> 0 | H41: =SUM(H34:H35) -> 0 | I41: =SUM(I34:I35) -> 0 | J41: =SUM(J34:J35) -> 0 | K41: =SUM(K34:K36) -> 0 | L41: =SUM(L34:L35) -> 0
C42: =IF(C41>1,1,0) -> 0 | D42: =IF(D41>1,1,0) -> 0 | E42: =IF(E41>1,1,0) -> 0 | F42: =IF(F41>1,1,0) -> 0 | G42: =IF(G41>1,1,0) -> 0 | H42: =IF(H41>1,1,0) -> 0 | I42: =IF(I41>1,1,0) -> 0 | J42: =IF(J41>1,1,0) -> 0 | ... L42: =IF(L41>1,1,0) -> 0 | M42: =IF(SUM(C42:L42)=0,"SPRÁVNĚ","CHYBA!") -> SPRÁVNĚ
C45: Retransformační matice
C46: 0 - 70 | D46: Zavrhnout
C47: 71 - 80 | D47: Zatím nezavrhovat
C48: 81 - 100 | D48: Přijmout
C51: Výpočet | D51: =IF(M42="SPRÁVNĚ",SUMPRODUCT(C15:L19,C34:L38)/SUM(C20:L20)*100,"CHYBA!") -> 0
C52: Výsledné hodnocení | D52: =IF(M42="SPRÁVNĚ",IF(D51<=70,"Zavrhnout",IF(AND(D51>70,D51<=80),"Zatím nezavrhovat","Přijmout")),"CHYBA!") -> Zavrhnout

Sheet PF - akciové
B1: Podílové fondy - akciové
C4: Vstupní stavová matice - popis
C5: Doba spoření | D5: Pojištění vkladů | E5: Vztah k riziku | F5: Likvidita | G5: Kombinace s pojištěním | H5: Navazující úvěr | I5: Vklad | J5: Možnost podpory od zaměstnavatele | K5: Zdanění výnosů | L5: Snížení základu daně
B6: 1 | C6: 0 - 4 roky | D6: pojištěny | E6: kladný | F6: okamžitě | G6: ano | H6: ano | I6: jednorázový | J6: ano | K6: osvobozeno | L6: požaduje
B7: 2 | C7: 5 - 8 let | D7: nepojištěny | E7: spíše kladný | F7: do 2 týdnů | G7: ne | H7: ne | I7: pravidelný | J7: ne | K7: 15 % z výnosů | L7: nepožaduje
B8: 3 | C8: 9 - 15 let | E8: spíše záporný | F8: 2 - 4 týdny
B9: 4 | C9: 15 a více let | E9: záporný | F9: 4 - 10 týdnů
B10: 5 | F10: více než 10 týdnů
C13: Transformační matice
C14: Doba spoření | D14: Pojištění vkladů | E14: Vztah k riziku | F14: Likvidita | G14: Kombinace s pojištěním | H14: Navazující úvěr | I14: Vklad | J14: Možnost podpory od zaměstnavatele | K14: Zdanění výnosů | L14: Snížení základu daně
B15: 1 | C15: 1 | D15: 1 | E15: 25 | F15: 2 | G15: 0 | H15: 0 | I15: 15 | J15: 0 | K15: 5 | L15: 0
B16: 2 | C16: 4 | D16: 5 | E16: 20 | F16: 6 | G16: 5 | H16: 5 | I16: 15 | J16: 5 | K16: 5 | L16: 5
B17: 3 | C17: 20 | E17: 4 | F17: 6
B18: 4 | C18: 24 | E18: 1 | F18: 6
B19: 5 | F19: 6
B20: max | C20: =MAX(C15:C19) -> 24 | D20: =MAX(D15:D19) -> 5 | E20: =MAX(E15:E19) -> 25 | F20: =MAX(F15:F19) -> 6 | G20: =MAX(G15:G19) -> 5 | H20: =MAX(H15:H19) -> 5 | I20: =MAX(I15:I19) -> 15 | J20: =MAX(J15:J19) -> 5 | ... L20: =MAX(L15:L19) -> 5 | M20: =SUM(C20:L20) -> 100
C23: Vstupní stavová matice (A;N)
C24: Doba spoření | D24: Pojištění vkladů | E24: Vztah k riziku | F24: Likvidita | G24: Kombinace s pojištěním | H24: Navazující úvěr | I24: Vklad | J24: Možnost podpory od zaměstnavatele | K24: Zdanění výnosů | L24: Snížení základu daně
B25: 1 | C25: =Vstup!C15 -> N | D25: =Vstup!D15 -> N | E25: =Vstup!E15 -> N | F25: =Vstup!F15 -> N | G25: =Vstup!G15 -> N | H25: =Vstup!H15 -> N | I25: =Vstup!I15 -> N | J25: =Vstup!J15 -> N | ... L25: =Vstup!L15 -> N
B26: 2 | C26: =Vstup!C16 -> N | D26: =Vstup!D16 -> N | E26: =Vstup!E16 -> N | F26: =Vstup!F16 -> N | G26: =Vstup!G16 -> N | H26: =Vstup!H16 -> N | I26: =Vstup!I16 -> N | J26: =Vstup!J16 -> N | ... L26: =Vstup!L16 -> N
B27: 3 | C27: =Vstup!C17 -> N | E27: =Vstup!E17 -> N | F27: =Vstup!F17 -> N
B28: 4 | C28: =Vstup!C18 -> N | E28: =Vstup!E18 -> N | F28: =Vstup!F18 -> N
B29: 5 | F29: =Vstup!F19 -> N
C32: Vstupní stavová matice (0;1)
C33: Doba spoření | D33: Pojištění vkladů | E33: Vztah k riziku | F33: Likvidita | G33: Kombinace s pojištěním | H33: Navazující úvěr | I33: Vklad | J33: Možnost podpory od zaměstnavatele | K33: Zdanění výnosů | L33: Snížení základu daně
B34: 1 | C34: =IF(C25="A",1,0) -> 0 | D34: =IF(D25="A",1,0) -> 0 | E34: =IF(E25="A",1,0) -> 0 | F34: =IF(F25="A",1,0) -> 0 | G34: =IF(G25="A",1,0) -> 0 | H34: =IF(H25="A",1,0) -> 0 | I34: =IF(I25="A",1,0) -> 0 | J34: =IF(J25="A",1,0) -> 0 | ... L34: =IF(L25="A",1,0) -> 0
B35: 2 | C35: =IF(C26="A",1,0) -> 0 | D35: =IF(D26="A",1,0) -> 0 | E35: =IF(E26="A",1,0) -> 0 | F35: =IF(F26="A",1,0) -> 0 | G35: =IF(G26="A",1,0) -> 0 | H35: =IF(H26="A",1,0) -> 0 | I35: =IF(I26="A",1,0) -> 0 | J35: =IF(J26="A",1,0) -> 0 | ... L35: =IF(L26="A",1,0) -> 0
B36: 3 | C36: =IF(C27="A",1,0) -> 0 | E36: =IF(E27="A",1,0) -> 0 | F36: =IF(F27="A",1,0) -> 0
B37: 4 | C37: =IF(C28="A",1,0) -> 0 | E37: =IF(E28="A",1,0) -> 0 | F37: =IF(F28="A",1,0) -> 0
B38: 5 | F38: =IF(F29="A",1,0) -> 0
C41: =SUM(C34:C37) -> 0 | D41: =SUM(D34:D35) -> 0 | E41: =SUM(E34:E37) -> 0 | F41: =SUM(F34:F38) -> 0 | G41: =SUM(G34:G35) -> 0 | H41: =SUM(H34:H35) -> 0 | I41: =SUM(I34:I35) -> 0 | J41: =SUM(J34:J35) -> 0 | K41: =SUM(K34:K36) -> 0 | L41: =SUM(L34:L35) -> 0
C42: =IF(C41>1,1,0) -> 0 | D42: =IF(D41>1,1,0) -> 0 | E42: =IF(E41>1,1,0) -> 0 | F42: =IF(F41>1,1,0) -> 0 | G42: =IF(G41>1,1,0) -> 0 | H42: =IF(H41>1,1,0) -> 0 | I42: =IF(I41>1,1,0) -> 0 | J42: =IF(J41>1,1,0) -> 0 | ... L42: =IF(L41>1,1,0) -> 0 | M42: =IF(SUM(C42:L42)=0,"SPRÁVNĚ","CHYBA!") -> SPRÁVNĚ
C45: Retransformační matice
C46: 0 - 70 | D46: Zavrhnout
C47: 71 - 80 | D47: Zatím nezavrhovat
C48: 81 - 100 | D48: Přijmout
C51: Výpočet | D51: =IF(M42="SPRÁVNĚ",SUMPRODUCT(C15:L19,C34:L38)/SUM(C20:L20)*100,"CHYBA!") -> 0
C52: Výsledné hodnocení | D52: =IF(M42="SPRÁVNĚ",IF(D51<=70,"Zavrhnout",IF(AND(D51>70,D51<=80),"Zatím nezavrhovat","Přijmout")),"CHYBA!") -> Zavrhnout
