Workbook

Sheet odhadnuté rychlosti
A1: 1 | B1: 2 | C1: 3 | D1: 4 | E1: 5 | F1: 6 | G1: 7 | H1: 8 | I1: 9 | J1: 10 | K1: 11 | L1: 12 | M1: 13 | N1: 14 | O1: 15 | P1: 16 | Q1: 17 | R1: 18 | S1: 19 | T1: 20 | U1: 21 | V1: Vozidlo | W1: Poznámka
A2: 30 | B2: 15 | C2: 40 | D2: 45 | E2: 40 | F2: 45 | G2: 43 | H2: 35 | I2: 40 | J2: 50 | K2: 50 | L2: 40 | M2: 35 | N2: 60 | O2: 20 | P2: 45 | Q2: 45 | R2: 40 | S2: 56 | T2: 38 | U2: 35 | V2: BMW 530d xDrive Touring | W2: s rádiem/bez sudoku | Y2: 1 | Z2: N
A3: 30 | B3: 20 | C3: 50 | D3: 50 | E3: 50 | F3: 55 | G3: 51 | H3: 45 | I3: 60 | J3: 50 | K3: 65 | L3: 60 | M3: 40 | N3: 65 | O3: 45 | P3: 55 | Q3: 55 | R3: 50 | S3: 63 | T3: 34 | U3: 20 | V3: BMW 530d xDrive Touring | W3: s rádiem/bez sudoku | Y3: =Y2+1 -> 2 | Z3: N
A4: 30 | B4: 30 | C4: 40 | D4: 50 | E4: 35 | F4: 53 | G4: 45 | H4: 30 | I4: 50 | J4: 48 | K4: 45 | L4: 40 | M4: 30 | N4: 50 | O4: 55 | P4: 60 | Q4: 60 | R4: 50 | S4: 50 | T4: 26 | U4: 35 | V4: BMW 530d xDrive Touring | W4: s rádiem/bez sudoku | Y4: =Y3+1 -> 3 | Z4: Z
A5: 60 | B5: 50 | C5: 60 | D5: 90 | E5: 70 | F5: 85 | G5: 72 | H5: 70 | I5: 70 | J5: 70 | K5: 80 | L5: 80 | M5: 65 | N5: 75 | O5: 80 | P5: 75 | Q5: 80 | R5: 70 | S5: 83 | T5: 62 | U5: 60 | V5: BMW 530d xDrive Touring | W5: s rádiem/bez sudoku | Y5: =Y4+1 -> 4 | Z5: Z
A6: 90 | B6: 75 | C6: 100 | D6: 100 | E6: 85 | F6: 100 | G6: 88 | H6: 80 | I6: 100 | J6: 92 | K6: 95 | L6: 90 | M6: 75 | N6: 90 | O6: 85 | P6: 90 | Q6: 95 | R6: 90 | S6: 102 | T6: 92 | U6: 90 | V6: BMW 530d xDrive Touring | W6: s rádiem/bez sudoku | Y6: =Y5+1 -> 5 | Z6: Z
A7: 45 | B7: 30 | C7: X | D7: X | E7: 35 | F7: 52 | G7: 33 | H7: 35 | I7: 35 | J7: 40 | K7: 45 | L7: 40 | M7: 25 | N7: 40 | O7: 50 | P7: 60 | Q7: 45 | R7: 40 | S7: 42 | T7: 40 | U7: 30 | V7: BMW 530d xDrive Touring | W7: s rádiem/bez sudoku | Y7: =Y6+1 -> 6 | Z7: Z
A8: 50 | B8: 40 | C8: 55 | D8: 55 | E8: 50 | F8: 65 | G8: 52 | H8: 50 | I8: 45 | J8: 55 | K8: 50 | L8: 50 | M8: 35 | N8: 60 | O8: 50 | P8: 75 | Q8: 60 | R8: 50 | S8: 56 | T8: 46 | U8: 45 | V8: BMW 530d xDrive Touring | W8: s rádiem/bez sudoku | Y8: =Y7+1 -> 7 | Z8: Z
A9: 50 | B9: 40 | C9: X | D9: X | E9: 45 | F9: 65 | G9: 58 | H9: 50 | I9: 50 | J9: 60 | K9: 55 | L9: 50 | M9: 45 | N9: 60 | O9: 55 | P9: 65 | Q9: 50 | R9: 40 | S9: 63 | T9: 55 | U9: 40 | V9: BMW 530d xDrive Touring | W9: s rádiem/bez sudoku | Y9: =Y8+1 -> 8 | Z9: N
A10: 95 | B10: 85 | C10: X | D10: X | E10: 75 | F10: 95 | G10: 68 | H10: 70 | I10: 80 | J10: 80 | K10: 80 | L10: 80 | M10: 80 | N10: 90 | O10: 75 | P10: 85 | Q10: 90 | R10: 80 | S10: 96 | T10: 100 | U10: 70 | V10: BMW 530d xDrive Touring | W10: s rádiem/bez sudoku | Y10: =Y9+1 -> 9 | Z10: N
A11: 45 | B11: 45 | C11: X | D11: X | E11: 45 | F11: 55 | G11: 48 | H11: 45 | I11: 35 | J11: 50 | K11: 50 | L11: 50 | M11: 40 | N11: 70 | O11: 55 | P11: 55 | Q11: 60 | R11: 30 | S11: 53 | T11: 50 | U11: 35 | V11: BMW 530d xDrive Touring | W11: s rádiem/bez sudoku | Y11: =Y10+1 -> 10 | Z11: N
A12: 80 | B12: 80 | C12: 80 | D12: 75 | E12: 55 | F12: 77 | G12: 76 | H12: 55 | I12: 75 | J12: 70 | K12: 70 | L12: 75 | M12: 70 | N12: 75 | O12: 65 | P12: 80 | Q12: 70 | R12: 70 | S12: 71 | T12: 62 | U12: 75 | V12: BMW 530d xDrive Touring | W12: s rádiem/bez sudoku | Y12: =Y11+1 -> 11 | Z12: Z
A13: 95 | B13: 85 | C13: 100 | D13: 90 | E13: 70 | F13: 90 | G13: 90 | H13: 75 | I13: 85 | J13: 80 | K13: 75 | L13: 80 | M13: 85 | N13: 85 | O13: 85 | P13: 90 | Q13: 85 | R13: 90 | S13: 93 | T13: 90 | U13: 70 | V13: BMW 530d xDrive Touring | W13: s rádiem/bez sudoku | Y13: =Y12+1 -> 12 | Z13: Z
A14: 60 | B14: 65 | C14: 60 | D14: 60 | E14: 50 | F14: 72 | G14: 72 | H14: 55 | I14: 45 | J14: 55 | K14: X | L14: X | M14: X | N14: 70 | O14: 65 | P14: 60 | Q14: 60 | R14: 50 | S14: 61 | T14: 43 | U14: 55 | V14: BMW 530d xDrive Touring | W14: s rádiem/bez sudoku | Y14: =Y13+1 -> 13 | Z14: N
A15: 100 | B15: 110 | C15: 110 | D15: 90 | E15: 115 | F15: 110 | G15: 115 | H15: 125 | I15: 100 | J15: 120 | K15: 110 | L15: 110 | M15: 90 | N15: 120 | O15: 100 | P15: 115 | Q15: 110 | R15: 110 | S15: 129 | T15: 105 | U15: 80 | V15: BMW 530d xDrive Touring | W15: s rádiem/bez sudoku | Y15: =Y14+1 -> 14 | Z15: N
A16: 130 | B16: 130 | C16: 130 | D16: 120 | E16: 125 | F16: 130 | G16: 133 | H16: 130 | I16: 130 | J16: 135 | K16: 130 | L16: 135 | M16: 125 | N16: 130 | O16: 110 | P16: 135 | Q16: 130 | R16: 130 | S16: 136 | T16: 134 | U16: 120 | V16: BMW 530d xDrive Touring | W16: s rádiem/bez sudoku | Y16: =Y15+1 -> 15 | Z16: N
A17: X | B17: X | C17: 120 | D17: 120 | E17: X | F17: X | G17: X | H17: X | I17: 115 | J17: 130 | K17: 130 | L17: 130 | M17: 115 | N17: 120 | O17: 120 | P17: 135 | Q17: 120 | R17: 110 | S17: 132 | T17: 120 | U17: 110 | V17: BMW 530d xDrive Touring | W17: s rádiem/bez sudoku | Y17: =Y16+1 -> 16 | Z17: N
A18: 100 | B18: 90 | C18: 90 | D18: 95 | E18: 90 | F18: 95 | G18: 110 | H18: 80 | I18: 80 | J18: 90 | K18: 100 | L18: 105 | M18: 75 | N18: 100 | O18: 95 | P18: 95 | Q18: 100 | R18: 90 | S18: 112 | T18: 100 | U18: 75 | V18: BMW 530d xDrive Touring | W18: s rádiem/bez sudoku | Y18: =Y17+1 -> 17 | Z18: N
A19: 50 | B19: 65 | C19: 60 | D19: 55 | E19: 45 | F19: 52 | G19: 50 | H19: 35 | I19: 50 | J19: 55 | K19: 40 | L19: 45 | M19: 30 | N19: 60 | O19: 35 | P19: X | Q19: X | R19: 50 | S19: 71 | T19: 40 | U19: 40 | V19: BMW 530d xDrive Touring | W19: s rádiem/bez sudoku | Y19: =Y18+1 -> 18 | Z19: N
Y20: =Y19+1 -> 19 | Z20: Z
A21: 30 | B21: 15 | C21: 30 | D21: 40 | E21: 45 | F21: 45 | G21: 50 | H21: 40 | I21: 45 | J21: 50 | K21: 50 | L21: 45 | M21: 35 | N21: 50 | O21: 40 | P21: 45 | Q21: 40 | R21: 40 | S21: 52 | T21: 40 | U21: 25 | V21: BMW 530d xDrive Touring | W21: Bez rádia/se sudoku | Y21: =Y20+1 -> 20 | Z21: Z
A22: 30 | B22: 20 | C22: 50 | D22: 55 | E22: 50 | F22: 55 | G22: 53 | H22: 45 | I22: 60 | J22: 55 | K22: 60 | L22: 65 | M22: 50 | N22: 50 | O22: 50 | P22: 50 | Q22: 55 | R22: 50 | S22: 61 | T22: 50 | U22: 40 | V22: BMW 530d xDrive Touring | W22: Bez rádia/se sudoku | Y22: =Y21+1 -> 21 | Z22: Z
A23: 50 | B23: 30 | C23: 40 | D23: 40 | E23: 45 | F23: 60 | G23: 40 | H23: 30 | I23: 50 | J23: 60 | K23: 50 | L23: 55 | M23: 40 | N23: 50 | O23: 55 | P23: 55 | Q23: 65 | R23: 50 | S23: 63 | T23: 52 | U23: 40 | V23: BMW 530d xDrive Touring | W23: Bez rádia/se sudoku
A24: 60 | B24: 60 | C24: 80 | D24: 80 | E24: 70 | F24: 90 | G24: 82 | H24: 75 | I24: 75 | J24: 85 | K24: 75 | L24: 80 | M24: 75 | N24: 65 | O24: 70 | P24: 75 | Q24: 70 | R24: 70 | S24: 81 | T24: 80 | U24: 65 | V24: BMW 530d xDrive Touring | W24: Bez rádia/se sudoku
A25: 90 | B25: 80 | C25: 100 | D25: 90 | E25: 85 | F25: 90 | G25: 88 | H25: 85 | I25: 90 | J25: 92 | K25: 85 | L25: 100 | M25: 90 | N25: 90 | O25: 90 | P25: 85 | Q25: 95 | R25: 90 | S25: 116 | T25: 92 | U25: 80 | V25: BMW 530d xDrive Touring | W25: Bez rádia/se sudoku
A26: 45 | B26: 35 | C26: 40 | D26: 40 | E26: 40 | F26: 52 | G26: 40 | H26: 40 | I26: 35 | J26: 50 | K26: 40 | L26: 50 | M26: 30 | N26: 40 | O26: 40 | P26: 60 | Q26: 40 | R26: 30 | S26: 39 | T26: 36 | U26: 35 | V26: BMW 530d xDrive Touring | W26: Bez rádia/se sudoku
A27: 55 | B27: 50 | C27: 50 | D27: 55 | E27: 50 | F27: 60 | G27: 45 | H27: 50 | I27: 50 | J27: 60 | K27: 55 | L27: 65 | M27: 50 | N27: 60 | O27: 50 | P27: 75 | Q27: 50 | R27: 50 | S27: 61 | T27: 50 | U27: 50 | V27: BMW 530d xDrive Touring | W27: Bez rádia/se sudoku
A28: 50 | B28: 40 | C28: 70 | D28: 60 | E28: 55 | F28: 70 | G28: 55 | H28: 50 | I28: 40 | J28: 70 | K28: 60 | L28: 55 | M28: 50 | N28: 60 | O28: 60 | P28: 70 | Q28: 60 | R28: 60 | S28: 53 | T28: 51 | U28: 45 | V28: BMW 530d xDrive Touring | W28: Bez rádia/se sudoku
A29: 90 | B29: 85 | C29: 100 | D29: 90 | E29: 80 | F29: 95 | G29: 82 | H29: 90 | I29: 80 | J29: 85 | K29: 85 | L29: 95 | M29: 80 | N29: 90 | O29: 90 | P29: 85 | Q29: 85 | R29: 90 | S29: 98 | T29: 91 | U29: 70 | V29: BMW 530d xDrive Touring | W29: Bez rádia/se sudoku
A30: 50 | B30: 40 | C30: 40 | D30: 50 | E30: 45 | F30: 60 | G30: 47 | H30: 50 | I30: 40 | J30: 55 | K30: 50 | L30: 100 | M30: 45 | N30: 60 | O30: 50 | P30: 75 | Q30: 55 | R30: 40 | S30: 53 | T30: 48 | U30: 40 | V30: BMW 530d xDrive Touring | W30: Bez rádia/se sudoku
A31: 80 | B31: 70 | C31: 60 | D31: 90 | E31: 70 | F31: 70 | G31: 77 | H31: 70 | I31: 75 | J31: 70 | K31: 75 | L31: 75 | M31: 70 | N31: 70 | O31: 65 | P31: 85 | Q31: 70 | R31: 80 | S31: 75 | T31: 82 | U31: 55 | V31: BMW 530d xDrive Touring | W31: Bez rádia/se sudoku
A32: 80 | B32: 80 | C32: 90 | D32: 100 | E32: 85 | F32: 88 | G32: 85 | H32: 90 | I32: 90 | J32: 78 | K32: 85 | L32: 90 | M32: 85 | N32: 80 | O32: 90 | P32: 95 | Q32: 95 | R32: 100 | S32: 83 | T32: 90 | U32: 70 | V32: BMW 530d xDrive Touring | W32: Bez rádia/se sudoku
A33: 60 | B33: 65 | C33: 50 | D33: 75 | E33: 60 | F33: 75 | G33: 67 | H33: 45 | I33: 50 | J33: 58 | K33: 60 | L33: 75 | M33: 45 | N33: 60 | O33: 60 | P33: 70 | Q33: 60 | R33: 50 | S33: 60 | T33: 48 | U33: 55 | V33: BMW 530d xDrive Touring | W33: Bez rádia/se sudoku
A34: 100 | B34: 120 | C34: 130 | D34: 110 | E34: 125 | F34: 110 | G34: 101 | H34: 135 | I34: 100 | J34: 120 | K34: 120 | L34: 100 | M34: 105 | N34: 110 | O34: 90 | P34: 120 | Q34: 120 | R34: 100 | S34: 131 | T34: 109 | U34: 90 | V34: BMW 530d xDrive Touring | W34: Bez rádia/se sudoku
... A44: 90 | B44: 90 | C44: 90 | D44: 80 | E44: 95 | F44: 105 | G44: 100 | H44: 90 | I44: 100 | J44: 98 | K44: 80 | L44: 90 | M44: 90 | N44: 90 | O44: 100 | P44: 85 | Q44: 100 | R44: 120 | S44: 100 | T44: 89 | U44: 90 | V44: BMW X3 | W44: s rádiem/bez sudoku
A45: X | B45: X | C45: 40 | D45: 40 | E45: 35 | F45: 50 | G45: 38 | H45: 35 | I45: 40 | J45: 40 | K45: 40 | L45: 45 | M45: 30 | N45: 40 | O45: 50 | P45: 60 | Q45: 45 | R45: 30 | S45: 39 | T45: 34 | U45: 35 | V45: BMW X3 | W45: s rádiem/bez sudoku
A46: 50 | B46: 40 | C46: 50 | D46: 50 | E46: 50 | F46: 68 | G46: 53 | H46: 50 | I46: 50 | J46: 55 | K46: 55 | L46: 70 | M46: 50 | N46: 60 | O46: 55 | P46: 75 | Q46: 55 | R46: 50 | S46: 53 | T46: 53 | U46: 45 | V46: BMW X3 | W46: s rádiem/bez sudoku
A47: X | B47: X | C47: 50 | D47: 60 | E47: 55 | F47: 65 | G47: 50 | H47: 45 | I47: 40 | J47: 60 | K47: 50 | L47: 65 | M47: 45 | N47: 50 | O47: 50 | P47: 60 | Q47: 50 | R47: 50 | S47: 61 | T47: 49 | U47: 40 | V47: BMW X3 | W47: s rádiem/bez sudoku
A48: X | B48: X | C48: 90 | D48: 80 | E48: 80 | F48: 93 | G48: 82 | H48: 80 | I48: 85 | J48: 90 | K48: 85 | L48: 85 | M48: 80 | N48: 80 | O48: 70 | P48: 85 | Q48: 90 | R48: 90 | S48: 112 | T48: 60 | U48: 75 | V48: BMW X3 | W48: s rádiem/bez sudoku
A49: X | B49: X | C49: 50 | D49: 55 | E49: 45 | F49: 62 | G49: 45 | H49: 45 | I49: 35 | J49: 50 | K49: 50 | L49: 55 | M49: 40 | N49: 45 | O49: 50 | P49: 55 | Q49: 50 | R49: 40 | S49: 50 | T49: 45 | U49: 40 | V49: BMW X3 | W49: s rádiem/bez sudoku
A50: 80 | B50: 70 | C50: 70 | D50: 50 | E50: 70 | F50: 70 | G50: 76 | H50: 70 | I50: 80 | J50: 75 | K50: 70 | L50: 70 | M50: 60 | N50: 70 | O50: 80 | P50: 80 | Q50: 75 | R50: 70 | S50: 80 | T50: 80 | U50: 60 | V50: BMW X3 | W50: s rádiem/bez sudoku
A51: 100 | B51: 90 | C51: 90 | D51: 80 | E51: 85 | F51: 80 | G51: 80 | H51: 85 | I51: 95 | J51: 80 | K51: 85 | L51: 85 | M51: 85 | N51: 90 | O51: 80 | P51: 60 | Q51: 95 | R51: 80 | S51: 80 | T51: 80 | U51: 80 | V51: BMW X3 | W51: s rádiem/bez sudoku
A52: 60 | B52: 70 | C52: 60 | D52: 75 | E52: 65 | F52: 70 | G52: 62 | H52: 60 | I52: X | J52: X | K52: 60 | L52: 70 | M52: 40 | N52: 50 | O52: 50 | P52: 55 | Q52: 45 | R52: 50 | S52: 73 | T52: 39 | U52: 45 | V52: BMW X3 | W52: s rádiem/bez sudoku
A53: 110 | B53: 110 | C53: 120 | D53: 115 | E53: 115 | F53: 110 | G53: 115 | H53: 120 | I53: 100 | J53: 125 | K53: 110 | L53: 120 | M53: 90 | N53: 110 | O53: 130 | P53: 115 | Q53: 125 | R53: 110 | S53: 123 | T53: 126 | U53: 95 | V53: BMW X3 | W53: s rádiem/bez sudoku
A54: 130 | B54: 130 | C54: 130 | D54: 135 | E54: 130 | F54: 130 | G54: 133 | H54: 120 | I54: 120 | J54: 135 | K54: 130 | L54: 130 | M54: 120 | N54: 120 | O54: 115 | P54: 135 | Q54: 135 | R54: 120 | S54: 139 | T54: 132 | U54: 115 | V54: BMW X3 | W54: s rádiem/bez sudoku
A55: 100 | B55: 115 | C55: X | D55: X | E55: X | F55: X | G55: X | H55: X | I55: 130 | J55: 135 | K55: 125 | L55: 135 | M55: 110 | N55: 110 | O55: 120 | P55: 140 | Q55: 125 | R55: 110 | S55: 132 | T55: 130 | U55: 110 | V55: BMW X3 | W55: s rádiem/bez sudoku
A56: 90 | B56: 90 | C56: 90 | D56: 115 | E56: 100 | F56: 80 | G56: 110 | H56: 95 | I56: 75 | J56: 85 | K56: 105 | L56: 95 | M56: 85 | N56: 90 | O56: 100 | P56: 85 | Q56: 100 | R56: 90 | S56: 109 | T56: 85 | U56: 80 | V56: BMW X3 | W56: s rádiem/bez sudoku
A57: 30 | B57: 25 | C57: 60 | D57: 50 | E57: 40 | F57: 55 | G57: 48 | H57: 30 | I57: 40 | J57: 50 | K57: 45 | L57: 50 | M57: 30 | N57: X | O57: X | P57: 55 | Q57: 40 | R57: X | S57: 72 | T57: 43 | U57: 35 | V57: BMW X3 | W57: s rádiem/bez sudoku
A59: 25 | B59: 15 | C59: 40 | D59: 50 | E59: 40 | F59: 50 | G59: 47 | H59: 45 | I59: 40 | J59: 53 | K59: 50 | L59: 55 | M59: 40 | N59: 50 | O59: 45 | P59: 45 | Q59: 55 | R59: 40 | S59: 43 | T59: 42 | U59: 30 | V59: BMW X3 | W59: Bez rádia/se sudoku
A60: 25 | B60: 15 | C60: 50 | D60: 55 | E60: 55 | F60: 50 | G60: 53 | H60: 50 | I60: 50 | J60: 56 | K60: 65 | L60: 65 | M60: 50 | N60: 60 | O60: 50 | P60: 55 | Q60: 60 | R60: 50 | S60: 53 | T60: 51 | U60: 40 | V60: BMW X3 | W60: Bez rádia/se sudoku
A61: 40 | B61: 30 | C61: 60 | D61: 45 | E61: 35 | F61: 55 | G61: 35 | H61: 30 | I61: 60 | J61: 65 | K61: 50 | L61: 60 | M61: 35 | N61: 40 | O61: 50 | P61: 50 | Q61: 70 | R61: 50 | S61: 48 | T61: 40 | U61: 35 | V61: BMW X3 | W61: Bez rádia/se sudoku
A62: 60 | B62: 60 | C62: 80 | D62: 60 | E62: 80 | F62: 70 | G62: 78 | H62: 70 | I62: 75 | J62: 85 | K62: 75 | L62: 75 | M62: 75 | N62: 70 | O62: 80 | P62: 85 | Q62: 90 | R62: 70 | S62: 86 | T62: 85 | U62: 55 | V62: BMW X3 | W62: Bez rádia/se sudoku
A63: 90 | B63: 80 | C63: 100 | D63: 85 | E63: 90 | F63: 90 | G63: 90 | H63: 85 | I63: 100 | J63: 100 | K63: 80 | L63: 85 | M63: 90 | N63: 80 | O63: 90 | P63: 95 | Q63: 100 | R63: 90 | S63: 106 | T63: 90 | U63: 90 | V63: BMW X3 | W63: Bez rádia/se sudoku
A64: 40 | B64: 35 | C64: 60 | D64: 45 | E64: 35 | F64: 48 | G64: 37 | H64: 35 | I64: 35 | J64: 48 | K64: 40 | L64: 50 | M64: 30 | N64: 40 | O64: 35 | P64: 60 | Q64: 45 | R64: 40 | S64: 42 | T64: 40 | U64: 30 | V64: BMW X3 | W64: Bez rádia/se sudoku
A65: 40 | B65: 45 | C65: 50 | D65: 60 | E65: 50 | F65: 60 | G65: 53 | H65: 40 | I65: 45 | J65: 60 | K65: 50 | L65: 65 | M65: 45 | N65: 70 | O65: 45 | P65: 75 | Q65: 55 | R65: 50 | S65: 58 | T65: 48 | U65: 50 | V65: BMW X3 | W65: Bez rádia/se sudoku
A66: 40 | B66: 35 | C66: 60 | D66: 65 | E66: 50 | F66: 60 | G66: 50 | H66: 50 | I66: 40 | J66: 70 | K66: 50 | L66: 50 | M66: 40 | N66: 50 | O66: 50 | P66: 55 | Q66: 65 | R66: 60 | S66: 54 | T66: 52 | U66: 40 | V66: BMW X3 | W66: Bez rádia/se sudoku
A67: 85 | B67: 80 | C67: 90 | D67: 85 | E67: 90 | F67: 95 | G67: 92 | H67: 80 | I67: 85 | J67: 90 | K67: 70 | L67: 80 | M67: 80 | N67: 90 | O67: 80 | P67: 80 | Q67: 90 | R67: 90 | S67: 95 | T67: 90 | U67: 70 | V67: BMW X3 | W67: Bez rádia/se sudoku
A68: 50 | B68: 40 | C68: 50 | D68: 50 | E68: 50 | F68: 58 | G68: 50 | H68: 50 | I68: 40 | J68: 55 | K68: 45 | L68: 55 | M68: 40 | N68: 35 | O68: 55 | P68: 55 | Q68: 50 | R68: 40 | S68: 51 | T68: 50 | U68: 45 | V68: BMW X3 | W68: Bez rádia/se sudoku
A69: 70 | B69: 70 | C69: 70 | D69: 75 | E69: 70 | F69: 68 | G69: 80 | H69: 80 | I69: 80 | J69: 70 | K69: 65 | L69: 80 | M69: 70 | N69: 60 | O69: 70 | P69: 70 | Q69: 75 | R69: 70 | S69: 73 | T69: 84 | U69: 60 | V69: BMW X3 | W69: Bez rádia/se sudoku
A70: 90 | B70: 85 | C70: 80 | D70: 80 | E70: 85 | F70: 85 | G70: 88 | H70: 90 | I70: 90 | J70: 80 | K70: 70 | L70: 90 | M70: 85 | N70: 80 | O70: 90 | P70: 80 | Q70: 95 | R70: 90 | S70: 83 | T70: 86 | U70: 80 | V70: BMW X3 | W70: Bez rádia/se sudoku
... A91: 95 | B91: 120 | C91: 110 | D91: 110 | E91: 105 | F91: 100 | G91: 100 | H91: 110 | I91: 105 | J91: 115 | K91: 110 | L91: 110 | M91: 100 | N91: 130 | O91: 85 | P91: 100 | Q91: 100 | R91: 110 | S91: 120 | T91: 114 | U91: 85 | V91: VW Caravella | W91: s rádiem/bez sudoku
A92: 135 | B92: 130 | C92: 110 | D92: 130 | E92: X | F92: 120 | G92: 122 | H92: 120 | I92: 130 | J92: 130 | K92: 130 | L92: 130 | M92: 125 | N92: 125 | O92: 120 | P92: 120 | Q92: 125 | R92: 140 | S92: 136 | T92: 140 | U92: 110 | V92: VW Caravella | W92: s rádiem/bez sudoku
A93: X | B93: X | C93: X | D93: X | E93: X | F93: X | G93: X | H93: X | I93: 115 | J93: 130 | K93: 130 | L93: 140 | M93: 120 | N93: 135 | O93: 110 | P93: 115 | Q93: 130 | R93: 130 | S93: 130 | T93: 137 | U93: 100 | V93: VW Caravella | W93: s rádiem/bez sudoku
A94: 80 | B94: 90 | C94: 80 | D94: 90 | E94: 80 | F94: 80 | G94: 93 | H94: 80 | I94: 75 | J94: 85 | K94: 110 | L94: 120 | M94: 90 | N94: 100 | O94: 85 | P94: 85 | Q94: 90 | R94: 80 | S94: 112 | T94: 120 | U94: 80 | V94: VW Caravella | W94: s rádiem/bez sudoku
A95: 50 | B95: 70 | C95: 40 | D95: 50 | E95: 40 | F95: 53 | G95: 47 | H95: 40 | I95: 40 | J95: 46 | K95: 40 | L95: 60 | M95: 40 | N95: 50 | O95: 30 | P95: 55 | Q95: 45 | R95: 50 | S95: 58 | T95: 58 | U95: 35 | V95: VW Caravella | W95: s rádiem/bez sudoku
A97: 35 | B97: 20 | C97: 40 | D97: 40 | E97: 35 | F97: 45 | G97: 43 | H97: 40 | I97: 40 | J97: 55 | K97: 55 | L97: 60 | M97: 40 | N97: 50 | O97: 35 | P97: 30 | Q97: 45 | R97: 40 | S97: 45 | T97: 40 | U97: 25 | V97: VW Caravella | W97: Bez rádia/se sudoku
A98: 35 | B98: 35 | C98: 50 | D98: 48 | E98: 55 | F98: 45 | G98: 50 | H98: 50 | I98: 55 | J98: 50 | K98: 65 | L98: 55 | M98: 50 | N98: 60 | O98: 40 | P98: 50 | Q98: 55 | R98: 60 | S98: 51 | T98: 50 | U98: 32 | V98: VW Caravella | W98: Bez rádia/se sudoku
A99: 50 | B99: 50 | C99: 40 | D99: 45 | E99: 35 | F99: 55 | G99: 33 | H99: 30 | I99: 40 | J99: 56 | K99: 50 | L99: 60 | M99: 40 | N99: 50 | O99: 30 | P99: 45 | Q99: 35 | R99: 50 | S99: 50 | T99: 30 | U99: 35 | V99: VW Caravella | W99: Bez rádia/se sudoku | Y99: Kolik naměřených hodnot
A100: 65 | B100: 80 | C100: 60 | D100: 50 | E100: 75 | F100: 70 | G100: 65 | H100: 60 | I100: 90 | J100: 70 | K100: 70 | L100: 75 | M100: 75 | N100: 65 | O100: 60 | P100: 65 | Q100: 70 | R100: 70 | S100: 71 | T100: 58 | U100: 50 | V100: VW Caravella | W100: Bez rádia/se sudoku | Y100: =COUNTIF(A2:U114,">0") -> 2221
A101: 95 | B101: 90 | C101: 80 | D101: 70 | E101: 95 | F101: 90 | G101: 89 | H101: 95 | I101: 100 | J101: 90 | K101: 80 | L101: 85 | M101: 85 | N101: 80 | O101: 80 | P101: 80 | Q101: 85 | R101: 80 | S101: 100 | T101: 83 | U101: 75 | V101: VW Caravella | W101: Bez rádia/se sudoku | Y101: =COUNTIF(B2:U114,"=X") -> 41
A102: 40 | B102: 30 | C102: 40 | D102: 40 | E102: 30 | F102: 32 | G102: 30 | H102: 40 | I102: 35 | J102: 50 | K102: 40 | L102: 50 | M102: 40 | N102: 35 | O102: 25 | P102: 40 | Q102: 35 | R102: 30 | S102: 42 | T102: 31 | U102: 35 | V102: VW Caravella | W102: Bez rádia/se sudoku | Y102: =SUM(Y100:Y101) -> 2262
A103: 50 | B103: 40 | C103: 50 | D103: 50 | E103: 50 | F103: 50 | G103: 52 | H103: 55 | I103: 50 | J103: 60 | K103: 50 | L103: 70 | M103: 50 | N103: 60 | O103: 40 | P103: 55 | Q103: 45 | R103: 50 | S103: 61 | T103: 49 | U103: 50 | V103: VW Caravella | W103: Bez rádia/se sudoku
A104: 55 | B104: 50 | C104: 55 | D104: 58 | E104: 60 | F104: 60 | G104: 51 | H104: 50 | I104: 45 | J104: 65 | K104: 55 | L104: 60 | M104: 50 | N104: 50 | O104: 35 | P104: 50 | Q104: 50 | R104: 40 | S104: 54 | T104: 40 | U104: 40 | V104: VW Caravella | W104: Bez rádia/se sudoku
A105: 95 | B105: 90 | C105: 75 | D105: 75 | E105: 85 | F105: 80 | G105: 80 | H105: 80 | I105: 90 | J105: 85 | K105: 80 | L105: 80 | M105: 80 | N105: 70 | O105: 50 | P105: 75 | Q105: 70 | R105: 70 | S105: 98 | T105: 68 | U105: 70 | V105: VW Caravella | W105: Bez rádia/se sudoku
A106: 55 | B106: 45 | C106: 50 | D106: 50 | E106: 45 | F106: 55 | G106: 33 | H106: 40 | I106: 60 | J106: 50 | K106: 50 | L106: 60 | M106: 45 | N106: 45 | O106: 35 | P106: 45 | Q106: 55 | R106: 50 | S106: 48 | T106: 25 | U106: 40 | V106: VW Caravella | W106: Bez rádia/se sudoku
A107: 85 | B107: 75 | C107: 60 | D107: 65 | E107: 70 | F107: 70 | G107: 75 | H107: 85 | I107: 90 | J107: 60 | K107: 65 | L107: 75 | M107: 70 | N107: 65 | O107: 40 | P107: 65 | Q107: 65 | R107: 70 | S107: 63 | T107: 58 | U107: 50 | V107: VW Caravella | W107: Bez rádia/se sudoku
A108: 85 | B108: 90 | C108: 70 | D108: 75 | E108: 70 | F108: 75 | G108: 80 | H108: 85 | I108: 70 | J108: 75 | K108: 75 | L108: 85 | M108: 85 | N108: 80 | O108: 60 | P108: 80 | Q108: 80 | R108: 80 | S108: 91 | T108: 87 | U108: 65 | V108: VW Caravella | W108: Bez rádia/se sudoku
A109: 55 | B109: 70 | C109: 40 | D109: 60 | E109: 55 | F109: 70 | G109: 71 | H109: 50 | I109: 60 | J109: 60 | K109: 60 | L109: 70 | M109: 55 | N109: 60 | O109: 50 | P109: 65 | Q109: 50 | R109: 60 | S109: 70 | T109: 30 | U109: 45 | V109: VW Caravella | W109: Bez rádia/se sudoku
A110: 135 | B110: 120 | C110: 100 | D110: 110 | E110: 110 | F110: 100 | G110: 100 | H110: 130 | I110: 110 | J110: 110 | K110: 110 | L110: 115 | M110: 110 | N110: 110 | O110: 80 | P110: 110 | Q110: 110 | R110: 120 | S110: 110 | T110: 100 | U110: 80 | V110: VW Caravella | W110: Bez rádia/se sudoku
A111: 135 | B111: 130 | C111: 100 | D111: 120 | E111: 125 | F111: 130 | G111: 133 | H111: 130 | I111: 130 | J111: 130 | K111: 135 | L111: 130 | M111: 125 | N111: 130 | O111: 110 | P111: 135 | Q111: 130 | R111: 140 | S111: 130 | T111: 110 | U111: 105 | V111: VW Caravella | W111: Bez rádia/se sudoku
A112: 135 | B112: 125 | C112: 90 | D112: 110 | E112: 130 | F112: 130 | G112: 123 | H112: 125 | I112: 120 | J112: 130 | K112: 130 | L112: 140 | M112: 135 | N112: 120 | O112: 110 | P112: 140 | Q112: 135 | R112: 130 | S112: 128 | T112: 140 | U112: 100 | V112: VW Caravella | W112: Bez rádia/se sudoku
A113: 80 | B113: 85 | C113: 70 | D113: 90 | E113: 90 | F113: 110 | G113: 115 | H113: 80 | I113: 85 | J113: 75 | K113: 110 | L113: 125 | M113: 100 | N113: 100 | O113: 100 | P113: 120 | Q113: 95 | R113: 110 | S113: 95 | T113: 124 | U113: 80 | V113: VW Caravella | W113: Bez rádia/se sudoku
A114: 45 | B114: 75 | C114: 40 | D114: 50 | E114: 35 | F114: 57 | G114: 40 | H114: 40 | I114: 45 | J114: 56 | K114: 40 | L114: 60 | M114: 50 | N114: 50 | O114: 40 | P114: 55 | Q114: 40 | R114: 50 | S114: 63 | T114: 32 | U114: 30 | V114: VW Caravella | W114: Bez rádia/se sudoku

Sheet reálná rychlost
A1: 1 | B1: 2 | C1: 3 | D1: 4 | E1: 5 | F1: 6 | G1: 7 | H1: 8 | I1: 9 | J1: 10 | K1: 11 | L1: 12 | M1: 13 | N1: 14 | O1: 15 | P1: 16 | Q1: 17 | R1: 18 | S1: 19 | T1: 20 | U1: 21 | V1: Vozidlo | W1: Poznámka | X1: diference | Y1: min | Z1: max | AA1: 2.5
A2: 37 | B2: 37 | C2: 41 | D2: 41 | E2: 38 | F2: 30 | G2: 30 | H2: 38 | I2: 38 | J2: 38 | K2: 37 | L2: 37 | M2: 37 | N2: X | O2: X | P2: 38 | Q2: 38 | R2: X | S2: 34 | T2: 34 | U2: 54 | V2: BMW 530d xDrive Touring | W2: s rádiem/bez sudoku | X2: 10 | Y2: =MIN(A2:U114) -> 27 | Z2: =MAX(A2:U114) -> 130 | AA2: 5
A3: 50 | B3: 50 | C3: 52 | D3: 52 | E3: 47 | F3: 48 | G3: 48 | H3: 47 | I3: 51 | J3: 51 | K3: 49 | L3: 49 | M3: 49 | N3: X | O3: X | P3: 56 | Q3: 56 | R3: X | S3: 49 | T3: 49 | U3: 32 | V3: BMW 530d xDrive Touring | W3: s rádiem/bez sudoku | X3: Vše dohromady | AA3: do 50 km/h | AD3: do 90 km/h | AG3: do 130 km/h
A4: 40 | B4: 40 | C4: 40 | D4: 40 | E4: 37 | F4: 39 | G4: 39 | H4: 37 | I4: 39 | J4: 39 | K4: 38 | L4: 38 | M4: 38 | N4: X | O4: X | P4: 44 | Q4: 44 | R4: X | S4: 37 | T4: 37 | U4: 41 | V4: BMW 530d xDrive Touring | W4: s rádiem/bez sudoku | X4: 30 | Y4: =COUNTIF($A$2:$U$114,"<="&X4) -> 68 | Z4: ≤30 | AA4: 30 | AB4: =COUNTIF($A$2:$U$114,"<="&AA4) -> 68 | AC4: ≤30 | AD4: 55 | AE4: =COUNTIF($A$2:$U$114,"<="&AD4)-AB13 -> 212 | AF4: (50;55⟩ | AG4: 95 | AH4: =COUNTIF($A$2:$U$114,"<="&AG4)-AB13-AE12 -> 85 | AI4: (90;95⟩
A5: 71 | B5: 71 | C5: 64 | D5: 64 | E5: 74 | F5: 70 | G5: 70 | H5: 74 | I5: 65 | J5: 65 | K5: 72 | L5: 72 | M5: 72 | N5: X | O5: X | P5: 72 | Q5: 72 | R5: X | S5: 66 | T5: 66 | U5: 76 | V5: BMW 530d xDrive Touring | W5: s rádiem/bez sudoku | X5: =X4+$X$2 -> 40 | Y5: =COUNTIF($A$2:$U$114,"<="&X5)-SUM($Y$4:Y4) -> 236 | Z5: (30;40⟩ | AA5: =AA4+$AA$1 -> 32.5 | AB5: =COUNTIF($A$2:$U$114,"<="&AA5)-SUM($AB$4:AB4) -> 34 | AC5: (30;32,5⟩ | AD5: =AD4+$AA$2 -> 60 | AE5: =COUNTIF($A$2:$U$114,"<="&AD5)-SUM($AE$4:AE4,$AB$13) -> 95 | AF5: (55;60⟩ | AG5: =AG4+$AA$2 -> 100 | AH5: =COUNTIF($A$2:$U$114,"<="&AG5)-SUM($AH$4:AH4,$AB$13,$AE$12) -> 74 | AI5: (95;100⟩
A6: 90 | B6: 90 | C6: 86 | D6: 86 | E6: 88 | F6: 88 | G6: 88 | H6: 88 | I6: 90 | J6: 90 | K6: 90 | L6: 90 | M6: 90 | N6: X | O6: X | P6: 91 | Q6: 91 | R6: X | S6: 88 | T6: 88 | U6: 96 | V6: BMW 530d xDrive Touring | W6: s rádiem/bez sudoku | X6: =X5+$X$2 -> 50 | Y6: =COUNTIF($A$2:$U$114,"<="&X6)-SUM($Y$4:Y5) -> 482 | Z6: (40;50⟩ | AA6: =AA5+$AA$1 -> 35 | AB6: =COUNTIF($A$2:$U$114,"<="&AA6)-SUM($AB$4:AB5) -> 53 | AC6: (32,5;35⟩ | AD6: =AD5+$AA$2 -> 65 | AE6: =COUNTIF($A$2:$U$114,"<="&AD6)-SUM($AE$4:AE5,$AB$13) -> 88 | AF6: (60;65⟩ | AG6: =AG5+$AA$2 -> 105 | AH6: =COUNTIF($A$2:$U$114,"<="&AG6)-SUM($AH$4:AH5,$AB$13,$AE$12) -> 32 | AI6: (100;105⟩
A7: 27 | B7: 27 | C7: X | D7: X | E7: 30 | F7: 27 | G7: 27 | H7: 30 | I7: 28 | J7: 28 | K7: 32 | L7: 32 | M7: 32 | N7: X | O7: X | P7: 32 | Q7: 32 | R7: X | S7: 30 | T7: 30 | U7: 30 | V7: BMW 530d xDrive Touring | W7: s rádiem/bez sudoku | X7: =X6+$X$2 -> 60 | Y7: =COUNTIF($A$2:$U$114,"<="&X7)-SUM($Y$4:Y6) -> 307 | Z7: (50;60⟩ | AA7: =AA6+$AA$1 -> 37.5 | AB7: =COUNTIF($A$2:$U$114,"<="&AA7)-SUM($AB$4:AB6) -> 50 | AC7: (35;37,5⟩ | AD7: =AD6+$AA$2 -> 70 | AE7: =COUNTIF($A$2:$U$114,"<="&AD7)-SUM($AE$4:AE6,$AB$13) -> 129 | AF7: (65;70⟩ | AG7: =AG6+$AA$2 -> 110 | AH7: =COUNTIF($A$2:$U$114,"<="&AG7)-SUM($AH$4:AH6,$AB$13,$AE$12) -> 20 | AI7: (105;110⟩
A8: 48 | B8: 48 | C8: 48 | D8: 48 | E8: 52 | F8: 47 | G8: 47 | H8: 52 | I8: 51 | J8: 51 | K8: 50 | L8: 50 | M8: 50 | N8: X | O8: X | P8: 53 | Q8: 53 | R8: X | S8: 35 | T8: 35 | U8: 50 | V8: BMW 530d xDrive Touring | W8: s rádiem/bez sudoku | X8: =X7+$X$2 -> 70 | Y8: =COUNTIF($A$2:$U$114,"<="&X8)-SUM($Y$4:Y7) -> 217 | Z8: (60;70⟩ | AA8: =AA7+$AA$1 -> 40 | AB8: =COUNTIF($A$2:$U$114,"<="&AA8)-SUM($AB$4:AB7) -> 99 | AC8: (37,5;40⟩ | AD8: =AD7+$AA$2 -> 75 | AE8: =COUNTIF($A$2:$U$114,"<="&AD8)-SUM($AE$4:AE7,$AB$13) -> 39 | AF8: (70;75⟩ | AG8: =AG7+$AA$2 -> 115 | AH8: =COUNTIF($A$2:$U$114,"<="&AG8)-SUM($AH$4:AH7,$AB$13,$AE$12) -> 57 | AI8: (110;115⟩
A9: 48 | B9: 48 | C9: X | D9: X | E9: 50 | F9: 47 | G9: 47 | H9: 50 | I9: 52 | J9: 52 | K9: 50 | L9: 50 | M9: 50 | N9: X | O9: X | P9: 49 | Q9: 49 | R9: X | S9: 51 | T9: 51 | U9: 47 | V9: BMW 530d xDrive Touring | W9: s rádiem/bez sudoku | X9: =X8+$X$2 -> 80 | Y9: =COUNTIF($A$2:$U$114,"<="&X9)-SUM($Y$4:Y8) -> 93 | Z9: (70;80⟩ | AA9: =AA8+$AA$1 -> 42.5 | AB9: =COUNTIF($A$2:$U$114,"<="&AA9)-SUM($AB$4:AB8) -> 69 | AC9: (40;42,5⟩ | AD9: =AD8+$AA$2 -> 80 | AE9: =COUNTIF($A$2:$U$114,"<="&AD9)-SUM($AE$4:AE8,$AB$13) -> 54 | AF9: (75;80⟩ | AG9: =AG8+$AA$2 -> 120 | AH9: =COUNTIF($A$2:$U$114,"<="&AG9)-SUM($AH$4:AH8,$AB$13,$AE$12) -> 41 | AI9: (115;120⟩
A10: 85 | B10: 85 | C10: X | D10: X | E10: 82 | F10: 85 | G10: 85 | H10: 82 | I10: 84 | J10: 84 | K10: 88 | L10: 88 | M10: 88 | N10: X | O10: X | P10: 83 | Q10: 83 | R10: X | S10: 83 | T10: 83 | U10: 75 | V10: BMW 530d xDrive Touring | W10: s rádiem/bez sudoku | X10: =X9+$X$2 -> 90 | Y10: =COUNTIF($A$2:$U$114,"<="&X10)-SUM($Y$4:Y9) -> 344 | Z10: (80;90⟩ | AA10: =AA9+$AA$1 -> 45 | AB10: =COUNTIF($A$2:$U$114,"<="&AA10)-SUM($AB$4:AB9) -> 113 | AC10: (42,5;45⟩ | AD10: =AD9+$AA$2 -> 85 | AE10: =COUNTIF($A$2:$U$114,"<="&AD10)-SUM($AE$4:AE9,$AB$13) -> 162 | AF10: (80;85⟩ | AG10: =AG9+$AA$2 -> 125 | AH10: =COUNTIF($A$2:$U$114,"<="&AG10)-SUM($AH$4:AH9,$AB$13,$AE$12) -> 64 | AI10: (120;125⟩
A11: 46 | B11: 46 | C11: X | D11: X | E11: 45 | F11: 45 | G11: 45 | H11: 45 | I11: 45 | J11: 45 | K11: 46 | L11: 46 | M11: 46 | N11: X | O11: X | P11: 44 | Q11: 44 | R11: X | S11: 45 | T11: 45 | U11: 45 | V11: BMW 530d xDrive Touring | W11: s rádiem/bez sudoku | X11: =X10+$X$2 -> 100 | Y11: =COUNTIF($A$2:$U$114,"<="&X11)-SUM($Y$4:Y10) -> 159 | Z11: (90;100⟩ | AA11: =AA10+$AA$1 -> 47.5 | AB11: =COUNTIF($A$2:$U$114,"<="&AA11)-SUM($AB$4:AB10) -> 103 | AC11: (45;47,5⟩ | AD11: =AD10+$AA$2 -> 90 | AE11: =COUNTIF($A$2:$U$114,"<="&AD11)-SUM($AE$4:AE10,$AB$13) -> 182 | AF11: (85;90⟩ | AG11: =AG10+$AA$2 -> 130 | AH11: =COUNTIF($A$2:$U$114,"<="&AG11)-SUM($AH$4:AH10,$AB$13,$AE$12) -> 54 | AI11: (125;130⟩
A12: 70 | B12: 70 | C12: 69 | D12: 69 | E12: 53 | F12: 57 | G12: 57 | H12: 53 | I12: 59 | J12: 59 | K12: 65 | L12: 65 | M12: 65 | N12: X | O12: X | P12: 66 | Q12: 66 | R12: X | S12: 63 | T12: 63 | U12: 78 | V12: BMW 530d xDrive Touring | W12: s rádiem/bez sudoku | X12: =X11+$X$2 -> 110 | Y12: =COUNTIF($A$2:$U$114,"<="&X12)-SUM($Y$4:Y11) -> 52 | Z12: (100;110⟩ | AA12: =AA11+$AA$1 -> 50 | AB12: =COUNTIF($A$2:$U$114,"<="&AA12)-SUM($AB$4:AB11) -> 197 | AC12: (47,5;50⟩ | AE12: =SUM(AE4:AE11) -> 961 | AH12: =SUM(AH4:AH11) -> 427
A13: 85 | B13: 85 | C13: 82 | D13: 82 | E13: 65 | F13: 86 | G13: 86 | H13: 65 | I13: 86 | J13: 86 | K13: 84 | L13: 84 | M13: 84 | N13: X | O13: X | P13: 79 | Q13: 79 | R13: X | S13: 89 | T13: 89 | U13: 72 | V13: BMW 530d xDrive Touring | W13: s rádiem/bez sudoku | X13: =X12+$X$2 -> 120 | Y13: =COUNTIF($A$2:$U$114,"<="&X13)-SUM($Y$4:Y12) -> 98 | Z13: (110;120⟩ | AB13: =SUM(AB4:AB12) -> 786
A14: 57 | B14: 57 | C14: 58 | D14: 58 | E14: 52 | F14: 52 | G14: 52 | H14: 52 | I14: 50 | J14: 50 | K14: X | L14: X | M14: X | N14: X | O14: X | P14: 58 | Q14: 58 | R14: X | S14: 56 | T14: 56 | U14: 69 | V14: BMW 530d xDrive Touring | W14: s rádiem/bez sudoku | X14: =X13+$X$2 -> 130 | Y14: =COUNTIF($A$2:$U$114,"<="&X14)-SUM($Y$4:Y13) -> 118 | Z14: (120;130⟩
A15: 83 | B15: 83 | C15: 99 | D15: 99 | E15: 97 | F15: 102 | G15: 102 | H15: 97 | I15: 97 | J15: 97 | K15: 101 | L15: 101 | M15: 101 | N15: X | O15: X | P15: 100 | Q15: 100 | R15: X | S15: 100 | T15: 100 | U15: 97 | V15: BMW 530d xDrive Touring | W15: s rádiem/bez sudoku | X15: =X14+$X$2 -> 140 | Y15: =COUNTIF($A$2:$U$114,"<="&X15)-SUM($Y$4:Y14) -> 0 | Z15: (25;30⟩ | AA15: =SUM(Y4:Y14) -> 2174 | AB15: Celkem naměřených hodnot
A16: 124 | B16: 124 | C16: 126 | D16: 126 | E16: 130 | F16: 126 | G16: 126 | H16: 130 | I16: 129 | J16: 129 | K16: 125 | L16: 125 | M16: 125 | N16: X | O16: X | P16: 127 | Q16: 127 | R16: X | S16: 123 | T16: 123 | U16: 125 | V16: BMW 530d xDrive Touring | W16: s rádiem/bez sudoku | X16: =X15+$X$2 -> 150 | Y16: =COUNTIF($A$2:$U$114,"<="&X16)-SUM($Y$4:Y15) -> 0 | Z16: (25;30⟩
A17: X | B17: X | C17: 115 | D17: 115 | E17: X | F17: X | G17: X | H17: X | I17: 117 | J17: 117 | K17: 110 | L17: 110 | M17: 110 | N17: X | O17: X | P17: 114 | Q17: 114 | R17: X | S17: 115 | T17: 115 | U17: 114 | V17: BMW 530d xDrive Touring | W17: s rádiem/bez sudoku | X17: =X16+$X$2 -> 160 | Y17: =COUNTIF($A$2:$U$114,"<="&X17)-SUM($Y$4:Y16) -> 0 | Z17: (25;30⟩
A18: 87 | B18: 87 | C18: 92 | D18: 92 | E18: 87 | F18: 87 | G18: 87 | H18: 87 | I18: 92 | J18: 92 | K18: 85 | L18: 85 | M18: 85 | N18: 90 | O18: 90 | P18: 94 | Q18: 94 | R18: 90 | S18: 95 | T18: 95 | U18: 84 | V18: BMW 530d xDrive Touring | W18: s rádiem/bez sudoku | X18: =X17+$X$2 -> 170 | Y18: =COUNTIF($A$2:$U$114,"<="&X18)-SUM($Y$4:Y17) -> 0 | Z18: (25;30⟩
A19: 51 | B19: 51 | C19: 50 | D19: 50 | E19: 45 | F19: 43 | G19: 43 | H19: 45 | I19: 44 | J19: 44 | K19: 45 | L19: 45 | M19: 45 | N19: 48 | O19: 48 | P19: X | Q19: X | R19: 48 | S19: 46 | T19: 46 | U19: 53 | V19: BMW 530d xDrive Touring | W19: s rádiem/bez sudoku | X19: =X18+$X$2 -> 180 | Y19: =COUNTIF($A$2:$U$114,"<="&X19)-SUM($Y$4:Y18) -> 0 | Z19: (25;30⟩
X20: =X19+$X$2 -> 190 | Y20: =COUNTIF($A$2:$U$114,"<="&X20)-SUM($Y$4:Y19) -> 0 | Z20: (25;30⟩
A21: 37 | B21: 37 | C21: 50 | D21: 50 | E21: 41 | F21: 38 | G21: 38 | H21: 41 | I21: 41 | J21: 41 | K21: 39 | L21: 39 | M21: 39 | N21: 45 | O21: 45 | P21: 38 | Q21: 38 | R21: 45 | S21: 41 | T21: 41 | U21: 37 | V21: BMW 530d xDrive Touring | W21: Bez rádia/se sudoku | X21: =X20+$X$2 -> 200 | Y21: =COUNTIF($A$2:$U$114,"<="&X21)-SUM($Y$4:Y20) -> 0 | Z21: (25;30⟩
A22: 51 | B22: 51 | C22: 53 | D22: 53 | E22: 50 | F22: 52 | G22: 52 | H22: 50 | I22: 56 | J22: 56 | K22: 50 | L22: 50 | M22: 50 | N22: 55 | O22: 55 | P22: 49 | Q22: 49 | R22: 55 | S22: 52 | T22: 52 | U22: 50 | V22: BMW 530d xDrive Touring | W22: Bez rádia/se sudoku | X22: =X21+$X$2 -> 210 | Y22: =COUNTIF($A$2:$U$114,"<="&X22)-SUM($Y$4:Y21) -> 0 | Z22: (25;30⟩
A23: 40 | B23: 40 | C23: 40 | D23: 40 | E23: 35 | F23: 34 | G23: 34 | H23: 35 | I23: 41 | J23: 41 | K23: 41 | L23: 41 | M23: 41 | N23: 47 | O23: 47 | P23: 41 | Q23: 41 | R23: 47 | S23: 43 | T23: 43 | U23: 45 | V23: BMW 530d xDrive Touring | W23: Bez rádia/se sudoku | X23: =X22+$X$2 -> 220 | Y23: =COUNTIF($A$2:$U$114,"<="&X23)-SUM($Y$4:Y22) -> 0 | Z23: (25;30⟩
A24: 66 | B24: 66 | C24: 68 | D24: 68 | E24: 67 | F24: 69 | G24: 69 | H24: 67 | I24: 66 | J24: 66 | K24: 67 | L24: 67 | M24: 67 | N24: 71 | O24: 71 | P24: 65 | Q24: 65 | R24: 71 | S24: 67 | T24: 67 | U24: 72 | V24: BMW 530d xDrive Touring | W24: Bez rádia/se sudoku | X24: =X23+$X$2 -> 230 | Y24: =COUNTIF($A$2:$U$114,"<="&X24)-SUM($Y$4:Y23) -> 0 | Z24: (25;30⟩
A25: 87 | B25: 87 | C25: 87 | D25: 87 | E25: 84 | F25: 86 | G25: 86 | H25: 84 | I25: 86 | J25: 86 | K25: 89 | L25: 89 | M25: 89 | N25: 86 | O25: 86 | P25: 88 | Q25: 88 | R25: 86 | S25: 89 | T25: 89 | U25: 92 | V25: BMW 530d xDrive Touring | W25: Bez rádia/se sudoku | X25: =X24+$X$2 -> 240 | Y25: =COUNTIF($A$2:$U$114,"<="&X25)-SUM($Y$4:Y24) -> 0 | Z25: (25;30⟩
A26: 31 | B26: 31 | C26: 31 | D26: 31 | E26: 27 | F26: 30 | G26: 30 | H26: 27 | I26: 33 | J26: 33 | K26: 30 | L26: 30 | M26: 30 | N26: 29 | O26: 29 | P26: 28 | Q26: 28 | R26: 29 | S26: 27 | T26: 27 | U26: 28 | V26: BMW 530d xDrive Touring | W26: Bez rádia/se sudoku
A27: 51 | B27: 51 | C27: 53 | D27: 53 | E27: 49 | F27: 47 | G27: 47 | H27: 49 | I27: 49 | J27: 49 | K27: 49 | L27: 49 | M27: 49 | N27: 50 | O27: 50 | P27: 50 | Q27: 50 | R27: 50 | S27: 52 | T27: 52 | U27: 50 | V27: BMW 530d xDrive Touring | W27: Bez rádia/se sudoku
A28: 48 | B28: 48 | C28: 46 | D28: 46 | E28: 48 | F28: 49 | G28: 49 | H28: 48 | I28: 45 | J28: 45 | K28: 50 | L28: 50 | M28: 50 | N28: 50 | O28: 50 | P28: 49 | Q28: 49 | R28: 50 | S28: 48 | T28: 48 | U28: 44 | V28: BMW 530d xDrive Touring | W28: Bez rádia/se sudoku
A29: 85 | B29: 85 | C29: 72 | D29: 72 | E29: 89 | F29: 86 | G29: 86 | H29: 89 | I29: 77 | J29: 77 | K29: 84 | L29: 84 | M29: 84 | N29: 82 | O29: 82 | P29: 83 | Q29: 83 | R29: 82 | S29: 83 | T29: 83 | U29: 83 | V29: BMW 530d xDrive Touring | W29: Bez rádia/se sudoku
A30: 42 | B30: 42 | C30: 38 | D30: 38 | E30: 46 | F30: 49 | G30: 49 | H30: 46 | I30: 44 | J30: 44 | K30: 47 | L30: 47 | M30: 47 | N30: 40 | O30: 40 | P30: 43 | Q30: 43 | R30: 40 | S30: 48 | T30: 48 | U30: 48 | V30: BMW 530d xDrive Touring | W30: Bez rádia/se sudoku
A31: 69 | B31: 69 | C31: 67 | D31: 67 | E31: 63 | F31: 65 | G31: 65 | H31: 63 | I31: 68 | J31: 68 | K31: 62 | L31: 62 | M31: 62 | N31: 62 | O31: 62 | P31: 61 | Q31: 61 | R31: 62 | S31: 59 | T31: 59 | U31: 57 | V31: BMW 530d xDrive Touring | W31: Bez rádia/se sudoku
A32: 72 | B32: 72 | C32: 75 | D32: 75 | E32: 86 | F32: 85 | G32: 85 | H32: 86 | I32: 82 | J32: 82 | K32: 82 | L32: 82 | M32: 82 | N32: 90 | O32: 90 | P32: 88 | Q32: 88 | R32: 90 | S32: 84 | T32: 84 | U32: 80 | V32: BMW 530d xDrive Touring | W32: Bez rádia/se sudoku
A33: 57 | B33: 57 | C33: 59 | D33: 59 | E33: 54 | F33: 56 | G33: 56 | H33: 54 | I33: 55 | J33: 55 | K33: 61 | L33: 61 | M33: 61 | N33: 55 | O33: 55 | P33: 57 | Q33: 57 | R33: 55 | S33: 56 | T33: 56 | U33: 66 | V33: BMW 530d xDrive Touring | W33: Bez rádia/se sudoku
A34: 99 | B34: 99 | C34: 94 | D34: 94 | E34: 100 | F34: 94 | G34: 94 | H34: 100 | I34: 97 | J34: 97 | K34: 105 | L34: 105 | M34: 105 | N34: 96 | O34: 96 | P34: 99 | Q34: 99 | R34: 96 | S34: 95 | T34: 95 | U34: 98 | V34: BMW 530d xDrive Touring | W34: Bez rádia/se sudoku
A35: 125 | B35: 125 | C35: 125 | D35: 125 | E35: 127 | F35: 112 | G35: 112 | H35: 127 | I35: 127 | J35: 127 | K35: 124 | L35: 124 | M35: 124 | N35: 125 | O35: 125 | P35: 117 | Q35: 117 | R35: 125 | S35: 123 | T35: 123 | U35: 125 | V35: BMW 530d xDrive Touring | W35: Bez rádia/se sudoku
A36: 114 | B36: 114 | C36: 113 | D36: 113 | E36: 115 | F36: 111 | G36: 111 | H36: 115 | I36: 116 | J36: 116 | K36: 114 | L36: 114 | M36: 114 | N36: 120 | O36: 120 | P36: 113 | Q36: 113 | R36: 120 | S36: 116 | T36: 116 | U36: 110 | V36: BMW 530d xDrive Touring | W36: Bez rádia/se sudoku
A37: 84 | B37: 84 | C37: 87 | D37: 87 | E37: 92 | F37: 85 | G37: 85 | H37: 92 | I37: 84 | J37: 84 | K37: 87 | L37: 87 | M37: 87 | N37: 96 | O37: 96 | P37: 93 | Q37: 93 | R37: 96 | S37: 97 | T37: 97 | U37: 90 | V37: BMW 530d xDrive Touring | W37: Bez rádia/se sudoku
... A44: 86 | B44: 86 | C44: 90 | D44: 90 | E44: 87 | F44: 88 | G44: 88 | H44: 87 | I44: 90 | J44: 90 | K44: 88 | L44: 88 | M44: 88 | N44: 91 | O44: 91 | P44: 90 | Q44: 90 | R44: 91 | S44: 95 | T44: 95 | U44: 88 | V44: BMW X3 | W44: s rádiem/bez sudoku
A45: X | B45: X | C45: 29 | D45: 29 | E45: 29 | F45: 30 | G45: 30 | H45: 29 | I45: 30 | J45: 30 | K45: 33 | L45: 33 | M45: 33 | N45: 38 | O45: 38 | P45: 31 | Q45: 31 | R45: 38 | S45: 28 | T45: 28 | U45: 32 | V45: BMW X3 | W45: s rádiem/bez sudoku
A46: 48 | B46: 48 | C46: 47 | D46: 47 | E46: 47 | F46: 52 | G46: 52 | H46: 47 | I46: 49 | J46: 49 | K46: 52 | L46: 52 | M46: 52 | N46: 54 | O46: 54 | P46: 54 | Q46: 54 | R46: 54 | S46: 48 | T46: 48 | U46: 48 | V46: BMW X3 | W46: s rádiem/bez sudoku
A47: X | B47: X | C47: 48 | D47: 48 | E47: 48 | F47: 50 | G47: 50 | H47: 48 | I47: 50 | J47: 50 | K47: 52 | L47: 52 | M47: 52 | N47: 51 | O47: 51 | P47: 52 | Q47: 52 | R47: 51 | S47: 46 | T47: 46 | U47: 50 | V47: BMW X3 | W47: s rádiem/bez sudoku
A48: X | B48: X | C48: 82 | D48: 82 | E48: 83 | F48: 78 | G48: 78 | H48: 83 | I48: 84 | J48: 84 | K48: 81 | L48: 81 | M48: 81 | N48: 80 | O48: 80 | P48: 81 | Q48: 81 | R48: 80 | S48: 79 | T48: 79 | U48: 80 | V48: BMW X3 | W48: s rádiem/bez sudoku
A49: X | B49: X | C49: 45 | D49: 45 | E49: 43 | F49: 45 | G49: 45 | H49: 43 | I49: 45 | J49: 45 | K49: 46 | L49: 46 | M49: 46 | N49: 43 | O49: 43 | P49: 42 | Q49: 42 | R49: 43 | S49: 43 | T49: 43 | U49: 44 | V49: BMW X3 | W49: s rádiem/bez sudoku
A50: 69 | B50: 69 | C50: 70 | D50: 70 | E50: 62 | F50: 62 | G50: 62 | H50: 62 | I50: 69 | J50: 69 | K50: 65 | L50: 65 | M50: 65 | N50: 69 | O50: 69 | P50: 63 | Q50: 63 | R50: 69 | S50: 76 | T50: 76 | U50: 64 | V50: BMW X3 | W50: s rádiem/bez sudoku
A51: 82 | B51: 82 | C51: 84 | D51: 84 | E51: 81 | F51: 66 | G51: 66 | H51: 81 | I51: 84 | J51: 84 | K51: 85 | L51: 85 | M51: 85 | N51: 79 | O51: 79 | P51: 82 | Q51: 82 | R51: 79 | S51: 67 | T51: 67 | U51: 87 | V51: BMW X3 | W51: s rádiem/bez sudoku
A52: 58 | B52: 58 | C52: 59 | D52: 59 | E52: 58 | F52: 53 | G52: 53 | H52: 58 | I52: X | J52: X | K52: 54 | L52: 54 | M52: 54 | N52: 58 | O52: 58 | P52: 54 | Q52: 54 | R52: 58 | S52: 69 | T52: 69 | U52: 57 | V52: BMW X3 | W52: s rádiem/bez sudoku
A53: 99 | B53: 99 | C53: 92 | D53: 92 | E53: 97 | F53: 100 | G53: 100 | H53: 97 | I53: 98 | J53: 98 | K53: 98 | L53: 98 | M53: 98 | N53: 106 | O53: 106 | P53: 104 | Q53: 104 | R53: 106 | S53: 99 | T53: 99 | U53: 101 | V53: BMW X3 | W53: s rádiem/bez sudoku
A54: 126 | B54: 126 | C54: 127 | D54: 127 | E54: 125 | F54: 129 | G54: 129 | H54: 125 | I54: 123 | J54: 123 | K54: 128 | L54: 128 | M54: 128 | N54: 128 | O54: 128 | P54: 123 | Q54: 123 | R54: 128 | S54: 125 | T54: 125 | U54: 124 | V54: BMW X3 | W54: s rádiem/bez sudoku
A55: 115 | B55: 115 | C55: X | D55: X | E55: X | F55: X | G55: X | H55: X | I55: 110 | J55: 110 | K55: 117 | L55: 117 | M55: 117 | N55: 117 | O55: 117 | P55: 113 | Q55: 113 | R55: 117 | S55: 113 | T55: 113 | U55: 116 | V55: BMW X3 | W55: s rádiem/bez sudoku
A56: 92 | B56: 92 | C56: 89 | D56: 89 | E56: 87 | F56: 88 | G56: 88 | H56: 87 | I56: 86 | J56: 86 | K56: 92 | L56: 92 | M56: 92 | N56: 93 | O56: 93 | P56: 90 | Q56: 90 | R56: 93 | S56: 84 | T56: 84 | U56: 92 | V56: BMW X3 | W56: s rádiem/bez sudoku
A57: 29 | B57: 29 | C57: 49 | D57: 49 | E57: 42 | F57: 46 | G57: 46 | H57: 42 | I57: 38 | J57: 38 | K57: 47 | L57: 47 | M57: 47 | N57: X | O57: X | P57: 49 | Q57: 49 | R57: X | S57: 51 | T57: 51 | U57: 46 | V57: BMW X3 | W57: s rádiem/bez sudoku
A59: 50 | B59: 50 | C59: 36 | D59: 36 | E59: 39 | F59: 40 | G59: 40 | H59: 39 | I59: 48 | J59: 48 | K59: 42 | L59: 42 | M59: 42 | N59: 38 | O59: 38 | P59: 46 | Q59: 46 | R59: 38 | S59: 38 | T59: 38 | U59: 41 | V59: BMW X3 | W59: Bez rádia/se sudoku
A60: 53 | B60: 53 | C60: 50 | D60: 50 | E60: 52 | F60: 49 | G60: 49 | H60: 52 | I60: 47 | J60: 47 | K60: 58 | L60: 58 | M60: 58 | N60: 49 | O60: 49 | P60: 55 | Q60: 55 | R60: 49 | S60: 49 | T60: 49 | U60: 52 | V60: BMW X3 | W60: Bez rádia/se sudoku
A61: 40 | B61: 40 | C61: 41 | D61: 41 | E61: 34 | F61: 35 | G61: 35 | H61: 34 | I61: 42 | J61: 42 | K61: 43 | L61: 43 | M61: 43 | N61: 38 | O61: 38 | P61: 48 | Q61: 48 | R61: 38 | S61: 46 | T61: 46 | U61: 44 | V61: BMW X3 | W61: Bez rádia/se sudoku
A62: 68 | B62: 68 | C62: 67 | D62: 67 | E62: 65 | F62: 67 | G62: 67 | H62: 65 | I62: 64 | J62: 64 | K62: 67 | L62: 67 | M62: 67 | N62: 66 | O62: 66 | P62: 71 | Q62: 71 | R62: 66 | S62: 72 | T62: 72 | U62: 70 | V62: BMW X3 | W62: Bez rádia/se sudoku
A63: 87 | B63: 87 | C63: 87 | D63: 87 | E63: 86 | F63: 82 | G63: 82 | H63: 86 | I63: 80 | J63: 80 | K63: 89 | L63: 89 | M63: 89 | N63: 88 | O63: 88 | P63: 87 | Q63: 87 | R63: 88 | S63: 92 | T63: 92 | U63: 89 | V63: BMW X3 | W63: Bez rádia/se sudoku
A64: 31 | B64: 31 | C64: 31 | D64: 31 | E64: 28 | F64: 29 | G64: 29 | H64: 28 | I64: 30 | J64: 30 | K64: 34 | L64: 34 | M64: 34 | N64: 30 | O64: 30 | P64: 38 | Q64: 38 | R64: 30 | S64: 29 | T64: 29 | U64: 30 | V64: BMW X3 | W64: Bez rádia/se sudoku
A65: 53 | B65: 53 | C65: 51 | D65: 51 | E65: 47 | F65: 50 | G65: 50 | H65: 47 | I65: 52 | J65: 52 | K65: 49 | L65: 49 | M65: 49 | N65: 50 | O65: 50 | P65: 52 | Q65: 52 | R65: 50 | S65: 51 | T65: 51 | U65: 51 | V65: BMW X3 | W65: Bez rádia/se sudoku
A66: 46 | B66: 46 | C66: 47 | D66: 47 | E66: 49 | F66: 47 | G66: 47 | H66: 49 | I66: 54 | J66: 54 | K66: 47 | L66: 47 | M66: 47 | N66: 49 | O66: 49 | P66: 52 | Q66: 52 | R66: 49 | S66: 46 | T66: 46 | U66: 47 | V66: BMW X3 | W66: Bez rádia/se sudoku
A67: 72 | B67: 72 | C67: 83 | D67: 83 | E67: 85 | F67: 87 | G67: 87 | H67: 85 | I67: 80 | J67: 80 | K67: 76 | L67: 76 | M67: 76 | N67: 83 | O67: 83 | P67: 81 | Q67: 81 | R67: 83 | S67: 80 | T67: 80 | U67: 83 | V67: BMW X3 | W67: Bez rádia/se sudoku
A68: 38 | B68: 38 | C68: 44 | D68: 44 | E68: 47 | F68: 48 | G68: 48 | H68: 47 | I68: 43 | J68: 43 | K68: 42 | L68: 42 | M68: 42 | N68: 41 | O68: 41 | P68: 41 | Q68: 41 | R68: 41 | S68: 46 | T68: 46 | U68: 48 | V68: BMW X3 | W68: Bez rádia/se sudoku
A69: 67 | B69: 67 | C69: 67 | D69: 67 | E69: 64 | F69: 67 | G69: 67 | H69: 64 | I69: 57 | J69: 57 | K69: 64 | L69: 64 | M69: 64 | N69: 63 | O69: 63 | P69: 66 | Q69: 66 | R69: 63 | S69: 63 | T69: 63 | U69: 64 | V69: BMW X3 | W69: Bez rádia/se sudoku
A70: 75 | B70: 75 | C70: 74 | D70: 74 | E70: 79 | F70: 84 | G70: 84 | H70: 79 | I70: 85 | J70: 85 | K70: 82 | L70: 82 | M70: 82 | N70: 84 | O70: 84 | P70: 87 | Q70: 87 | R70: 84 | S70: 80 | T70: 80 | U70: 82 | V70: BMW X3 | W70: Bez rádia/se sudoku
... A92: 124 | B92: 124 | C92: 124 | D92: 124 | E92: 128 | F92: 128 | G92: 128 | H92: 128 | I92: 122 | J92: 122 | K92: 122 | L92: 122 | M92: 122 | N92: 129 | O92: 129 | P92: 129 | Q92: 129 | R92: 129 | S92: 124 | T92: 124 | U92: 124 | V92: VW Caravella | W92: s rádiem/bez sudoku
A93: X | B93: X | C93: X | D93: X | E93: X | F93: X | G93: X | H93: X | I93: 112 | J93: 112 | K93: 112 | L93: 112 | M93: 112 | N93: 117 | O93: 117 | P93: 117 | Q93: 117 | R93: 117 | S93: 112 | T93: 112 | U93: 112 | V93: VW Caravella | W93: s rádiem/bez sudoku
A94: 86 | B94: 86 | C94: 86 | D94: 86 | E94: 82 | F94: 82 | G94: 82 | H94: 82 | I94: 95 | J94: 95 | K94: 95 | L94: 95 | M94: 95 | N94: 92 | O94: 92 | P94: 92 | Q94: 92 | R94: 92 | S94: 95 | T94: 95 | U94: 95 | V94: VW Caravella | W94: s rádiem/bez sudoku
A95: 45 | B95: 45 | C95: 45 | D95: 45 | E95: 52 | F95: 52 | G95: 52 | H95: 52 | I95: 53 | J95: 53 | K95: 53 | L95: 53 | M95: 53 | N95: 46 | O95: 46 | P95: 46 | Q95: 46 | R95: 46 | S95: 34 | T95: 34 | U95: 34 | V95: VW Caravella | W95: s rádiem/bez sudoku
A97: 42 | B97: 42 | C97: 42 | D97: 42 | E97: 37 | F97: 37 | G97: 37 | H97: 37 | I97: 46 | J97: 46 | K97: 46 | L97: 46 | M97: 46 | N97: 42 | O97: 42 | P97: 42 | Q97: 42 | R97: 42 | S97: 39 | T97: 39 | U97: 39 | V97: VW Caravella | W97: Bez rádia/se sudoku
A98: 53 | B98: 53 | C98: 53 | D98: 53 | E98: 49 | F98: 49 | G98: 49 | H98: 49 | I98: 55 | J98: 55 | K98: 55 | L98: 55 | M98: 55 | N98: 57 | O98: 57 | P98: 57 | Q98: 57 | R98: 57 | S98: 49 | T98: 49 | U98: 49 | V98: VW Caravella | W98: Bez rádia/se sudoku
A99: 35 | B99: 35 | C99: 35 | D99: 35 | E99: 37 | F99: 37 | G99: 37 | H99: 37 | I99: 46 | J99: 46 | K99: 46 | L99: 46 | M99: 46 | N99: 42 | O99: 42 | P99: 42 | Q99: 42 | R99: 42 | S99: 43 | T99: 43 | U99: 43 | V99: VW Caravella | W99: Bez rádia/se sudoku
A100: 67 | B100: 67 | C100: 67 | D100: 67 | E100: 66 | F100: 66 | G100: 66 | H100: 66 | I100: 66 | J100: 66 | K100: 66 | L100: 66 | M100: 66 | N100: 67 | O100: 67 | P100: 67 | Q100: 67 | R100: 67 | S100: 65 | T100: 65 | U100: 65 | V100: VW Caravella | W100: Bez rádia/se sudoku
A101: 85 | B101: 85 | C101: 85 | D101: 85 | E101: 86 | F101: 86 | G101: 86 | H101: 86 | I101: 88 | J101: 88 | K101: 88 | L101: 88 | M101: 88 | N101: 88 | O101: 88 | P101: 88 | Q101: 88 | R101: 88 | S101: 89 | T101: 89 | U101: 89 | V101: VW Caravella | W101: Bez rádia/se sudoku
A102: 33 | B102: 33 | C102: 33 | D102: 33 | E102: 31 | F102: 31 | G102: 31 | H102: 31 | I102: 30 | J102: 30 | K102: 30 | L102: 30 | M102: 30 | N102: 34 | O102: 34 | P102: 34 | Q102: 34 | R102: 34 | S102: 31 | T102: 31 | U102: 31 | V102: VW Caravella | W102: Bez rádia/se sudoku
A103: 45 | B103: 45 | C103: 45 | D103: 45 | E103: 59 | F103: 59 | G103: 59 | H103: 59 | I103: 55 | J103: 55 | K103: 55 | L103: 55 | M103: 55 | N103: 49 | O103: 49 | P103: 49 | Q103: 49 | R103: 49 | S103: 51 | T103: 51 | U103: 51 | V103: VW Caravella | W103: Bez rádia/se sudoku
A104: 52 | B104: 52 | C104: 52 | D104: 52 | E104: 50 | F104: 50 | G104: 50 | H104: 50 | I104: 51 | J104: 51 | K104: 51 | L104: 51 | M104: 51 | N104: 46 | O104: 46 | P104: 46 | Q104: 46 | R104: 46 | S104: 50 | T104: 50 | U104: 50 | V104: VW Caravella | W104: Bez rádia/se sudoku
A105: 89 | B105: 89 | C105: 89 | D105: 89 | E105: 86 | F105: 86 | G105: 86 | H105: 86 | I105: 85 | J105: 85 | K105: 85 | L105: 85 | M105: 85 | N105: 76 | O105: 76 | P105: 76 | Q105: 76 | R105: 76 | S105: 82 | T105: 82 | U105: 82 | V105: VW Caravella | W105: Bez rádia/se sudoku
A106: 41 | B106: 41 | C106: 41 | D106: 41 | E106: 35 | F106: 35 | G106: 35 | H106: 35 | I106: 39 | J106: 39 | K106: 39 | L106: 39 | M106: 39 | N106: 43 | O106: 43 | P106: 43 | Q106: 43 | R106: 43 | S106: 44 | T106: 44 | U106: 44 | V106: VW Caravella | W106: Bez rádia/se sudoku
... A114: 48 | B114: 48 | C114: 48 | D114: 48 | E114: 42 | F114: 42 | G114: 42 | H114: 42 | I114: 50 | J114: 50 | K114: 50 | L114: 50 | M114: 50 | N114: 53 | O114: 53 | P114: 53 | Q114: 53 | R114: 53 | S114: 43 | T114: 43 | U114: 43 | V114: VW Caravella | W114: Bez rádia/se sudoku

Sheet odchylky
A1: 1 | B1: 2 | C1: 3 | D1: 4 | E1: 5 | F1: 6 | G1: 7 | H1: 8 | I1: 9 | J1: 10 | K1: 11 | L1: 12 | M1: 13 | N1: 14 | O1: 15 | P1: 16 | Q1: 17 | R1: 18 | S1: 19 | T1: 20 | U1: 21 | V1: Vozidlo | W1: Poznámka
A2: =('odhadnuté rychlosti'!A2-'reálná rychlost'!A2)/'reálná rychlost'!A2 -> -0.18918919 | B2: =('odhadnuté rychlosti'!B2-'reálná rychlost'!B2)/'reálná rychlost'!B2 -> -0.59459459 | C2: =('odhadnuté rychlosti'!C2-'reálná rychlost'!C2)/'reálná rychlost'!C2 -> -0.024390244 | D2: =('odhadnuté rychlosti'!D2-'reálná rychlost'!D2)/'reálná rychlost'!D2 -> 0.097560976 | E2: =('odhadnuté rychlosti'!E2-'reálná rychlost'!E2)/'reálná rychlost'!E2 -> 0.052631579 | F2: =('odhadnuté rychlosti'!F2-'reálná rychlost'!F2)/'reálná rychlost'!F2 -> 0.5 | G2: =('odhadnuté rychlosti'!G2-'reálná rychlost'!G2)/'reálná rychlost'!G2 -> 0.43333333 | H2: =('odhadnuté rychlosti'!H2-'reálná rychlost'!H2)/'reálná rychlost'!H2 -> -0.078947368 | ... M2: =('odhadnuté rychlosti'!M2-'reálná rychlost'!M2)/'reálná rychlost'!M2 -> -0.054054054 | N2: X | O2: X | P2: =('odhadnuté rychlosti'!P2-'reálná rychlost'!P2)/'reálná rychlost'!P2 -> 0.18421053 | Q2: =('odhadnuté rychlosti'!Q2-'reálná rychlost'!Q2)/'reálná rychlost'!Q2 -> 0.18421053 | R2: X | S2: =('odhadnuté rychlosti'!S2-'reálná rychlost'!S2)/'reálná rychlost'!S2 -> 0.64705882 | T2: =('odhadnuté rychlosti'!T2-'reálná rychlost'!T2)/'reálná rychlost'!T2 -> 0.11764706 | U2: =('odhadnuté rychlosti'!U2-'reálná rychlost'!U2)/'reálná rychlost'!U2 -> -0.35185185 | V2: BMW 530d xDrive Touring | W2: s rádiem/bez sudoku
A3: =('odhadnuté rychlosti'!A3-'reálná rychlost'!A3)/'reálná rychlost'!A3 -> -0.4 | B3: =('odhadnuté rychlosti'!B3-'reálná rychlost'!B3)/'reálná rychlost'!B3 -> -0.6 | C3: =('odhadnuté rychlosti'!C3-'reálná rychlost'!C3)/'reálná rychlost'!C3 -> -0.038461538 | D3: =('odhadnuté rychlosti'!D3-'reálná rychlost'!D3)/'reálná rychlost'!D3 -> -0.038461538 | E3: =('odhadnuté rychlosti'!E3-'reálná rychlost'!E3)/'reálná rychlost'!E3 -> 0.063829787 | F3: =('odhadnuté rychlosti'!F3-'reálná rychlost'!F3)/'reálná rychlost'!F3 -> 0.14583333 | G3: =('odhadnuté rychlosti'!G3-'reálná rychlost'!G3)/'reálná rychlost'!G3 -> 0.0625 | H3: =('odhadnuté rychlosti'!H3-'reálná rychlost'!H3)/'reálná rychlost'!H3 -> -0.042553191 | ... M3: =('odhadnuté rychlosti'!M3-'reálná rychlost'!M3)/'reálná rychlost'!M3 -> -0.18367347 | N3: X | O3: X | P3: =('odhadnuté rychlosti'!P3-'reálná rychlost'!P3)/'reálná rychlost'!P3 -> -0.017857143 | Q3: =('odhadnuté rychlosti'!Q3-'reálná rychlost'!Q3)/'reálná rychlost'!Q3 -> -0.017857143 | R3: X | S3: =('odhadnuté rychlosti'!S3-'reálná rychlost'!S3)/'reálná rychlost'!S3 -> 0.28571429 | T3: =('odhadnuté rychlosti'!T3-'reálná rychlost'!T3)/'reálná rychlost'!T3 -> -0.30612245 | U3: =('odhadnuté rychlosti'!U3-'reálná rychlost'!U3)/'reálná rychlost'!U3 -> -0.375 | V3: BMW 530d xDrive Touring | W3: s rádiem/bez sudoku
A4: =('odhadnuté rychlosti'!A4-'reálná rychlost'!A4)/'reálná rychlost'!A4 -> -0.25 | B4: =('odhadnuté rychlosti'!B4-'reálná rychlost'!B4)/'reálná rychlost'!B4 -> -0.25 | C4: =('odhadnuté rychlosti'!C4-'reálná rychlost'!C4)/'reálná rychlost'!C4 -> 0 | D4: =('odhadnuté rychlosti'!D4-'reálná rychlost'!D4)/'reálná rychlost'!D4 -> 0.25 | E4: =('odhadnuté rychlosti'!E4-'reálná rychlost'!E4)/'reálná rychlost'!E4 -> -0.054054054 | F4: =('odhadnuté rychlosti'!F4-'reálná rychlost'!F4)/'reálná rychlost'!F4 -> 0.35897436 | G4: =('odhadnuté rychlosti'!G4-'reálná rychlost'!G4)/'reálná rychlost'!G4 -> 0.15384615 | H4: =('odhadnuté rychlosti'!H4-'reálná rychlost'!H4)/'reálná rychlost'!H4 -> -0.18918919 | ... M4: =('odhadnuté rychlosti'!M4-'reálná rychlost'!M4)/'reálná rychlost'!M4 -> -0.21052632 | N4: X | O4: X | P4: =('odhadnuté rychlosti'!P4-'reálná rychlost'!P4)/'reálná rychlost'!P4 -> 0.36363636 | Q4: =('odhadnuté rychlosti'!Q4-'reálná rychlost'!Q4)/'reálná rychlost'!Q4 -> 0.36363636 | R4: X | S4: =('odhadnuté rychlosti'!S4-'reálná rychlost'!S4)/'reálná rychlost'!S4 -> 0.35135135 | T4: =('odhadnuté rychlosti'!T4-'reálná rychlost'!T4)/'reálná rychlost'!T4 -> -0.2972973 | U4: =('odhadnuté rychlosti'!U4-'reálná rychlost'!U4)/'reálná rychlost'!U4 -> -0.14634146 | V4: BMW 530d xDrive Touring | W4: s rádiem/bez sudoku
A5: =('odhadnuté rychlosti'!A5-'reálná rychlost'!A5)/'reálná rychlost'!A5 -> -0.15492958 | B5: =('odhadnuté rychlosti'!B5-'reálná rychlost'!B5)/'reálná rychlost'!B5 -> -0.29577465 | C5: =('odhadnuté rychlosti'!C5-'reálná rychlost'!C5)/'reálná rychlost'!C5 -> -0.0625 | D5: =('odhadnuté rychlosti'!D5-'reálná rychlost'!D5)/'reálná rychlost'!D5 -> 0.40625 | E5: =('odhadnuté rychlosti'!E5-'reálná rychlost'!E5)/'reálná rychlost'!E5 -> -0.054054054 | F5: =('odhadnuté rychlosti'!F5-'reálná rychlost'!F5)/'reálná rychlost'!F5 -> 0.21428571 | G5: =('odhadnuté rychlosti'!G5-'reálná rychlost'!G5)/'reálná rychlost'!G5 -> 0.028571429 | H5: =('odhadnuté rychlosti'!H5-'reálná rychlost'!H5)/'reálná rychlost'!H5 -> -0.054054054 | ... M5: =('odhadnuté rychlosti'!M5-'reálná rychlost'!M5)/'reálná rychlost'!M5 -> -0.097222222 | N5: X | O5: X | P5: =('odhadnuté rychlosti'!P5-'reálná rychlost'!P5)/'reálná rychlost'!P5 -> 0.041666667 | Q5: =('odhadnuté rychlosti'!Q5-'reálná rychlost'!Q5)/'reálná rychlost'!Q5 -> 0.11111111 | R5: X | S5: =('odhadnuté rychlosti'!S5-'reálná rychlost'!S5)/'reálná rychlost'!S5 -> 0.25757576 | T5: =('odhadnuté rychlosti'!T5-'reálná rychlost'!T5)/'reálná rychlost'!T5 -> -0.060606061 | U5: =('odhadnuté rychlosti'!U5-'reálná rychlost'!U5)/'reálná rychlost'!U5 -> -0.21052632 | V5: BMW 530d xDrive Touring | W5: s rádiem/bez sudoku
A6: =('odhadnuté rychlosti'!A6-'reálná rychlost'!A6)/'reálná rychlost'!A6 -> 0 | B6: =('odhadnuté rychlosti'!B6-'reálná rychlost'!B6)/'reálná rychlost'!B6 -> -0.16666667 | C6: =('odhadnuté rychlosti'!C6-'reálná rychlost'!C6)/'reálná rychlost'!C6 -> 0.1627907 | D6: =('odhadnuté rychlosti'!D6-'reálná rychlost'!D6)/'reálná rychlost'!D6 -> 0.1627907 | E6: =('odhadnuté rychlosti'!E6-'reálná rychlost'!E6)/'reálná rychlost'!E6 -> -0.034090909 | F6: =('odhadnuté rychlosti'!F6-'reálná rychlost'!F6)/'reálná rychlost'!F6 -> 0.13636364 | G6: =('odhadnuté rychlosti'!G6-'reálná rychlost'!G6)/'reálná rychlost'!G6 -> 0 | H6: =('odhadnuté rychlosti'!H6-'reálná rychlost'!H6)/'reálná rychlost'!H6 -> -0.090909091 | ... M6: =('odhadnuté rychlosti'!M6-'reálná rychlost'!M6)/'reálná rychlost'!M6 -> -0.16666667 | N6: X | O6: X | P6: =('odhadnuté rychlosti'!P6-'reálná rychlost'!P6)/'reálná rychlost'!P6 -> -0.010989011 | Q6: =('odhadnuté rychlosti'!Q6-'reálná rychlost'!Q6)/'reálná rychlost'!Q6 -> 0.043956044 | R6: X | S6: =('odhadnuté rychlosti'!S6-'reálná rychlost'!S6)/'reálná rychlost'!S6 -> 0.15909091 | T6: =('odhadnuté rychlosti'!T6-'reálná rychlost'!T6)/'reálná rychlost'!T6 -> 0.045454545 | U6: =('odhadnuté rychlosti'!U6-'reálná rychlost'!U6)/'reálná rychlost'!U6 -> -0.0625 | V6: BMW 530d xDrive Touring | W6: s rádiem/bez sudoku
A7: =('odhadnuté rychlosti'!A7-'reálná rychlost'!A7)/'reálná rychlost'!A7 -> 0.66666667 | B7: =('odhadnuté rychlosti'!B7-'reálná rychlost'!B7)/'reálná rychlost'!B7 -> 0.11111111 | C7: X | D7: X | E7: =('odhadnuté rychlosti'!E7-'reálná rychlost'!E7)/'reálná rychlost'!E7 -> 0.16666667 | F7: =('odhadnuté rychlosti'!F7-'reálná rychlost'!F7)/'reálná rychlost'!F7 -> 0.92592593 | G7: =('odhadnuté rychlosti'!G7-'reálná rychlost'!G7)/'reálná rychlost'!G7 -> 0.22222222 | H7: =('odhadnuté rychlosti'!H7-'reálná rychlost'!H7)/'reálná rychlost'!H7 -> 0.16666667 | I7: =('odhadnuté rychlosti'!I7-'reálná rychlost'!I7)/'reálná rychlost'!I7 -> 0.25 | J7: =('odhadnuté rychlosti'!J7-'reálná rychlost'!J7)/'reálná rychlost'!J7 -> 0.42857143 | K7: =('odhadnuté rychlosti'!K7-'reálná rychlost'!K7)/'reálná rychlost'!K7 -> 0.40625 | L7: =('odhadnuté rychlosti'!L7-'reálná rychlost'!L7)/'reálná rychlost'!L7 -> 0.25 | M7: =('odhadnuté rychlosti'!M7-'reálná rychlost'!M7)/'reálná rychlost'!M7 -> -0.21875 | N7: X | O7: X | P7: =('odhadnuté rychlosti'!P7-'reálná rychlost'!P7)/'reálná rychlost'!P7 -> 0.875 | Q7: =('odhadnuté rychlosti'!Q7-'reálná rychlost'!Q7)/'reálná rychlost'!Q7 -> 0.40625 | R7: X | S7: =('odhadnuté rychlosti'!S7-'reálná rychlost'!S7)/'reálná rychlost'!S7 -> 0.4 | T7: =('odhadnuté rychlosti'!T7-'reálná rychlost'!T7)/'reálná rychlost'!T7 -> 0.33333333 | U7: =('odhadnuté rychlosti'!U7-'reálná rychlost'!U7)/'reálná rychlost'!U7 -> 0 | V7: BMW 530d xDrive Touring | W7: s rádiem/bez sudoku
A8: =('odhadnuté rychlosti'!A8-'reálná rychlost'!A8)/'reálná rychlost'!A8 -> 0.041666667 | B8: =('odhadnuté rychlosti'!B8-'reálná rychlost'!B8)/'reálná rychlost'!B8 -> -0.16666667 | C8: =('odhadnuté rychlosti'!C8-'reálná rychlost'!C8)/'reálná rychlost'!C8 -> 0.14583333 | D8: =('odhadnuté rychlosti'!D8-'reálná rychlost'!D8)/'reálná rychlost'!D8 -> 0.14583333 | E8: =('odhadnuté rychlosti'!E8-'reálná rychlost'!E8)/'reálná rychlost'!E8 -> -0.038461538 | F8: =('odhadnuté rychlosti'!F8-'reálná rychlost'!F8)/'reálná rychlost'!F8 -> 0.38297872 | G8: =('odhadnuté rychlosti'!G8-'reálná rychlost'!G8)/'reálná rychlost'!G8 -> 0.10638298 | H8: =('odhadnuté rychlosti'!H8-'reálná rychlost'!H8)/'reálná rychlost'!H8 -> -0.038461538 | ... M8: =('odhadnuté rychlosti'!M8-'reálná rychlost'!M8)/'reálná rychlost'!M8 -> -0.3 | N8: X | O8: X | P8: =('odhadnuté rychlosti'!P8-'reálná rychlost'!P8)/'reálná rychlost'!P8 -> 0.41509434 | Q8: =('odhadnuté rychlosti'!Q8-'reálná rychlost'!Q8)/'reálná rychlost'!Q8 -> 0.13207547 | R8: X | S8: =('odhadnuté rychlosti'!S8-'reálná rychlost'!S8)/'reálná rychlost'!S8 -> 0.6 | T8: =('odhadnuté rychlosti'!T8-'reálná rychlost'!T8)/'reálná rychlost'!T8 -> 0.31428571 | U8: =('odhadnuté rychlosti'!U8-'reálná rychlost'!U8)/'reálná rychlost'!U8 -> -0.1 | V8: BMW 530d xDrive Touring | W8: s rádiem/bez sudoku
A9: =('odhadnuté rychlosti'!A9-'reálná rychlost'!A9)/'reálná rychlost'!A9 -> 0.041666667 | B9: =('odhadnuté rychlosti'!B9-'reálná rychlost'!B9)/'reálná rychlost'!B9 -> -0.16666667 | C9: X | D9: X | E9: =('odhadnuté rychlosti'!E9-'reálná rychlost'!E9)/'reálná rychlost'!E9 -> -0.1 | F9: =('odhadnuté rychlosti'!F9-'reálná rychlost'!F9)/'reálná rychlost'!F9 -> 0.38297872 | G9: =('odhadnuté rychlosti'!G9-'reálná rychlost'!G9)/'reálná rychlost'!G9 -> 0.23404255 | H9: =('odhadnuté rychlosti'!H9-'reálná rychlost'!H9)/'reálná rychlost'!H9 -> 0 | I9: =('odhadnuté rychlosti'!I9-'reálná rychlost'!I9)/'reálná rychlost'!I9 -> -0.038461538 | J9: =('odhadnuté rychlosti'!J9-'reálná rychlost'!J9)/'reálná rychlost'!J9 -> 0.15384615 | K9: =('odhadnuté rychlosti'!K9-'reálná rychlost'!K9)/'reálná rychlost'!K9 -> 0.1 | L9: =('odhadnuté rychlosti'!L9-'reálná rychlost'!L9)/'reálná rychlost'!L9 -> 0 | M9: =('odhadnuté rychlosti'!M9-'reálná rychlost'!M9)/'reálná rychlost'!M9 -> -0.1 | N9: X | O9: X | P9: =('odhadnuté rychlosti'!P9-'reálná rychlost'!P9)/'reálná rychlost'!P9 -> 0.32653061 | Q9: =('odhadnuté rychlosti'!Q9-'reálná rychlost'!Q9)/'reálná rychlost'!Q9 -> 0.020408163 | R9: X | S9: =('odhadnuté rychlosti'!S9-'reálná rychlost'!S9)/'reálná rychlost'!S9 -> 0.23529412 | T9: =('odhadnuté rychlosti'!T9-'reálná rychlost'!T9)/'reálná rychlost'!T9 -> 0.078431373 | U9: =('odhadnuté rychlosti'!U9-'reálná rychlost'!U9)/'reálná rychlost'!U9 -> -0.14893617 | V9: BMW 530d xDrive Touring | W9: s rádiem/bez sudoku
A10: =('odhadnuté rychlosti'!A10-'reálná rychlost'!A10)/'reálná rychlost'!A10 -> 0.11764706 | B10: =('odhadnuté rychlosti'!B10-'reálná rychlost'!B10)/'reálná rychlost'!B10 -> 0 | C10: X | D10: X | E10: =('odhadnuté rychlosti'!E10-'reálná rychlost'!E10)/'reálná rychlost'!E10 -> -0.085365854 | F10: =('odhadnuté rychlosti'!F10-'reálná rychlost'!F10)/'reálná rychlost'!F10 -> 0.11764706 | G10: =('odhadnuté rychlosti'!G10-'reálná rychlost'!G10)/'reálná rychlost'!G10 -> -0.2 | H10: =('odhadnuté rychlosti'!H10-'reálná rychlost'!H10)/'reálná rychlost'!H10 -> -0.14634146 | I10: =('odhadnuté rychlosti'!I10-'reálná rychlost'!I10)/'reálná rychlost'!I10 -> -0.047619048 | J10: =('odhadnuté rychlosti'!J10-'reálná rychlost'!J10)/'reálná rychlost'!J10 -> -0.047619048 | K10: =('odhadnuté rychlosti'!K10-'reálná rychlost'!K10)/'reálná rychlost'!K10 -> -0.090909091 | L10: =('odhadnuté rychlosti'!L10-'reálná rychlost'!L10)/'reálná rychlost'!L10 -> -0.090909091 | M10: =('odhadnuté rychlosti'!M10-'reálná rychlost'!M10)/'reálná rychlost'!M10 -> -0.090909091 | N10: X | O10: X | P10: =('odhadnuté rychlosti'!P10-'reálná rychlost'!P10)/'reálná rychlost'!P10 -> 0.024096386 | Q10: =('odhadnuté rychlosti'!Q10-'reálná rychlost'!Q10)/'reálná rychlost'!Q10 -> 0.084337349 | R10: X | S10: =('odhadnuté rychlosti'!S10-'reálná rychlost'!S10)/'reálná rychlost'!S10 -> 0.15662651 | T10: =('odhadnuté rychlosti'!T10-'reálná rychlost'!T10)/'reálná rychlost'!T10 -> 0.20481928 | U10: =('odhadnuté rychlosti'!U10-'reálná rychlost'!U10)/'reálná rychlost'!U10 -> -0.066666667 | V10: BMW 530d xDrive Touring | W10: s rádiem/bez sudoku
A11: =('odhadnuté rychlosti'!A11-'reálná rychlost'!A11)/'reálná rychlost'!A11 -> -0.02173913 | B11: =('odhadnuté rychlosti'!B11-'reálná rychlost'!B11)/'reálná rychlost'!B11 -> -0.02173913 | C11: X | D11: X | E11: =('odhadnuté rychlosti'!E11-'reálná rychlost'!E11)/'reálná rychlost'!E11 -> 0 | F11: =('odhadnuté rychlosti'!F11-'reálná rychlost'!F11)/'reálná rychlost'!F11 -> 0.22222222 | G11: =('odhadnuté rychlosti'!G11-'reálná rychlost'!G11)/'reálná rychlost'!G11 -> 0.066666667 | H11: =('odhadnuté rychlosti'!H11-'reálná rychlost'!H11)/'reálná rychlost'!H11 -> 0 | I11: =('odhadnuté rychlosti'!I11-'reálná rychlost'!I11)/'reálná rychlost'!I11 -> -0.22222222 | J11: =('odhadnuté rychlosti'!J11-'reálná rychlost'!J11)/'reálná rychlost'!J11 -> 0.11111111 | K11: =('odhadnuté rychlosti'!K11-'reálná rychlost'!K11)/'reálná rychlost'!K11 -> 0.086956522 | L11: =('odhadnuté rychlosti'!L11-'reálná rychlost'!L11)/'reálná rychlost'!L11 -> 0.086956522 | M11: =('odhadnuté rychlosti'!M11-'reálná rychlost'!M11)/'reálná rychlost'!M11 -> -0.13043478 | N11: X | O11: X | P11: =('odhadnuté rychlosti'!P11-'reálná rychlost'!P11)/'reálná rychlost'!P11 -> 0.25 | Q11: =('odhadnuté rychlosti'!Q11-'reálná rychlost'!Q11)/'reálná rychlost'!Q11 -> 0.36363636 | R11: X | S11: =('odhadnuté rychlosti'!S11-'reálná rychlost'!S11)/'reálná rychlost'!S11 -> 0.17777778 | T11: =('odhadnuté rychlosti'!T11-'reálná rychlost'!T11)/'reálná rychlost'!T11 -> 0.11111111 | U11: =('odhadnuté rychlosti'!U11-'reálná rychlost'!U11)/'reálná rychlost'!U11 -> -0.22222222 | V11: BMW 530d xDrive Touring | W11: s rádiem/bez sudoku
A12: =('odhadnuté rychlosti'!A12-'reálná rychlost'!A12)/'reálná rychlost'!A12 -> 0.14285714 | B12: =('odhadnuté rychlosti'!B12-'reálná rychlost'!B12)/'reálná rychlost'!B12 -> 0.14285714 | C12: =('odhadnuté rychlosti'!C12-'reálná rychlost'!C12)/'reálná rychlost'!C12 -> 0.15942029 | D12: =('odhadnuté rychlosti'!D12-'reálná rychlost'!D12)/'reálná rychlost'!D12 -> 0.086956522 | E12: =('odhadnuté rychlosti'!E12-'reálná rychlost'!E12)/'reálná rychlost'!E12 -> 0.037735849 | F12: =('odhadnuté rychlosti'!F12-'reálná rychlost'!F12)/'reálná rychlost'!F12 -> 0.35087719 | G12: =('odhadnuté rychlosti'!G12-'reálná rychlost'!G12)/'reálná rychlost'!G12 -> 0.33333333 | H12: =('odhadnuté rychlosti'!H12-'reálná rychlost'!H12)/'reálná rychlost'!H12 -> 0.037735849 | ... M12: =('odhadnuté rychlosti'!M12-'reálná rychlost'!M12)/'reálná rychlost'!M12 -> 0.076923077 | N12: X | O12: X | P12: =('odhadnuté rychlosti'!P12-'reálná rychlost'!P12)/'reálná rychlost'!P12 -> 0.21212121 | Q12: =('odhadnuté rychlosti'!Q12-'reálná rychlost'!Q12)/'reálná rychlost'!Q12 -> 0.060606061 | R12: X | S12: =('odhadnuté rychlosti'!S12-'reálná rychlost'!S12)/'reálná rychlost'!S12 -> 0.12698413 | T12: =('odhadnuté rychlosti'!T12-'reálná rychlost'!T12)/'reálná rychlost'!T12 -> -0.015873016 | U12: =('odhadnuté rychlosti'!U12-'reálná rychlost'!U12)/'reálná rychlost'!U12 -> -0.038461538 | V12: BMW 530d xDrive Touring | W12: s rádiem/bez sudoku
A13: =('odhadnuté rychlosti'!A13-'reálná rychlost'!A13)/'reálná rychlost'!A13 -> 0.11764706 | B13: =('odhadnuté rychlosti'!B13-'reálná rychlost'!B13)/'reálná rychlost'!B13 -> 0 | C13: =('odhadnuté rychlosti'!C13-'reálná rychlost'!C13)/'reálná rychlost'!C13 -> 0.2195122 | D13: =('odhadnuté rychlosti'!D13-'reálná rychlost'!D13)/'reálná rychlost'!D13 -> 0.097560976 | E13: =('odhadnuté rychlosti'!E13-'reálná rychlost'!E13)/'reálná rychlost'!E13 -> 0.076923077 | F13: =('odhadnuté rychlosti'!F13-'reálná rychlost'!F13)/'reálná rychlost'!F13 -> 0.046511628 | G13: =('odhadnuté rychlosti'!G13-'reálná rychlost'!G13)/'reálná rychlost'!G13 -> 0.046511628 | H13: =('odhadnuté rychlosti'!H13-'reálná rychlost'!H13)/'reálná rychlost'!H13 -> 0.15384615 | ... M13: =('odhadnuté rychlosti'!M13-'reálná rychlost'!M13)/'reálná rychlost'!M13 -> 0.011904762 | N13: X | O13: X | P13: =('odhadnuté rychlosti'!P13-'reálná rychlost'!P13)/'reálná rychlost'!P13 -> 0.13924051 | Q13: =('odhadnuté rychlosti'!Q13-'reálná rychlost'!Q13)/'reálná rychlost'!Q13 -> 0.075949367 | R13: X | S13: =('odhadnuté rychlosti'!S13-'reálná rychlost'!S13)/'reálná rychlost'!S13 -> 0.04494382 | T13: =('odhadnuté rychlosti'!T13-'reálná rychlost'!T13)/'reálná rychlost'!T13 -> 0.011235955 | U13: =('odhadnuté rychlosti'!U13-'reálná rychlost'!U13)/'reálná rychlost'!U13 -> -0.027777778 | V13: BMW 530d xDrive Touring | W13: s rádiem/bez sudoku
A14: =('odhadnuté rychlosti'!A14-'reálná rychlost'!A14)/'reálná rychlost'!A14 -> 0.052631579 | B14: =('odhadnuté rychlosti'!B14-'reálná rychlost'!B14)/'reálná rychlost'!B14 -> 0.14035088 | C14: =('odhadnuté rychlosti'!C14-'reálná rychlost'!C14)/'reálná rychlost'!C14 -> 0.034482759 | D14: =('odhadnuté rychlosti'!D14-'reálná rychlost'!D14)/'reálná rychlost'!D14 -> 0.034482759 | E14: =('odhadnuté rychlosti'!E14-'reálná rychlost'!E14)/'reálná rychlost'!E14 -> -0.038461538 | F14: =('odhadnuté rychlosti'!F14-'reálná rychlost'!F14)/'reálná rychlost'!F14 -> 0.38461538 | G14: =('odhadnuté rychlosti'!G14-'reálná rychlost'!G14)/'reálná rychlost'!G14 -> 0.38461538 | H14: =('odhadnuté rychlosti'!H14-'reálná rychlost'!H14)/'reálná rychlost'!H14 -> 0.057692308 | ... J14: =('odhadnuté rychlosti'!J14-'reálná rychlost'!J14)/'reálná rychlost'!J14 -> 0.1 | K14: X | L14: X | M14: X | N14: X | O14: X | P14: =('odhadnuté rychlosti'!P14-'reálná rychlost'!P14)/'reálná rychlost'!P14 -> 0.034482759 | Q14: =('odhadnuté rychlosti'!Q14-'reálná rychlost'!Q14)/'reálná rychlost'!Q14 -> 0.034482759 | R14: X | S14: =('odhadnuté rychlosti'!S14-'reálná rychlost'!S14)/'reálná rychlost'!S14 -> 0.089285714 | T14: =('odhadnuté rychlosti'!T14-'reálná rychlost'!T14)/'reálná rychlost'!T14 -> -0.23214286 | U14: =('odhadnuté rychlosti'!U14-'reálná rychlost'!U14)/'reálná rychlost'!U14 -> -0.20289855 | V14: BMW 530d xDrive Touring | W14: s rádiem/bez sudoku
A15: =('odhadnuté rychlosti'!A15-'reálná rychlost'!A15)/'reálná rychlost'!A15 -> 0.20481928 | B15: =('odhadnuté rychlosti'!B15-'reálná rychlost'!B15)/'reálná rychlost'!B15 -> 0.3253012 | C15: =('odhadnuté rychlosti'!C15-'reálná rychlost'!C15)/'reálná rychlost'!C15 -> 0.11111111 | D15: =('odhadnuté rychlosti'!D15-'reálná rychlost'!D15)/'reálná rychlost'!D15 -> -0.090909091 | E15: =('odhadnuté rychlosti'!E15-'reálná rychlost'!E15)/'reálná rychlost'!E15 -> 0.18556701 | F15: =('odhadnuté rychlosti'!F15-'reálná rychlost'!F15)/'reálná rychlost'!F15 -> 0.078431373 | G15: =('odhadnuté rychlosti'!G15-'reálná rychlost'!G15)/'reálná rychlost'!G15 -> 0.12745098 | H15: =('odhadnuté rychlosti'!H15-'reálná rychlost'!H15)/'reálná rychlost'!H15 -> 0.28865979 | ... M15: =('odhadnuté rychlosti'!M15-'reálná rychlost'!M15)/'reálná rychlost'!M15 -> -0.10891089 | N15: X | O15: X | P15: =('odhadnuté rychlosti'!P15-'reálná rychlost'!P15)/'reálná rychlost'!P15 -> 0.15 | Q15: =('odhadnuté rychlosti'!Q15-'reálná rychlost'!Q15)/'reálná rychlost'!Q15 -> 0.1 | R15: X | S15: =('odhadnuté rychlosti'!S15-'reálná rychlost'!S15)/'reálná rychlost'!S15 -> 0.29 | T15: =('odhadnuté rychlosti'!T15-'reálná rychlost'!T15)/'reálná rychlost'!T15 -> 0.05 | U15: =('odhadnuté rychlosti'!U15-'reálná rychlost'!U15)/'reálná rychlost'!U15 -> -0.17525773 | V15: BMW 530d xDrive Touring | W15: s rádiem/bez sudoku
A16: =('odhadnuté rychlosti'!A16-'reálná rychlost'!A16)/'reálná rychlost'!A16 -> 0.048387097 | B16: =('odhadnuté rychlosti'!B16-'reálná rychlost'!B16)/'reálná rychlost'!B16 -> 0.048387097 | C16: =('odhadnuté rychlosti'!C16-'reálná rychlost'!C16)/'reálná rychlost'!C16 -> 0.031746032 | D16: =('odhadnuté rychlosti'!D16-'reálná rychlost'!D16)/'reálná rychlost'!D16 -> -0.047619048 | E16: =('odhadnuté rychlosti'!E16-'reálná rychlost'!E16)/'reálná rychlost'!E16 -> -0.038461538 | F16: =('odhadnuté rychlosti'!F16-'reálná rychlost'!F16)/'reálná rychlost'!F16 -> 0.031746032 | G16: =('odhadnuté rychlosti'!G16-'reálná rychlost'!G16)/'reálná rychlost'!G16 -> 0.055555556 | H16: =('odhadnuté rychlosti'!H16-'reálná rychlost'!H16)/'reálná rychlost'!H16 -> 0 | ... M16: =('odhadnuté rychlosti'!M16-'reálná rychlost'!M16)/'reálná rychlost'!M16 -> 0 | N16: X | O16: X | P16: =('odhadnuté rychlosti'!P16-'reálná rychlost'!P16)/'reálná rychlost'!P16 -> 0.062992126 | Q16: =('odhadnuté rychlosti'!Q16-'reálná rychlost'!Q16)/'reálná rychlost'!Q16 -> 0.023622047 | R16: X | S16: =('odhadnuté rychlosti'!S16-'reálná rychlost'!S16)/'reálná rychlost'!S16 -> 0.10569106 | T16: =('odhadnuté rychlosti'!T16-'reálná rychlost'!T16)/'reálná rychlost'!T16 -> 0.089430894 | U16: =('odhadnuté rychlosti'!U16-'reálná rychlost'!U16)/'reálná rychlost'!U16 -> -0.04 | V16: BMW 530d xDrive Touring | W16: s rádiem/bez sudoku
A17: X | B17: X | C17: =('odhadnuté rychlosti'!C17-'reálná rychlost'!C17)/'reálná rychlost'!C17 -> 0.043478261 | D17: =('odhadnuté rychlosti'!D17-'reálná rychlost'!D17)/'reálná rychlost'!D17 -> 0.043478261 | E17: X | F17: X | G17: X | H17: X | I17: =('odhadnuté rychlosti'!I17-'reálná rychlost'!I17)/'reálná rychlost'!I17 -> -0.017094017 | J17: =('odhadnuté rychlosti'!J17-'reálná rychlost'!J17)/'reálná rychlost'!J17 -> 0.11111111 | K17: =('odhadnuté rychlosti'!K17-'reálná rychlost'!K17)/'reálná rychlost'!K17 -> 0.18181818 | L17: =('odhadnuté rychlosti'!L17-'reálná rychlost'!L17)/'reálná rychlost'!L17 -> 0.18181818 | M17: =('odhadnuté rychlosti'!M17-'reálná rychlost'!M17)/'reálná rychlost'!M17 -> 0.045454545 | N17: X | O17: X | P17: =('odhadnuté rychlosti'!P17-'reálná rychlost'!P17)/'reálná rychlost'!P17 -> 0.18421053 | Q17: =('odhadnuté rychlosti'!Q17-'reálná rychlost'!Q17)/'reálná rychlost'!Q17 -> 0.052631579 | R17: X | S17: =('odhadnuté rychlosti'!S17-'reálná rychlost'!S17)/'reálná rychlost'!S17 -> 0.14782609 | T17: =('odhadnuté rychlosti'!T17-'reálná rychlost'!T17)/'reálná rychlost'!T17 -> 0.043478261 | U17: =('odhadnuté rychlosti'!U17-'reálná rychlost'!U17)/'reálná rychlost'!U17 -> -0.035087719 | V17: BMW 530d xDrive Touring | W17: s rádiem/bez sudoku
A18: =('odhadnuté rychlosti'!A18-'reálná rychlost'!A18)/'reálná rychlost'!A18 -> 0.14942529 | B18: =('odhadnuté rychlosti'!B18-'reálná rychlost'!B18)/'reálná rychlost'!B18 -> 0.034482759 | C18: =('odhadnuté rychlosti'!C18-'reálná rychlost'!C18)/'reálná rychlost'!C18 -> -0.02173913 | D18: =('odhadnuté rychlosti'!D18-'reálná rychlost'!D18)/'reálná rychlost'!D18 -> 0.032608696 | E18: =('odhadnuté rychlosti'!E18-'reálná rychlost'!E18)/'reálná rychlost'!E18 -> 0.034482759 | F18: =('odhadnuté rychlosti'!F18-'reálná rychlost'!F18)/'reálná rychlost'!F18 -> 0.091954023 | G18: =('odhadnuté rychlosti'!G18-'reálná rychlost'!G18)/'reálná rychlost'!G18 -> 0.26436782 | H18: =('odhadnuté rychlosti'!H18-'reálná rychlost'!H18)/'reálná rychlost'!H18 -> -0.08045977 | ... U18: =('odhadnuté rychlosti'!U18-'reálná rychlost'!U18)/'reálná rychlost'!U18 -> -0.10714286 | V18: BMW 530d xDrive Touring | W18: s rádiem/bez sudoku
A19: =('odhadnuté rychlosti'!A19-'reálná rychlost'!A19)/'reálná rychlost'!A19 -> -0.019607843 | B19: =('odhadnuté rychlosti'!B19-'reálná rychlost'!B19)/'reálná rychlost'!B19 -> 0.2745098 | C19: =('odhadnuté rychlosti'!C19-'reálná rychlost'!C19)/'reálná rychlost'!C19 -> 0.2 | D19: =('odhadnuté rychlosti'!D19-'reálná rychlost'!D19)/'reálná rychlost'!D19 -> 0.1 | E19: =('odhadnuté rychlosti'!E19-'reálná rychlost'!E19)/'reálná rychlost'!E19 -> 0 | F19: =('odhadnuté rychlosti'!F19-'reálná rychlost'!F19)/'reálná rychlost'!F19 -> 0.20930233 | G19: =('odhadnuté rychlosti'!G19-'reálná rychlost'!G19)/'reálná rychlost'!G19 -> 0.1627907 | H19: =('odhadnuté rychlosti'!H19-'reálná rychlost'!H19)/'reálná rychlost'!H19 -> -0.22222222 | ... O19: =('odhadnuté rychlosti'!O19-'reálná rychlost'!O19)/'reálná rychlost'!O19 -> -0.27083333 | P19: X | Q19: X | R19: =('odhadnuté rychlosti'!R19-'reálná rychlost'!R19)/'reálná rychlost'!R19 -> 0.041666667 | S19: =('odhadnuté rychlosti'!S19-'reálná rychlost'!S19)/'reálná rychlost'!S19 -> 0.54347826 | T19: =('odhadnuté rychlosti'!T19-'reálná rychlost'!T19)/'reálná rychlost'!T19 -> -0.13043478 | U19: =('odhadnuté rychlosti'!U19-'reálná rychlost'!U19)/'reálná rychlost'!U19 -> -0.24528302 | V19: BMW 530d xDrive Touring | W19: s rádiem/bez sudoku
A21: =('odhadnuté rychlosti'!A21-'reálná rychlost'!A21)/'reálná rychlost'!A21 -> -0.18918919 | B21: =('odhadnuté rychlosti'!B21-'reálná rychlost'!B21)/'reálná rychlost'!B21 -> -0.59459459 | C21: =('odhadnuté rychlosti'!C21-'reálná rychlost'!C21)/'reálná rychlost'!C21 -> -0.4 | D21: =('odhadnuté rychlosti'!D21-'reálná rychlost'!D21)/'reálná rychlost'!D21 -> -0.2 | E21: =('odhadnuté rychlosti'!E21-'reálná rychlost'!E21)/'reálná rychlost'!E21 -> 0.097560976 | F21: =('odhadnuté rychlosti'!F21-'reálná rychlost'!F21)/'reálná rychlost'!F21 -> 0.18421053 | G21: =('odhadnuté rychlosti'!G21-'reálná rychlost'!G21)/'reálná rychlost'!G21 -> 0.31578947 | H21: =('odhadnuté rychlosti'!H21-'reálná rychlost'!H21)/'reálná rychlost'!H21 -> -0.024390244 | ... U21: =('odhadnuté rychlosti'!U21-'reálná rychlost'!U21)/'reálná rychlost'!U21 -> -0.32432432 | V21: BMW 530d xDrive Touring | W21: Bez rádia/se sudoku
A22: =('odhadnuté rychlosti'!A22-'reálná rychlost'!A22)/'reálná rychlost'!A22 -> -0.41176471 | B22: =('odhadnuté rychlosti'!B22-'reálná rychlost'!B22)/'reálná rychlost'!B22 -> -0.60784314 | C22: =('odhadnuté rychlosti'!C22-'reálná rychlost'!C22)/'reálná rychlost'!C22 -> -0.056603774 | D22: =('odhadnuté rychlosti'!D22-'reálná rychlost'!D22)/'reálná rychlost'!D22 -> 0.037735849 | E22: =('odhadnuté rychlosti'!E22-'reálná rychlost'!E22)/'reálná rychlost'!E22 -> 0 | F22: =('odhadnuté rychlosti'!F22-'reálná rychlost'!F22)/'reálná rychlost'!F22 -> 0.057692308 | G22: =('odhadnuté rychlosti'!G22-'reálná rychlost'!G22)/'reálná rychlost'!G22 -> 0.019230769 | H22: =('odhadnuté rychlosti'!H22-'reálná rychlost'!H22)/'reálná rychlost'!H22 -> -0.1 | ... U22: =('odhadnuté rychlosti'!U22-'reálná rychlost'!U22)/'reálná rychlost'!U22 -> -0.2 | V22: BMW 530d xDrive Touring | W22: Bez rádia/se sudoku
A23: =('odhadnuté rychlosti'!A23-'reálná rychlost'!A23)/'reálná rychlost'!A23 -> 0.25 | B23: =('odhadnuté rychlosti'!B23-'reálná rychlost'!B23)/'reálná rychlost'!B23 -> -0.25 | C23: =('odhadnuté rychlosti'!C23-'reálná rychlost'!C23)/'reálná rychlost'!C23 -> 0 | D23: =('odhadnuté rychlosti'!D23-'reálná rychlost'!D23)/'reálná rychlost'!D23 -> 0 | E23: =('odhadnuté rychlosti'!E23-'reálná rychlost'!E23)/'reálná rychlost'!E23 -> 0.28571429 | F23: =('odhadnuté rychlosti'!F23-'reálná rychlost'!F23)/'reálná rychlost'!F23 -> 0.76470588 | G23: =('odhadnuté rychlosti'!G23-'reálná rychlost'!G23)/'reálná rychlost'!G23 -> 0.17647059 | H23: =('odhadnuté rychlosti'!H23-'reálná rychlost'!H23)/'reálná rychlost'!H23 -> -0.14285714 | ... U23: =('odhadnuté rychlosti'!U23-'reálná rychlost'!U23)/'reálná rychlost'!U23 -> -0.11111111 | V23: BMW 530d xDrive Touring | W23: Bez rádia/se sudoku
A24: =('odhadnuté rychlosti'!A24-'reálná rychlost'!A24)/'reálná rychlost'!A24 -> -0.090909091 | B24: =('odhadnuté rychlosti'!B24-'reálná rychlost'!B24)/'reálná rychlost'!B24 -> -0.090909091 | C24: =('odhadnuté rychlosti'!C24-'reálná rychlost'!C24)/'reálná rychlost'!C24 -> 0.17647059 | D24: =('odhadnuté rychlosti'!D24-'reálná rychlost'!D24)/'reálná rychlost'!D24 -> 0.17647059 | E24: =('odhadnuté rychlosti'!E24-'reálná rychlost'!E24)/'reálná rychlost'!E24 -> 0.044776119 | F24: =('odhadnuté rychlosti'!F24-'reálná rychlost'!F24)/'reálná rychlost'!F24 -> 0.30434783 | G24: =('odhadnuté rychlosti'!G24-'reálná rychlost'!G24)/'reálná rychlost'!G24 -> 0.1884058 | H24: =('odhadnuté rychlosti'!H24-'reálná rychlost'!H24)/'reálná rychlost'!H24 -> 0.11940299 | ... U24: =('odhadnuté rychlosti'!U24-'reálná rychlost'!U24)/'reálná rychlost'!U24 -> -0.097222222 | V24: BMW 530d xDrive Touring | W24: Bez rádia/se sudoku
A25: =('odhadnuté rychlosti'!A25-'reálná rychlost'!A25)/'reálná rychlost'!A25 -> 0.034482759 | B25: =('odhadnuté rychlosti'!B25-'reálná rychlost'!B25)/'reálná rychlost'!B25 -> -0.08045977 | C25: =('odhadnuté rychlosti'!C25-'reálná rychlost'!C25)/'reálná rychlost'!C25 -> 0.14942529 | D25: =('odhadnuté rychlosti'!D25-'reálná rychlost'!D25)/'reálná rychlost'!D25 -> 0.034482759 | E25: =('odhadnuté rychlosti'!E25-'reálná rychlost'!E25)/'reálná rychlost'!E25 -> 0.011904762 | F25: =('odhadnuté rychlosti'!F25-'reálná rychlost'!F25)/'reálná rychlost'!F25 -> 0.046511628 | G25: =('odhadnuté rychlosti'!G25-'reálná rychlost'!G25)/'reálná rychlost'!G25 -> 0.023255814 | H25: =('odhadnuté rychlosti'!H25-'reálná rychlost'!H25)/'reálná rychlost'!H25 -> 0.011904762 | ... U25: =('odhadnuté rychlosti'!U25-'reálná rychlost'!U25)/'reálná rychlost'!U25 -> -0.13043478 | V25: BMW 530d xDrive Touring | W25: Bez rádia/se sudoku
A26: =('odhadnuté rychlosti'!A26-'reálná rychlost'!A26)/'reálná rychlost'!A26 -> 0.4516129 | B26: =('odhadnuté rychlosti'!B26-'reálná rychlost'!B26)/'reálná rychlost'!B26 -> 0.12903226 | C26: =('odhadnuté rychlosti'!C26-'reálná rychlost'!C26)/'reálná rychlost'!C26 -> 0.29032258 | D26: =('odhadnuté rychlosti'!D26-'reálná rychlost'!D26)/'reálná rychlost'!D26 -> 0.29032258 | E26: =('odhadnuté rychlosti'!E26-'reálná rychlost'!E26)/'reálná rychlost'!E26 -> 0.48148148 | F26: =('odhadnuté rychlosti'!F26-'reálná rychlost'!F26)/'reálná rychlost'!F26 -> 0.73333333 | G26: =('odhadnuté rychlosti'!G26-'reálná rychlost'!G26)/'reálná rychlost'!G26 -> 0.33333333 | H26: =('odhadnuté rychlosti'!H26-'reálná rychlost'!H26)/'reálná rychlost'!H26 -> 0.48148148 | ... U26: =('odhadnuté rychlosti'!U26-'reálná rychlost'!U26)/'reálná rychlost'!U26 -> 0.25 | V26: BMW 530d xDrive Touring | W26: Bez rádia/se sudoku
A27: =('odhadnuté rychlosti'!A27-'reálná rychlost'!A27)/'reálná rychlost'!A27 -> 0.078431373 | B27: =('odhadnuté rychlosti'!B27-'reálná rychlost'!B27)/'reálná rychlost'!B27 -> -0.019607843 | C27: =('odhadnuté rychlosti'!C27-'reálná rychlost'!C27)/'reálná rychlost'!C27 -> -0.056603774 | D27: =('odhadnuté rychlosti'!D27-'reálná rychlost'!D27)/'reálná rychlost'!D27 -> 0.037735849 | E27: =('odhadnuté rychlosti'!E27-'reálná rychlost'!E27)/'reálná rychlost'!E27 -> 0.020408163 | F27: =('odhadnuté rychlosti'!F27-'reálná rychlost'!F27)/'reálná rychlost'!F27 -> 0.27659574 | G27: =('odhadnuté rychlosti'!G27-'reálná rychlost'!G27)/'reálná rychlost'!G27 -> -0.042553191 | H27: =('odhadnuté rychlosti'!H27-'reálná rychlost'!H27)/'reálná rychlost'!H27 -> 0.020408163 | ... U27: =('odhadnuté rychlosti'!U27-'reálná rychlost'!U27)/'reálná rychlost'!U27 -> 0 | V27: BMW 530d xDrive Touring | W27: Bez rádia/se sudoku
A28: =('odhadnuté rychlosti'!A28-'reálná rychlost'!A28)/'reálná rychlost'!A28 -> 0.041666667 | B28: =('odhadnuté rychlosti'!B28-'reálná rychlost'!B28)/'reálná rychlost'!B28 -> -0.16666667 | C28: =('odhadnuté rychlosti'!C28-'reálná rychlost'!C28)/'reálná rychlost'!C28 -> 0.52173913 | D28: =('odhadnuté rychlosti'!D28-'reálná rychlost'!D28)/'reálná rychlost'!D28 -> 0.30434783 | E28: =('odhadnuté rychlosti'!E28-'reálná rychlost'!E28)/'reálná rychlost'!E28 -> 0.14583333 | F28: =('odhadnuté rychlosti'!F28-'reálná rychlost'!F28)/'reálná rychlost'!F28 -> 0.42857143 | G28: =('odhadnuté rychlosti'!G28-'reálná rychlost'!G28)/'reálná rychlost'!G28 -> 0.12244898 | H28: =('odhadnuté rychlosti'!H28-'reálná rychlost'!H28)/'reálná rychlost'!H28 -> 0.041666667 | ... U28: =('odhadnuté rychlosti'!U28-'reálná rychlost'!U28)/'reálná rychlost'!U28 -> 0.022727273 | V28: BMW 530d xDrive Touring | W28: Bez rádia/se sudoku
A29: =('odhadnuté rychlosti'!A29-'reálná rychlost'!A29)/'reálná rychlost'!A29 -> 0.058823529 | B29: =('odhadnuté rychlosti'!B29-'reálná rychlost'!B29)/'reálná rychlost'!B29 -> 0 | C29: =('odhadnuté rychlosti'!C29-'reálná rychlost'!C29)/'reálná rychlost'!C29 -> 0.38888889 | D29: =('odhadnuté rychlosti'!D29-'reálná rychlost'!D29)/'reálná rychlost'!D29 -> 0.25 | E29: =('odhadnuté rychlosti'!E29-'reálná rychlost'!E29)/'reálná rychlost'!E29 -> -0.1011236 | F29: =('odhadnuté rychlosti'!F29-'reálná rychlost'!F29)/'reálná rychlost'!F29 -> 0.10465116 | G29: =('odhadnuté rychlosti'!G29-'reálná rychlost'!G29)/'reálná rychlost'!G29 -> -0.046511628 | H29: =('odhadnuté rychlosti'!H29-'reálná rychlost'!H29)/'reálná rychlost'!H29 -> 0.011235955 | ... U29: =('odhadnuté rychlosti'!U29-'reálná rychlost'!U29)/'reálná rychlost'!U29 -> -0.15662651 | V29: BMW 530d xDrive Touring | W29: Bez rádia/se sudoku
A30: =('odhadnuté rychlosti'!A30-'reálná rychlost'!A30)/'reálná rychlost'!A30 -> 0.19047619 | B30: =('odhadnuté rychlosti'!B30-'reálná rychlost'!B30)/'reálná rychlost'!B30 -> -0.047619048 | C30: =('odhadnuté rychlosti'!C30-'reálná rychlost'!C30)/'reálná rychlost'!C30 -> 0.052631579 | D30: =('odhadnuté rychlosti'!D30-'reálná rychlost'!D30)/'reálná rychlost'!D30 -> 0.31578947 | E30: =('odhadnuté rychlosti'!E30-'reálná rychlost'!E30)/'reálná rychlost'!E30 -> -0.02173913 | F30: =('odhadnuté rychlosti'!F30-'reálná rychlost'!F30)/'reálná rychlost'!F30 -> 0.2244898 | G30: =('odhadnuté rychlosti'!G30-'reálná rychlost'!G30)/'reálná rychlost'!G30 -> -0.040816327 | H30: =('odhadnuté rychlosti'!H30-'reálná rychlost'!H30)/'reálná rychlost'!H30 -> 0.086956522 | ... U30: =('odhadnuté rychlosti'!U30-'reálná rychlost'!U30)/'reálná rychlost'!U30 -> -0.16666667 | V30: BMW 530d xDrive Touring | W30: Bez rádia/se sudoku
A31: =('odhadnuté rychlosti'!A31-'reálná rychlost'!A31)/'reálná rychlost'!A31 -> 0.15942029 | B31: =('odhadnuté rychlosti'!B31-'reálná rychlost'!B31)/'reálná rychlost'!B31 -> 0.014492754 | C31: =('odhadnuté rychlosti'!C31-'reálná rychlost'!C31)/'reálná rychlost'!C31 -> -0.10447761 | D31: =('odhadnuté rychlosti'!D31-'reálná rychlost'!D31)/'reálná rychlost'!D31 -> 0.34328358 | E31: =('odhadnuté rychlosti'!E31-'reálná rychlost'!E31)/'reálná rychlost'!E31 -> 0.11111111 | F31: =('odhadnuté rychlosti'!F31-'reálná rychlost'!F31)/'reálná rychlost'!F31 -> 0.076923077 | G31: =('odhadnuté rychlosti'!G31-'reálná rychlost'!G31)/'reálná rychlost'!G31 -> 0.18461538 | H31: =('odhadnuté rychlosti'!H31-'reálná rychlost'!H31)/'reálná rychlost'!H31 -> 0.11111111 | ... U31: =('odhadnuté rychlosti'!U31-'reálná rychlost'!U31)/'reálná rychlost'!U31 -> -0.035087719 | V31: BMW 530d xDrive Touring | W31: Bez rádia/se sudoku
A32: =('odhadnuté rychlosti'!A32-'reálná rychlost'!A32)/'reálná rychlost'!A32 -> 0.11111111 | B32: =('odhadnuté rychlosti'!B32-'reálná rychlost'!B32)/'reálná rychlost'!B32 -> 0.11111111 | C32: =('odhadnuté rychlosti'!C32-'reálná rychlost'!C32)/'reálná rychlost'!C32 -> 0.2 | D32: =('odhadnuté rychlosti'!D32-'reálná rychlost'!D32)/'reálná rychlost'!D32 -> 0.33333333 | E32: =('odhadnuté rychlosti'!E32-'reálná rychlost'!E32)/'reálná rychlost'!E32 -> -0.011627907 | F32: =('odhadnuté rychlosti'!F32-'reálná rychlost'!F32)/'reálná rychlost'!F32 -> 0.035294118 | G32: =('odhadnuté rychlosti'!G32-'reálná rychlost'!G32)/'reálná rychlost'!G32 -> 0 | H32: =('odhadnuté rychlosti'!H32-'reálná rychlost'!H32)/'reálná rychlost'!H32 -> 0.046511628 | ... U32: =('odhadnuté rychlosti'!U32-'reálná rychlost'!U32)/'reálná rychlost'!U32 -> -0.125 | V32: BMW 530d xDrive Touring | W32: Bez rádia/se sudoku
... A44: =('odhadnuté rychlosti'!A44-'reálná rychlost'!A44)/'reálná rychlost'!A44 -> 0.046511628 | B44: =('odhadnuté rychlosti'!B44-'reálná rychlost'!B44)/'reálná rychlost'!B44 -> 0.046511628 | C44: =('odhadnuté rychlosti'!C44-'reálná rychlost'!C44)/'reálná rychlost'!C44 -> 0 | D44: =('odhadnuté rychlosti'!D44-'reálná rychlost'!D44)/'reálná rychlost'!D44 -> -0.11111111 | E44: =('odhadnuté rychlosti'!E44-'reálná rychlost'!E44)/'reálná rychlost'!E44 -> 0.091954023 | F44: =('odhadnuté rychlosti'!F44-'reálná rychlost'!F44)/'reálná rychlost'!F44 -> 0.19318182 | G44: =('odhadnuté rychlosti'!G44-'reálná rychlost'!G44)/'reálná rychlost'!G44 -> 0.13636364 | H44: =('odhadnuté rychlosti'!H44-'reálná rychlost'!H44)/'reálná rychlost'!H44 -> 0.034482759 | ... U44: =('odhadnuté rychlosti'!U44-'reálná rychlost'!U44)/'reálná rychlost'!U44 -> 0.022727273 | V44: BMW X3 | W44: s rádiem/bez sudoku
A45: X | B45: X | C45: =('odhadnuté rychlosti'!C45-'reálná rychlost'!C45)/'reálná rychlost'!C45 -> 0.37931034 | D45: =('odhadnuté rychlosti'!D45-'reálná rychlost'!D45)/'reálná rychlost'!D45 -> 0.37931034 | E45: =('odhadnuté rychlosti'!E45-'reálná rychlost'!E45)/'reálná rychlost'!E45 -> 0.20689655 | F45: =('odhadnuté rychlosti'!F45-'reálná rychlost'!F45)/'reálná rychlost'!F45 -> 0.66666667 | G45: =('odhadnuté rychlosti'!G45-'reálná rychlost'!G45)/'reálná rychlost'!G45 -> 0.26666667 | H45: =('odhadnuté rychlosti'!H45-'reálná rychlost'!H45)/'reálná rychlost'!H45 -> 0.20689655 | I45: =('odhadnuté rychlosti'!I45-'reálná rychlost'!I45)/'reálná rychlost'!I45 -> 0.33333333 | J45: =('odhadnuté rychlosti'!J45-'reálná rychlost'!J45)/'reálná rychlost'!J45 -> 0.33333333 | ... U45: =('odhadnuté rychlosti'!U45-'reálná rychlost'!U45)/'reálná rychlost'!U45 -> 0.09375 | V45: BMW X3 | W45: s rádiem/bez sudoku
A46: =('odhadnuté rychlosti'!A46-'reálná rychlost'!A46)/'reálná rychlost'!A46 -> 0.041666667 | B46: =('odhadnuté rychlosti'!B46-'reálná rychlost'!B46)/'reálná rychlost'!B46 -> -0.16666667 | C46: =('odhadnuté rychlosti'!C46-'reálná rychlost'!C46)/'reálná rychlost'!C46 -> 0.063829787 | D46: =('odhadnuté rychlosti'!D46-'reálná rychlost'!D46)/'reálná rychlost'!D46 -> 0.063829787 | E46: =('odhadnuté rychlosti'!E46-'reálná rychlost'!E46)/'reálná rychlost'!E46 -> 0.063829787 | F46: =('odhadnuté rychlosti'!F46-'reálná rychlost'!F46)/'reálná rychlost'!F46 -> 0.30769231 | G46: =('odhadnuté rychlosti'!G46-'reálná rychlost'!G46)/'reálná rychlost'!G46 -> 0.019230769 | H46: =('odhadnuté rychlosti'!H46-'reálná rychlost'!H46)/'reálná rychlost'!H46 -> 0.063829787 | ... U46: =('odhadnuté rychlosti'!U46-'reálná rychlost'!U46)/'reálná rychlost'!U46 -> -0.0625 | V46: BMW X3 | W46: s rádiem/bez sudoku
A47: X | B47: X | C47: =('odhadnuté rychlosti'!C47-'reálná rychlost'!C47)/'reálná rychlost'!C47 -> 0.041666667 | D47: =('odhadnuté rychlosti'!D47-'reálná rychlost'!D47)/'reálná rychlost'!D47 -> 0.25 | E47: =('odhadnuté rychlosti'!E47-'reálná rychlost'!E47)/'reálná rychlost'!E47 -> 0.14583333 | F47: =('odhadnuté rychlosti'!F47-'reálná rychlost'!F47)/'reálná rychlost'!F47 -> 0.3 | G47: =('odhadnuté rychlosti'!G47-'reálná rychlost'!G47)/'reálná rychlost'!G47 -> 0 | H47: =('odhadnuté rychlosti'!H47-'reálná rychlost'!H47)/'reálná rychlost'!H47 -> -0.0625 | I47: =('odhadnuté rychlosti'!I47-'reálná rychlost'!I47)/'reálná rychlost'!I47 -> -0.2 | J47: =('odhadnuté rychlosti'!J47-'reálná rychlost'!J47)/'reálná rychlost'!J47 -> 0.2 | ... U47: =('odhadnuté rychlosti'!U47-'reálná rychlost'!U47)/'reálná rychlost'!U47 -> -0.2 | V47: BMW X3 | W47: s rádiem/bez sudoku
A48: X | B48: X | C48: =('odhadnuté rychlosti'!C48-'reálná rychlost'!C48)/'reálná rychlost'!C48 -> 0.097560976 | D48: =('odhadnuté rychlosti'!D48-'reálná rychlost'!D48)/'reálná rychlost'!D48 -> -0.024390244 | E48: =('odhadnuté rychlosti'!E48-'reálná rychlost'!E48)/'reálná rychlost'!E48 -> -0.036144578 | F48: =('odhadnuté rychlosti'!F48-'reálná rychlost'!F48)/'reálná rychlost'!F48 -> 0.19230769 | G48: =('odhadnuté rychlosti'!G48-'reálná rychlost'!G48)/'reálná rychlost'!G48 -> 0.051282051 | H48: =('odhadnuté rychlosti'!H48-'reálná rychlost'!H48)/'reálná rychlost'!H48 -> -0.036144578 | I48: =('odhadnuté rychlosti'!I48-'reálná rychlost'!I48)/'reálná rychlost'!I48 -> 0.011904762 | J48: =('odhadnuté rychlosti'!J48-'reálná rychlost'!J48)/'reálná rychlost'!J48 -> 0.071428571 | ... U48: =('odhadnuté rychlosti'!U48-'reálná rychlost'!U48)/'reálná rychlost'!U48 -> -0.0625 | V48: BMW X3 | W48: s rádiem/bez sudoku
A49: X | B49: X | C49: =('odhadnuté rychlosti'!C49-'reálná rychlost'!C49)/'reálná rychlost'!C49 -> 0.11111111 | D49: =('odhadnuté rychlosti'!D49-'reálná rychlost'!D49)/'reálná rychlost'!D49 -> 0.22222222 | E49: =('odhadnuté rychlosti'!E49-'reálná rychlost'!E49)/'reálná rychlost'!E49 -> 0.046511628 | F49: =('odhadnuté rychlosti'!F49-'reálná rychlost'!F49)/'reálná rychlost'!F49 -> 0.37777778 | G49: =('odhadnuté rychlosti'!G49-'reálná rychlost'!G49)/'reálná rychlost'!G49 -> 0 | H49: =('odhadnuté rychlosti'!H49-'reálná rychlost'!H49)/'reálná rychlost'!H49 -> 0.046511628 | I49: =('odhadnuté rychlosti'!I49-'reálná rychlost'!I49)/'reálná rychlost'!I49 -> -0.22222222 | J49: =('odhadnuté rychlosti'!J49-'reálná rychlost'!J49)/'reálná rychlost'!J49 -> 0.11111111 | ... U49: =('odhadnuté rychlosti'!U49-'reálná rychlost'!U49)/'reálná rychlost'!U49 -> -0.090909091 | V49: BMW X3 | W49: s rádiem/bez sudoku
A50: =('odhadnuté rychlosti'!A50-'reálná rychlost'!A50)/'reálná rychlost'!A50 -> 0.15942029 | B50: =('odhadnuté rychlosti'!B50-'reálná rychlost'!B50)/'reálná rychlost'!B50 -> 0.014492754 | C50: =('odhadnuté rychlosti'!C50-'reálná rychlost'!C50)/'reálná rychlost'!C50 -> 0 | D50: =('odhadnuté rychlosti'!D50-'reálná rychlost'!D50)/'reálná rychlost'!D50 -> -0.28571429 | E50: =('odhadnuté rychlosti'!E50-'reálná rychlost'!E50)/'reálná rychlost'!E50 -> 0.12903226 | F50: =('odhadnuté rychlosti'!F50-'reálná rychlost'!F50)/'reálná rychlost'!F50 -> 0.12903226 | G50: =('odhadnuté rychlosti'!G50-'reálná rychlost'!G50)/'reálná rychlost'!G50 -> 0.22580645 | H50: =('odhadnuté rychlosti'!H50-'reálná rychlost'!H50)/'reálná rychlost'!H50 -> 0.12903226 | ... U50: =('odhadnuté rychlosti'!U50-'reálná rychlost'!U50)/'reálná rychlost'!U50 -> -0.0625 | V50: BMW X3 | W50: s rádiem/bez sudoku
A51: =('odhadnuté rychlosti'!A51-'reálná rychlost'!A51)/'reálná rychlost'!A51 -> 0.2195122 | B51: =('odhadnuté rychlosti'!B51-'reálná rychlost'!B51)/'reálná rychlost'!B51 -> 0.097560976 | C51: =('odhadnuté rychlosti'!C51-'reálná rychlost'!C51)/'reálná rychlost'!C51 -> 0.071428571 | D51: =('odhadnuté rychlosti'!D51-'reálná rychlost'!D51)/'reálná rychlost'!D51 -> -0.047619048 | E51: =('odhadnuté rychlosti'!E51-'reálná rychlost'!E51)/'reálná rychlost'!E51 -> 0.049382716 | F51: =('odhadnuté rychlosti'!F51-'reálná rychlost'!F51)/'reálná rychlost'!F51 -> 0.21212121 | G51: =('odhadnuté rychlosti'!G51-'reálná rychlost'!G51)/'reálná rychlost'!G51 -> 0.21212121 | H51: =('odhadnuté rychlosti'!H51-'reálná rychlost'!H51)/'reálná rychlost'!H51 -> 0.049382716 | ... U51: =('odhadnuté rychlosti'!U51-'reálná rychlost'!U51)/'reálná rychlost'!U51 -> -0.08045977 | V51: BMW X3 | W51: s rádiem/bez sudoku
A52: =('odhadnuté rychlosti'!A52-'reálná rychlost'!A52)/'reálná rychlost'!A52 -> 0.034482759 | B52: =('odhadnuté rychlosti'!B52-'reálná rychlost'!B52)/'reálná rychlost'!B52 -> 0.20689655 | C52: =('odhadnuté rychlosti'!C52-'reálná rychlost'!C52)/'reálná rychlost'!C52 -> 0.016949153 | D52: =('odhadnuté rychlosti'!D52-'reálná rychlost'!D52)/'reálná rychlost'!D52 -> 0.27118644 | E52: =('odhadnuté rychlosti'!E52-'reálná rychlost'!E52)/'reálná rychlost'!E52 -> 0.12068966 | F52: =('odhadnuté rychlosti'!F52-'reálná rychlost'!F52)/'reálná rychlost'!F52 -> 0.32075472 | G52: =('odhadnuté rychlosti'!G52-'reálná rychlost'!G52)/'reálná rychlost'!G52 -> 0.16981132 | H52: =('odhadnuté rychlosti'!H52-'reálná rychlost'!H52)/'reálná rychlost'!H52 -> 0.034482759 | I52: X | J52: X | K52: =('odhadnuté rychlosti'!K52-'reálná rychlost'!K52)/'reálná rychlost'!K52 -> 0.11111111 | L52: =('odhadnuté rychlosti'!L52-'reálná rychlost'!L52)/'reálná rychlost'!L52 -> 0.2962963 | M52: =('odhadnuté rychlosti'!M52-'reálná rychlost'!M52)/'reálná rychlost'!M52 -> -0.25925926 | N52: =('odhadnuté rychlosti'!N52-'reálná rychlost'!N52)/'reálná rychlost'!N52 -> -0.13793103 | O52: =('odhadnuté rychlosti'!O52-'reálná rychlost'!O52)/'reálná rychlost'!O52 -> -0.13793103 | P52: =('odhadnuté rychlosti'!P52-'reálná rychlost'!P52)/'reálná rychlost'!P52 -> 0.018518519 | Q52: =('odhadnuté rychlosti'!Q52-'reálná rychlost'!Q52)/'reálná rychlost'!Q52 -> -0.16666667 | R52: =('odhadnuté rychlosti'!R52-'reálná rychlost'!R52)/'reálná rychlost'!R52 -> -0.13793103 | ... U52: =('odhadnuté rychlosti'!U52-'reálná rychlost'!U52)/'reálná rychlost'!U52 -> -0.21052632 | V52: BMW X3 | W52: s rádiem/bez sudoku
A53: =('odhadnuté rychlosti'!A53-'reálná rychlost'!A53)/'reálná rychlost'!A53 -> 0.11111111 | B53: =('odhadnuté rychlosti'!B53-'reálná rychlost'!B53)/'reálná rychlost'!B53 -> 0.11111111 | C53: =('odhadnuté rychlosti'!C53-'reálná rychlost'!C53)/'reálná rychlost'!C53 -> 0.30434783 | D53: =('odhadnuté rychlosti'!D53-'reálná rychlost'!D53)/'reálná rychlost'!D53 -> 0.25 | E53: =('odhadnuté rychlosti'!E53-'reálná rychlost'!E53)/'reálná rychlost'!E53 -> 0.18556701 | F53: =('odhadnuté rychlosti'!F53-'reálná rychlost'!F53)/'reálná rychlost'!F53 -> 0.1 | G53: =('odhadnuté rychlosti'!G53-'reálná rychlost'!G53)/'reálná rychlost'!G53 -> 0.15 | H53: =('odhadnuté rychlosti'!H53-'reálná rychlost'!H53)/'reálná rychlost'!H53 -> 0.2371134 | ... U53: =('odhadnuté rychlosti'!U53-'reálná rychlost'!U53)/'reálná rychlost'!U53 -> -0.059405941 | V53: BMW X3 | W53: s rádiem/bez sudoku
A54: =('odhadnuté rychlosti'!A54-'reálná rychlost'!A54)/'reálná rychlost'!A54 -> 0.031746032 | B54: =('odhadnuté rychlosti'!B54-'reálná rychlost'!B54)/'reálná rychlost'!B54 -> 0.031746032 | C54: =('odhadnuté rychlosti'!C54-'reálná rychlost'!C54)/'reálná rychlost'!C54 -> 0.023622047 | D54: =('odhadnuté rychlosti'!D54-'reálná rychlost'!D54)/'reálná rychlost'!D54 -> 0.062992126 | E54: =('odhadnuté rychlosti'!E54-'reálná rychlost'!E54)/'reálná rychlost'!E54 -> 0.04 | F54: =('odhadnuté rychlosti'!F54-'reálná rychlost'!F54)/'reálná rychlost'!F54 -> 0.007751938 | G54: =('odhadnuté rychlosti'!G54-'reálná rychlost'!G54)/'reálná rychlost'!G54 -> 0.031007752 | H54: =('odhadnuté rychlosti'!H54-'reálná rychlost'!H54)/'reálná rychlost'!H54 -> -0.04 | ... U54: =('odhadnuté rychlosti'!U54-'reálná rychlost'!U54)/'reálná rychlost'!U54 -> -0.072580645 | V54: BMW X3 | W54: s rádiem/bez sudoku
A55: =('odhadnuté rychlosti'!A55-'reálná rychlost'!A55)/'reálná rychlost'!A55 -> -0.13043478 | B55: =('odhadnuté rychlosti'!B55-'reálná rychlost'!B55)/'reálná rychlost'!B55 -> 0 | C55: X | D55: X | E55: X | F55: X | G55: X | H55: X | I55: =('odhadnuté rychlosti'!I55-'reálná rychlost'!I55)/'reálná rychlost'!I55 -> 0.18181818 | J55: =('odhadnuté rychlosti'!J55-'reálná rychlost'!J55)/'reálná rychlost'!J55 -> 0.22727273 | K55: =('odhadnuté rychlosti'!K55-'reálná rychlost'!K55)/'reálná rychlost'!K55 -> 0.068376068 | L55: =('odhadnuté rychlosti'!L55-'reálná rychlost'!L55)/'reálná rychlost'!L55 -> 0.15384615 | M55: =('odhadnuté rychlosti'!M55-'reálná rychlost'!M55)/'reálná rychlost'!M55 -> -0.05982906 | N55: =('odhadnuté rychlosti'!N55-'reálná rychlost'!N55)/'reálná rychlost'!N55 -> -0.05982906 | O55: =('odhadnuté rychlosti'!O55-'reálná rychlost'!O55)/'reálná rychlost'!O55 -> 0.025641026 | P55: =('odhadnuté rychlosti'!P55-'reálná rychlost'!P55)/'reálná rychlost'!P55 -> 0.23893805 | ... U55: =('odhadnuté rychlosti'!U55-'reálná rychlost'!U55)/'reálná rychlost'!U55 -> -0.051724138 | V55: BMW X3 | W55: s rádiem/bez sudoku
A56: =('odhadnuté rychlosti'!A56-'reálná rychlost'!A56)/'reálná rychlost'!A56 -> -0.02173913 | B56: =('odhadnuté rychlosti'!B56-'reálná rychlost'!B56)/'reálná rychlost'!B56 -> -0.02173913 | C56: =('odhadnuté rychlosti'!C56-'reálná rychlost'!C56)/'reálná rychlost'!C56 -> 0.011235955 | D56: =('odhadnuté rychlosti'!D56-'reálná rychlost'!D56)/'reálná rychlost'!D56 -> 0.29213483 | E56: =('odhadnuté rychlosti'!E56-'reálná rychlost'!E56)/'reálná rychlost'!E56 -> 0.14942529 | F56: =('odhadnuté rychlosti'!F56-'reálná rychlost'!F56)/'reálná rychlost'!F56 -> -0.090909091 | G56: =('odhadnuté rychlosti'!G56-'reálná rychlost'!G56)/'reálná rychlost'!G56 -> 0.25 | H56: =('odhadnuté rychlosti'!H56-'reálná rychlost'!H56)/'reálná rychlost'!H56 -> 0.091954023 | ... U56: =('odhadnuté rychlosti'!U56-'reálná rychlost'!U56)/'reálná rychlost'!U56 -> -0.13043478 | V56: BMW X3 | W56: s rádiem/bez sudoku
A57: =('odhadnuté rychlosti'!A57-'reálná rychlost'!A57)/'reálná rychlost'!A57 -> 0.034482759 | B57: =('odhadnuté rychlosti'!B57-'reálná rychlost'!B57)/'reálná rychlost'!B57 -> -0.13793103 | C57: =('odhadnuté rychlosti'!C57-'reálná rychlost'!C57)/'reálná rychlost'!C57 -> 0.2244898 | D57: =('odhadnuté rychlosti'!D57-'reálná rychlost'!D57)/'reálná rychlost'!D57 -> 0.020408163 | E57: =('odhadnuté rychlosti'!E57-'reálná rychlost'!E57)/'reálná rychlost'!E57 -> -0.047619048 | F57: =('odhadnuté rychlosti'!F57-'reálná rychlost'!F57)/'reálná rychlost'!F57 -> 0.19565217 | G57: =('odhadnuté rychlosti'!G57-'reálná rychlost'!G57)/'reálná rychlost'!G57 -> 0.043478261 | H57: =('odhadnuté rychlosti'!H57-'reálná rychlost'!H57)/'reálná rychlost'!H57 -> -0.28571429 | ... M57: =('odhadnuté rychlosti'!M57-'reálná rychlost'!M57)/'reálná rychlost'!M57 -> -0.36170213 | N57: X | O57: X | P57: =('odhadnuté rychlosti'!P57-'reálná rychlost'!P57)/'reálná rychlost'!P57 -> 0.12244898 | Q57: =('odhadnuté rychlosti'!Q57-'reálná rychlost'!Q57)/'reálná rychlost'!Q57 -> -0.18367347 | R57: X | S57: =('odhadnuté rychlosti'!S57-'reálná rychlost'!S57)/'reálná rychlost'!S57 -> 0.41176471 | T57: =('odhadnuté rychlosti'!T57-'reálná rychlost'!T57)/'reálná rychlost'!T57 -> -0.15686275 | U57: =('odhadnuté rychlosti'!U57-'reálná rychlost'!U57)/'reálná rychlost'!U57 -> -0.23913043 | V57: BMW X3 | W57: s rádiem/bez sudoku
A59: =('odhadnuté rychlosti'!A59-'reálná rychlost'!A59)/'reálná rychlost'!A59 -> -0.5 | B59: =('odhadnuté rychlosti'!B59-'reálná rychlost'!B59)/'reálná rychlost'!B59 -> -0.7 | C59: =('odhadnuté rychlosti'!C59-'reálná rychlost'!C59)/'reálná rychlost'!C59 -> 0.11111111 | D59: =('odhadnuté rychlosti'!D59-'reálná rychlost'!D59)/'reálná rychlost'!D59 -> 0.38888889 | E59: =('odhadnuté rychlosti'!E59-'reálná rychlost'!E59)/'reálná rychlost'!E59 -> 0.025641026 | F59: =('odhadnuté rychlosti'!F59-'reálná rychlost'!F59)/'reálná rychlost'!F59 -> 0.25 | G59: =('odhadnuté rychlosti'!G59-'reálná rychlost'!G59)/'reálná rychlost'!G59 -> 0.175 | H59: =('odhadnuté rychlosti'!H59-'reálná rychlost'!H59)/'reálná rychlost'!H59 -> 0.15384615 | ... U59: =('odhadnuté rychlosti'!U59-'reálná rychlost'!U59)/'reálná rychlost'!U59 -> -0.26829268 | V59: BMW X3 | W59: Bez rádia/se sudoku
A60: =('odhadnuté rychlosti'!A60-'reálná rychlost'!A60)/'reálná rychlost'!A60 -> -0.52830189 | B60: =('odhadnuté rychlosti'!B60-'reálná rychlost'!B60)/'reálná rychlost'!B60 -> -0.71698113 | C60: =('odhadnuté rychlosti'!C60-'reálná rychlost'!C60)/'reálná rychlost'!C60 -> 0 | D60: =('odhadnuté rychlosti'!D60-'reálná rychlost'!D60)/'reálná rychlost'!D60 -> 0.1 | E60: =('odhadnuté rychlosti'!E60-'reálná rychlost'!E60)/'reálná rychlost'!E60 -> 0.057692308 | F60: =('odhadnuté rychlosti'!F60-'reálná rychlost'!F60)/'reálná rychlost'!F60 -> 0.020408163 | G60: =('odhadnuté rychlosti'!G60-'reálná rychlost'!G60)/'reálná rychlost'!G60 -> 0.081632653 | H60: =('odhadnuté rychlosti'!H60-'reálná rychlost'!H60)/'reálná rychlost'!H60 -> -0.038461538 | ... U60: =('odhadnuté rychlosti'!U60-'reálná rychlost'!U60)/'reálná rychlost'!U60 -> -0.23076923 | V60: BMW X3 | W60: Bez rádia/se sudoku
A61: =('odhadnuté rychlosti'!A61-'reálná rychlost'!A61)/'reálná rychlost'!A61 -> 0 | B61: =('odhadnuté rychlosti'!B61-'reálná rychlost'!B61)/'reálná rychlost'!B61 -> -0.25 | C61: =('odhadnuté rychlosti'!C61-'reálná rychlost'!C61)/'reálná rychlost'!C61 -> 0.46341463 | D61: =('odhadnuté rychlosti'!D61-'reálná rychlost'!D61)/'reálná rychlost'!D61 -> 0.097560976 | E61: =('odhadnuté rychlosti'!E61-'reálná rychlost'!E61)/'reálná rychlost'!E61 -> 0.029411765 | F61: =('odhadnuté rychlosti'!F61-'reálná rychlost'!F61)/'reálná rychlost'!F61 -> 0.57142857 | G61: =('odhadnuté rychlosti'!G61-'reálná rychlost'!G61)/'reálná rychlost'!G61 -> 0 | H61: =('odhadnuté rychlosti'!H61-'reálná rychlost'!H61)/'reálná rychlost'!H61 -> -0.11764706 | ... U61: =('odhadnuté rychlosti'!U61-'reálná rychlost'!U61)/'reálná rychlost'!U61 -> -0.20454545 | V61: BMW X3 | W61: Bez rádia/se sudoku
A62: =('odhadnuté rychlosti'!A62-'reálná rychlost'!A62)/'reálná rychlost'!A62 -> -0.11764706 | B62: =('odhadnuté rychlosti'!B62-'reálná rychlost'!B62)/'reálná rychlost'!B62 -> -0.11764706 | C62: =('odhadnuté rychlosti'!C62-'reálná rychlost'!C62)/'reálná rychlost'!C62 -> 0.19402985 | D62: =('odhadnuté rychlosti'!D62-'reálná rychlost'!D62)/'reálná rychlost'!D62 -> -0.10447761 | E62: =('odhadnuté rychlosti'!E62-'reálná rychlost'!E62)/'reálná rychlost'!E62 -> 0.23076923 | F62: =('odhadnuté rychlosti'!F62-'reálná rychlost'!F62)/'reálná rychlost'!F62 -> 0.044776119 | G62: =('odhadnuté rychlosti'!G62-'reálná rychlost'!G62)/'reálná rychlost'!G62 -> 0.1641791 | H62: =('odhadnuté rychlosti'!H62-'reálná rychlost'!H62)/'reálná rychlost'!H62 -> 0.076923077 | ... U62: =('odhadnuté rychlosti'!U62-'reálná rychlost'!U62)/'reálná rychlost'!U62 -> -0.21428571 | V62: BMW X3 | W62: Bez rádia/se sudoku
A63: =('odhadnuté rychlosti'!A63-'reálná rychlost'!A63)/'reálná rychlost'!A63 -> 0.034482759 | B63: =('odhadnuté rychlosti'!B63-'reálná rychlost'!B63)/'reálná rychlost'!B63 -> -0.08045977 | C63: =('odhadnuté rychlosti'!C63-'reálná rychlost'!C63)/'reálná rychlost'!C63 -> 0.14942529 | D63: =('odhadnuté rychlosti'!D63-'reálná rychlost'!D63)/'reálná rychlost'!D63 -> -0.022988506 | E63: =('odhadnuté rychlosti'!E63-'reálná rychlost'!E63)/'reálná rychlost'!E63 -> 0.046511628 | F63: =('odhadnuté rychlosti'!F63-'reálná rychlost'!F63)/'reálná rychlost'!F63 -> 0.097560976 | G63: =('odhadnuté rychlosti'!G63-'reálná rychlost'!G63)/'reálná rychlost'!G63 -> 0.097560976 | H63: =('odhadnuté rychlosti'!H63-'reálná rychlost'!H63)/'reálná rychlost'!H63 -> -0.011627907 | ... U63: =('odhadnuté rychlosti'!U63-'reálná rychlost'!U63)/'reálná rychlost'!U63 -> 0.011235955 | V63: BMW X3 | W63: Bez rádia/se sudoku
A64: =('odhadnuté rychlosti'!A64-'reálná rychlost'!A64)/'reálná rychlost'!A64 -> 0.29032258 | B64: =('odhadnuté rychlosti'!B64-'reálná rychlost'!B64)/'reálná rychlost'!B64 -> 0.12903226 | C64: =('odhadnuté rychlosti'!C64-'reálná rychlost'!C64)/'reálná rychlost'!C64 -> 0.93548387 | D64: =('odhadnuté rychlosti'!D64-'reálná rychlost'!D64)/'reálná rychlost'!D64 -> 0.4516129 | E64: =('odhadnuté rychlosti'!E64-'reálná rychlost'!E64)/'reálná rychlost'!E64 -> 0.25 | F64: =('odhadnuté rychlosti'!F64-'reálná rychlost'!F64)/'reálná rychlost'!F64 -> 0.65517241 | G64: =('odhadnuté rychlosti'!G64-'reálná rychlost'!G64)/'reálná rychlost'!G64 -> 0.27586207 | H64: =('odhadnuté rychlosti'!H64-'reálná rychlost'!H64)/'reálná rychlost'!H64 -> 0.25 | ... U64: =('odhadnuté rychlosti'!U64-'reálná rychlost'!U64)/'reálná rychlost'!U64 -> 0 | V64: BMW X3 | W64: Bez rádia/se sudoku
A65: =('odhadnuté rychlosti'!A65-'reálná rychlost'!A65)/'reálná rychlost'!A65 -> -0.24528302 | B65: =('odhadnuté rychlosti'!B65-'reálná rychlost'!B65)/'reálná rychlost'!B65 -> -0.1509434 | C65: =('odhadnuté rychlosti'!C65-'reálná rychlost'!C65)/'reálná rychlost'!C65 -> -0.019607843 | D65: =('odhadnuté rychlosti'!D65-'reálná rychlost'!D65)/'reálná rychlost'!D65 -> 0.17647059 | E65: =('odhadnuté rychlosti'!E65-'reálná rychlost'!E65)/'reálná rychlost'!E65 -> 0.063829787 | F65: =('odhadnuté rychlosti'!F65-'reálná rychlost'!F65)/'reálná rychlost'!F65 -> 0.2 | G65: =('odhadnuté rychlosti'!G65-'reálná rychlost'!G65)/'reálná rychlost'!G65 -> 0.06 | H65: =('odhadnuté rychlosti'!H65-'reálná rychlost'!H65)/'reálná rychlost'!H65 -> -0.14893617 | ... U65: =('odhadnuté rychlosti'!U65-'reálná rychlost'!U65)/'reálná rychlost'!U65 -> -0.019607843 | V65: BMW X3 | W65: Bez rádia/se sudoku
A66: =('odhadnuté rychlosti'!A66-'reálná rychlost'!A66)/'reálná rychlost'!A66 -> -0.13043478 | B66: =('odhadnuté rychlosti'!B66-'reálná rychlost'!B66)/'reálná rychlost'!B66 -> -0.23913043 | C66: =('odhadnuté rychlosti'!C66-'reálná rychlost'!C66)/'reálná rychlost'!C66 -> 0.27659574 | D66: =('odhadnuté rychlosti'!D66-'reálná rychlost'!D66)/'reálná rychlost'!D66 -> 0.38297872 | E66: =('odhadnuté rychlosti'!E66-'reálná rychlost'!E66)/'reálná rychlost'!E66 -> 0.020408163 | F66: =('odhadnuté rychlosti'!F66-'reálná rychlost'!F66)/'reálná rychlost'!F66 -> 0.27659574 | G66: =('odhadnuté rychlosti'!G66-'reálná rychlost'!G66)/'reálná rychlost'!G66 -> 0.063829787 | H66: =('odhadnuté rychlosti'!H66-'reálná rychlost'!H66)/'reálná rychlost'!H66 -> 0.020408163 | ... U66: =('odhadnuté rychlosti'!U66-'reálná rychlost'!U66)/'reálná rychlost'!U66 -> -0.14893617 | V66: BMW X3 | W66: Bez rádia/se sudoku
A67: =('odhadnuté rychlosti'!A67-'reálná rychlost'!A67)/'reálná rychlost'!A67 -> 0.18055556 | B67: =('odhadnuté rychlosti'!B67-'reálná rychlost'!B67)/'reálná rychlost'!B67 -> 0.11111111 | C67: =('odhadnuté rychlosti'!C67-'reálná rychlost'!C67)/'reálná rychlost'!C67 -> 0.084337349 | D67: =('odhadnuté rychlosti'!D67-'reálná rychlost'!D67)/'reálná rychlost'!D67 -> 0.024096386 | E67: =('odhadnuté rychlosti'!E67-'reálná rychlost'!E67)/'reálná rychlost'!E67 -> 0.058823529 | F67: =('odhadnuté rychlosti'!F67-'reálná rychlost'!F67)/'reálná rychlost'!F67 -> 0.091954023 | G67: =('odhadnuté rychlosti'!G67-'reálná rychlost'!G67)/'reálná rychlost'!G67 -> 0.057471264 | H67: =('odhadnuté rychlosti'!H67-'reálná rychlost'!H67)/'reálná rychlost'!H67 -> -0.058823529 | ... U67: =('odhadnuté rychlosti'!U67-'reálná rychlost'!U67)/'reálná rychlost'!U67 -> -0.15662651 | V67: BMW X3 | W67: Bez rádia/se sudoku
A68: =('odhadnuté rychlosti'!A68-'reálná rychlost'!A68)/'reálná rychlost'!A68 -> 0.31578947 | B68: =('odhadnuté rychlosti'!B68-'reálná rychlost'!B68)/'reálná rychlost'!B68 -> 0.052631579 | C68: =('odhadnuté rychlosti'!C68-'reálná rychlost'!C68)/'reálná rychlost'!C68 -> 0.13636364 | D68: =('odhadnuté rychlosti'!D68-'reálná rychlost'!D68)/'reálná rychlost'!D68 -> 0.13636364 | E68: =('odhadnuté rychlosti'!E68-'reálná rychlost'!E68)/'reálná rychlost'!E68 -> 0.063829787 | F68: =('odhadnuté rychlosti'!F68-'reálná rychlost'!F68)/'reálná rychlost'!F68 -> 0.20833333 | G68: =('odhadnuté rychlosti'!G68-'reálná rychlost'!G68)/'reálná rychlost'!G68 -> 0.041666667 | H68: =('odhadnuté rychlosti'!H68-'reálná rychlost'!H68)/'reálná rychlost'!H68 -> 0.063829787 | ... U68: =('odhadnuté rychlosti'!U68-'reálná rychlost'!U68)/'reálná rychlost'!U68 -> -0.0625 | V68: BMW X3 | W68: Bez rádia/se sudoku
A69: =('odhadnuté rychlosti'!A69-'reálná rychlost'!A69)/'reálná rychlost'!A69 -> 0.044776119 | B69: =('odhadnuté rychlosti'!B69-'reálná rychlost'!B69)/'reálná rychlost'!B69 -> 0.044776119 | C69: =('odhadnuté rychlosti'!C69-'reálná rychlost'!C69)/'reálná rychlost'!C69 -> 0.044776119 | D69: =('odhadnuté rychlosti'!D69-'reálná rychlost'!D69)/'reálná rychlost'!D69 -> 0.11940299 | E69: =('odhadnuté rychlosti'!E69-'reálná rychlost'!E69)/'reálná rychlost'!E69 -> 0.09375 | F69: =('odhadnuté rychlosti'!F69-'reálná rychlost'!F69)/'reálná rychlost'!F69 -> 0.014925373 | G69: =('odhadnuté rychlosti'!G69-'reálná rychlost'!G69)/'reálná rychlost'!G69 -> 0.19402985 | H69: =('odhadnuté rychlosti'!H69-'reálná rychlost'!H69)/'reálná rychlost'!H69 -> 0.25 | ... U69: =('odhadnuté rychlosti'!U69-'reálná rychlost'!U69)/'reálná rychlost'!U69 -> -0.0625 | V69: BMW X3 | W69: Bez rádia/se sudoku
A70: =('odhadnuté rychlosti'!A70-'reálná rychlost'!A70)/'reálná rychlost'!A70 -> 0.2 | B70: =('odhadnuté rychlosti'!B70-'reálná rychlost'!B70)/'reálná rychlost'!B70 -> 0.13333333 | C70: =('odhadnuté rychlosti'!C70-'reálná rychlost'!C70)/'reálná rychlost'!C70 -> 0.081081081 | D70: =('odhadnuté rychlosti'!D70-'reálná rychlost'!D70)/'reálná rychlost'!D70 -> 0.081081081 | E70: =('odhadnuté rychlosti'!E70-'reálná rychlost'!E70)/'reálná rychlost'!E70 -> 0.075949367 | F70: =('odhadnuté rychlosti'!F70-'reálná rychlost'!F70)/'reálná rychlost'!F70 -> 0.011904762 | G70: =('odhadnuté rychlosti'!G70-'reálná rychlost'!G70)/'reálná rychlost'!G70 -> 0.047619048 | H70: =('odhadnuté rychlosti'!H70-'reálná rychlost'!H70)/'reálná rychlost'!H70 -> 0.13924051 | ... U70: =('odhadnuté rychlosti'!U70-'reálná rychlost'!U70)/'reálná rychlost'!U70 -> -0.024390244 | V70: BMW X3 | W70: Bez rádia/se sudoku
... A91: =('odhadnuté rychlosti'!A91-'reálná rychlost'!A91)/'reálná rychlost'!A91 -> -0.095238095 | B91: =('odhadnuté rychlosti'!B91-'reálná rychlost'!B91)/'reálná rychlost'!B91 -> 0.14285714 | C91: =('odhadnuté rychlosti'!C91-'reálná rychlost'!C91)/'reálná rychlost'!C91 -> 0.047619048 | D91: =('odhadnuté rychlosti'!D91-'reálná rychlost'!D91)/'reálná rychlost'!D91 -> 0.047619048 | E91: =('odhadnuté rychlosti'!E91-'reálná rychlost'!E91)/'reálná rychlost'!E91 -> -0.0094339623 | F91: =('odhadnuté rychlosti'!F91-'reálná rychlost'!F91)/'reálná rychlost'!F91 -> -0.056603774 | G91: =('odhadnuté rychlosti'!G91-'reálná rychlost'!G91)/'reálná rychlost'!G91 -> -0.056603774 | H91: =('odhadnuté rychlosti'!H91-'reálná rychlost'!H91)/'reálná rychlost'!H91 -> 0.037735849 | ... U91: =('odhadnuté rychlosti'!U91-'reálná rychlost'!U91)/'reálná rychlost'!U91 -> -0.15841584 | V91: VW Caravella | W91: s rádiem/bez sudoku
A92: =('odhadnuté rychlosti'!A92-'reálná rychlost'!A92)/'reálná rychlost'!A92 -> 0.088709677 | B92: =('odhadnuté rychlosti'!B92-'reálná rychlost'!B92)/'reálná rychlost'!B92 -> 0.048387097 | C92: =('odhadnuté rychlosti'!C92-'reálná rychlost'!C92)/'reálná rychlost'!C92 -> -0.11290323 | D92: =('odhadnuté rychlosti'!D92-'reálná rychlost'!D92)/'reálná rychlost'!D92 -> 0.048387097 | E92: X | F92: =('odhadnuté rychlosti'!F92-'reálná rychlost'!F92)/'reálná rychlost'!F92 -> -0.0625 | G92: =('odhadnuté rychlosti'!G92-'reálná rychlost'!G92)/'reálná rychlost'!G92 -> -0.046875 | H92: =('odhadnuté rychlosti'!H92-'reálná rychlost'!H92)/'reálná rychlost'!H92 -> -0.0625 | I92: =('odhadnuté rychlosti'!I92-'reálná rychlost'!I92)/'reálná rychlost'!I92 -> 0.06557377 | J92: =('odhadnuté rychlosti'!J92-'reálná rychlost'!J92)/'reálná rychlost'!J92 -> 0.06557377 | K92: =('odhadnuté rychlosti'!K92-'reálná rychlost'!K92)/'reálná rychlost'!K92 -> 0.06557377 | L92: =('odhadnuté rychlosti'!L92-'reálná rychlost'!L92)/'reálná rychlost'!L92 -> 0.06557377 | M92: =('odhadnuté rychlosti'!M92-'reálná rychlost'!M92)/'reálná rychlost'!M92 -> 0.024590164 | ... U92: =('odhadnuté rychlosti'!U92-'reálná rychlost'!U92)/'reálná rychlost'!U92 -> -0.11290323 | V92: VW Caravella | W92: s rádiem/bez sudoku
A93: X | B93: X | C93: X | D93: X | E93: X | F93: X | G93: X | H93: X | I93: =('odhadnuté rychlosti'!I93-'reálná rychlost'!I93)/'reálná rychlost'!I93 -> 0.026785714 | J93: =('odhadnuté rychlosti'!J93-'reálná rychlost'!J93)/'reálná rychlost'!J93 -> 0.16071429 | K93: =('odhadnuté rychlosti'!K93-'reálná rychlost'!K93)/'reálná rychlost'!K93 -> 0.16071429 | L93: =('odhadnuté rychlosti'!L93-'reálná rychlost'!L93)/'reálná rychlost'!L93 -> 0.25 | M93: =('odhadnuté rychlosti'!M93-'reálná rychlost'!M93)/'reálná rychlost'!M93 -> 0.071428571 | N93: =('odhadnuté rychlosti'!N93-'reálná rychlost'!N93)/'reálná rychlost'!N93 -> 0.15384615 | O93: =('odhadnuté rychlosti'!O93-'reálná rychlost'!O93)/'reálná rychlost'!O93 -> -0.05982906 | P93: =('odhadnuté rychlosti'!P93-'reálná rychlost'!P93)/'reálná rychlost'!P93 -> -0.017094017 | ... U93: =('odhadnuté rychlosti'!U93-'reálná rychlost'!U93)/'reálná rychlost'!U93 -> -0.10714286 | V93: VW Caravella | W93: s rádiem/bez sudoku
A94: =('odhadnuté rychlosti'!A94-'reálná rychlost'!A94)/'reálná rychlost'!A94 -> -0.069767442 | B94: =('odhadnuté rychlosti'!B94-'reálná rychlost'!B94)/'reálná rychlost'!B94 -> 0.046511628 | C94: =('odhadnuté rychlosti'!C94-'reálná rychlost'!C94)/'reálná rychlost'!C94 -> -0.069767442 | D94: =('odhadnuté rychlosti'!D94-'reálná rychlost'!D94)/'reálná rychlost'!D94 -> 0.046511628 | E94: =('odhadnuté rychlosti'!E94-'reálná rychlost'!E94)/'reálná rychlost'!E94 -> -0.024390244 | F94: =('odhadnuté rychlosti'!F94-'reálná rychlost'!F94)/'reálná rychlost'!F94 -> -0.024390244 | G94: =('odhadnuté rychlosti'!G94-'reálná rychlost'!G94)/'reálná rychlost'!G94 -> 0.13414634 | H94: =('odhadnuté rychlosti'!H94-'reálná rychlost'!H94)/'reálná rychlost'!H94 -> -0.024390244 | ... U94: =('odhadnuté rychlosti'!U94-'reálná rychlost'!U94)/'reálná rychlost'!U94 -> -0.15789474 | V94: VW Caravella | W94: s rádiem/bez sudoku
A95: =('odhadnuté rychlosti'!A95-'reálná rychlost'!A95)/'reálná rychlost'!A95 -> 0.11111111 | B95: =('odhadnuté rychlosti'!B95-'reálná rychlost'!B95)/'reálná rychlost'!B95 -> 0.55555556 | C95: =('odhadnuté rychlosti'!C95-'reálná rychlost'!C95)/'reálná rychlost'!C95 -> -0.11111111 | D95: =('odhadnuté rychlosti'!D95-'reálná rychlost'!D95)/'reálná rychlost'!D95 -> 0.11111111 | E95: =('odhadnuté rychlosti'!E95-'reálná rychlost'!E95)/'reálná rychlost'!E95 -> -0.23076923 | F95: =('odhadnuté rychlosti'!F95-'reálná rychlost'!F95)/'reálná rychlost'!F95 -> 0.019230769 | G95: =('odhadnuté rychlosti'!G95-'reálná rychlost'!G95)/'reálná rychlost'!G95 -> -0.096153846 | H95: =('odhadnuté rychlosti'!H95-'reálná rychlost'!H95)/'reálná rychlost'!H95 -> -0.23076923 | ... U95: =('odhadnuté rychlosti'!U95-'reálná rychlost'!U95)/'reálná rychlost'!U95 -> 0.029411765 | V95: VW Caravella | W95: s rádiem/bez sudoku
A97: =('odhadnuté rychlosti'!A97-'reálná rychlost'!A97)/'reálná rychlost'!A97 -> -0.16666667 | B97: =('odhadnuté rychlosti'!B97-'reálná rychlost'!B97)/'reálná rychlost'!B97 -> -0.52380952 | C97: =('odhadnuté rychlosti'!C97-'reálná rychlost'!C97)/'reálná rychlost'!C97 -> -0.047619048 | D97: =('odhadnuté rychlosti'!D97-'reálná rychlost'!D97)/'reálná rychlost'!D97 -> -0.047619048 | E97: =('odhadnuté rychlosti'!E97-'reálná rychlost'!E97)/'reálná rychlost'!E97 -> -0.054054054 | F97: =('odhadnuté rychlosti'!F97-'reálná rychlost'!F97)/'reálná rychlost'!F97 -> 0.21621622 | G97: =('odhadnuté rychlosti'!G97-'reálná rychlost'!G97)/'reálná rychlost'!G97 -> 0.16216216 | H97: =('odhadnuté rychlosti'!H97-'reálná rychlost'!H97)/'reálná rychlost'!H97 -> 0.081081081 | ... U97: =('odhadnuté rychlosti'!U97-'reálná rychlost'!U97)/'reálná rychlost'!U97 -> -0.35897436 | V97: VW Caravella | W97: Bez rádia/se sudoku
A98: =('odhadnuté rychlosti'!A98-'reálná rychlost'!A98)/'reálná rychlost'!A98 -> -0.33962264 | B98: =('odhadnuté rychlosti'!B98-'reálná rychlost'!B98)/'reálná rychlost'!B98 -> -0.33962264 | C98: =('odhadnuté rychlosti'!C98-'reálná rychlost'!C98)/'reálná rychlost'!C98 -> -0.056603774 | D98: =('odhadnuté rychlosti'!D98-'reálná rychlost'!D98)/'reálná rychlost'!D98 -> -0.094339623 | E98: =('odhadnuté rychlosti'!E98-'reálná rychlost'!E98)/'reálná rychlost'!E98 -> 0.12244898 | F98: =('odhadnuté rychlosti'!F98-'reálná rychlost'!F98)/'reálná rychlost'!F98 -> -0.081632653 | G98: =('odhadnuté rychlosti'!G98-'reálná rychlost'!G98)/'reálná rychlost'!G98 -> 0.020408163 | H98: =('odhadnuté rychlosti'!H98-'reálná rychlost'!H98)/'reálná rychlost'!H98 -> 0.020408163 | ... U98: =('odhadnuté rychlosti'!U98-'reálná rychlost'!U98)/'reálná rychlost'!U98 -> -0.34693878 | V98: VW Caravella | W98: Bez rádia/se sudoku
A99: =('odhadnuté rychlosti'!A99-'reálná rychlost'!A99)/'reálná rychlost'!A99 -> 0.42857143 | B99: =('odhadnuté rychlosti'!B99-'reálná rychlost'!B99)/'reálná rychlost'!B99 -> 0.42857143 | C99: =('odhadnuté rychlosti'!C99-'reálná rychlost'!C99)/'reálná rychlost'!C99 -> 0.14285714 | D99: =('odhadnuté rychlosti'!D99-'reálná rychlost'!D99)/'reálná rychlost'!D99 -> 0.28571429 | E99: =('odhadnuté rychlosti'!E99-'reálná rychlost'!E99)/'reálná rychlost'!E99 -> -0.054054054 | F99: =('odhadnuté rychlosti'!F99-'reálná rychlost'!F99)/'reálná rychlost'!F99 -> 0.48648649 | G99: =('odhadnuté rychlosti'!G99-'reálná rychlost'!G99)/'reálná rychlost'!G99 -> -0.10810811 | H99: =('odhadnuté rychlosti'!H99-'reálná rychlost'!H99)/'reálná rychlost'!H99 -> -0.18918919 | ... U99: =('odhadnuté rychlosti'!U99-'reálná rychlost'!U99)/'reálná rychlost'!U99 -> -0.18604651 | V99: VW Caravella | W99: Bez rádia/se sudoku
A100: =('odhadnuté rychlosti'!A100-'reálná rychlost'!A100)/'reálná rychlost'!A100 -> -0.029850746 | B100: =('odhadnuté rychlosti'!B100-'reálná rychlost'!B100)/'reálná rychlost'!B100 -> 0.19402985 | C100: =('odhadnuté rychlosti'!C100-'reálná rychlost'!C100)/'reálná rychlost'!C100 -> -0.10447761 | D100: =('odhadnuté rychlosti'!D100-'reálná rychlost'!D100)/'reálná rychlost'!D100 -> -0.25373134 | E100: =('odhadnuté rychlosti'!E100-'reálná rychlost'!E100)/'reálná rychlost'!E100 -> 0.13636364 | F100: =('odhadnuté rychlosti'!F100-'reálná rychlost'!F100)/'reálná rychlost'!F100 -> 0.060606061 | G100: =('odhadnuté rychlosti'!G100-'reálná rychlost'!G100)/'reálná rychlost'!G100 -> -0.015151515 | H100: =('odhadnuté rychlosti'!H100-'reálná rychlost'!H100)/'reálná rychlost'!H100 -> -0.090909091 | ... U100: =('odhadnuté rychlosti'!U100-'reálná rychlost'!U100)/'reálná rychlost'!U100 -> -0.23076923 | V100: VW Caravella | W100: Bez rádia/se sudoku
A101: =('odhadnuté rychlosti'!A101-'reálná rychlost'!A101)/'reálná rychlost'!A101 -> 0.11764706 | B101: =('odhadnuté rychlosti'!B101-'reálná rychlost'!B101)/'reálná rychlost'!B101 -> 0.058823529 | C101: =('odhadnuté rychlosti'!C101-'reálná rychlost'!C101)/'reálná rychlost'!C101 -> -0.058823529 | D101: =('odhadnuté rychlosti'!D101-'reálná rychlost'!D101)/'reálná rychlost'!D101 -> -0.17647059 | E101: =('odhadnuté rychlosti'!E101-'reálná rychlost'!E101)/'reálná rychlost'!E101 -> 0.10465116 | F101: =('odhadnuté rychlosti'!F101-'reálná rychlost'!F101)/'reálná rychlost'!F101 -> 0.046511628 | G101: =('odhadnuté rychlosti'!G101-'reálná rychlost'!G101)/'reálná rychlost'!G101 -> 0.034883721 | H101: =('odhadnuté rychlosti'!H101-'reálná rychlost'!H101)/'reálná rychlost'!H101 -> 0.10465116 | ... U101: =('odhadnuté rychlosti'!U101-'reálná rychlost'!U101)/'reálná rychlost'!U101 -> -0.15730337 | V101: VW Caravella | W101: Bez rádia/se sudoku
A102: =('odhadnuté rychlosti'!A102-'reálná rychlost'!A102)/'reálná rychlost'!A102 -> 0.21212121 | B102: =('odhadnuté rychlosti'!B102-'reálná rychlost'!B102)/'reálná rychlost'!B102 -> -0.090909091 | C102: =('odhadnuté rychlosti'!C102-'reálná rychlost'!C102)/'reálná rychlost'!C102 -> 0.21212121 | D102: =('odhadnuté rychlosti'!D102-'reálná rychlost'!D102)/'reálná rychlost'!D102 -> 0.21212121 | E102: =('odhadnuté rychlosti'!E102-'reálná rychlost'!E102)/'reálná rychlost'!E102 -> -0.032258065 | F102: =('odhadnuté rychlosti'!F102-'reálná rychlost'!F102)/'reálná rychlost'!F102 -> 0.032258065 | G102: =('odhadnuté rychlosti'!G102-'reálná rychlost'!G102)/'reálná rychlost'!G102 -> -0.032258065 | H102: =('odhadnuté rychlosti'!H102-'reálná rychlost'!H102)/'reálná rychlost'!H102 -> 0.29032258 | ... U102: =('odhadnuté rychlosti'!U102-'reálná rychlost'!U102)/'reálná rychlost'!U102 -> 0.12903226 | V102: VW Caravella | W102: Bez rádia/se sudoku
A103: =('odhadnuté rychlosti'!A103-'reálná rychlost'!A103)/'reálná rychlost'!A103 -> 0.11111111 | B103: =('odhadnuté rychlosti'!B103-'reálná rychlost'!B103)/'reálná rychlost'!B103 -> -0.11111111 | C103: =('odhadnuté rychlosti'!C103-'reálná rychlost'!C103)/'reálná rychlost'!C103 -> 0.11111111 | D103: =('odhadnuté rychlosti'!D103-'reálná rychlost'!D103)/'reálná rychlost'!D103 -> 0.11111111 | E103: =('odhadnuté rychlosti'!E103-'reálná rychlost'!E103)/'reálná rychlost'!E103 -> -0.15254237 | F103: =('odhadnuté rychlosti'!F103-'reálná rychlost'!F103)/'reálná rychlost'!F103 -> -0.15254237 | G103: =('odhadnuté rychlosti'!G103-'reálná rychlost'!G103)/'reálná rychlost'!G103 -> -0.11864407 | H103: =('odhadnuté rychlosti'!H103-'reálná rychlost'!H103)/'reálná rychlost'!H103 -> -0.06779661 | ... U103: =('odhadnuté rychlosti'!U103-'reálná rychlost'!U103)/'reálná rychlost'!U103 -> -0.019607843 | V103: VW Caravella | W103: Bez rádia/se sudoku
A104: =('odhadnuté rychlosti'!A104-'reálná rychlost'!A104)/'reálná rychlost'!A104 -> 0.057692308 | B104: =('odhadnuté rychlosti'!B104-'reálná rychlost'!B104)/'reálná rychlost'!B104 -> -0.038461538 | C104: =('odhadnuté rychlosti'!C104-'reálná rychlost'!C104)/'reálná rychlost'!C104 -> 0.057692308 | D104: =('odhadnuté rychlosti'!D104-'reálná rychlost'!D104)/'reálná rychlost'!D104 -> 0.11538462 | E104: =('odhadnuté rychlosti'!E104-'reálná rychlost'!E104)/'reálná rychlost'!E104 -> 0.2 | F104: =('odhadnuté rychlosti'!F104-'reálná rychlost'!F104)/'reálná rychlost'!F104 -> 0.2 | G104: =('odhadnuté rychlosti'!G104-'reálná rychlost'!G104)/'reálná rychlost'!G104 -> 0.02 | H104: =('odhadnuté rychlosti'!H104-'reálná rychlost'!H104)/'reálná rychlost'!H104 -> 0 | ... U104: =('odhadnuté rychlosti'!U104-'reálná rychlost'!U104)/'reálná rychlost'!U104 -> -0.2 | V104: VW Caravella | W104: Bez rádia/se sudoku
A105: =('odhadnuté rychlosti'!A105-'reálná rychlost'!A105)/'reálná rychlost'!A105 -> 0.06741573 | B105: =('odhadnuté rychlosti'!B105-'reálná rychlost'!B105)/'reálná rychlost'!B105 -> 0.011235955 | C105: =('odhadnuté rychlosti'!C105-'reálná rychlost'!C105)/'reálná rychlost'!C105 -> -0.15730337 | D105: =('odhadnuté rychlosti'!D105-'reálná rychlost'!D105)/'reálná rychlost'!D105 -> -0.15730337 | E105: =('odhadnuté rychlosti'!E105-'reálná rychlost'!E105)/'reálná rychlost'!E105 -> -0.011627907 | F105: =('odhadnuté rychlosti'!F105-'reálná rychlost'!F105)/'reálná rychlost'!F105 -> -0.069767442 | G105: =('odhadnuté rychlosti'!G105-'reálná rychlost'!G105)/'reálná rychlost'!G105 -> -0.069767442 | H105: =('odhadnuté rychlosti'!H105-'reálná rychlost'!H105)/'reálná rychlost'!H105 -> -0.069767442 | ... U105: =('odhadnuté rychlosti'!U105-'reálná rychlost'!U105)/'reálná rychlost'!U105 -> -0.14634146 | V105: VW Caravella | W105: Bez rádia/se sudoku
A106: =('odhadnuté rychlosti'!A106-'reálná rychlost'!A106)/'reálná rychlost'!A106 -> 0.34146341 | B106: =('odhadnuté rychlosti'!B106-'reálná rychlost'!B106)/'reálná rychlost'!B106 -> 0.097560976 | C106: =('odhadnuté rychlosti'!C106-'reálná rychlost'!C106)/'reálná rychlost'!C106 -> 0.2195122 | D106: =('odhadnuté rychlosti'!D106-'reálná rychlost'!D106)/'reálná rychlost'!D106 -> 0.2195122 | E106: =('odhadnuté rychlosti'!E106-'reálná rychlost'!E106)/'reálná rychlost'!E106 -> 0.28571429 | F106: =('odhadnuté rychlosti'!F106-'reálná rychlost'!F106)/'reálná rychlost'!F106 -> 0.57142857 | G106: =('odhadnuté rychlosti'!G106-'reálná rychlost'!G106)/'reálná rychlost'!G106 -> -0.057142857 | H106: =('odhadnuté rychlosti'!H106-'reálná rychlost'!H106)/'reálná rychlost'!H106 -> 0.14285714 | ... U106: =('odhadnuté rychlosti'!U106-'reálná rychlost'!U106)/'reálná rychlost'!U106 -> -0.090909091 | V106: VW Caravella | W106: Bez rádia/se sudoku
... A114: =('odhadnuté rychlosti'!A114-'reálná rychlost'!A114)/'reálná rychlost'!A114 -> -0.0625 | B114: =('odhadnuté rychlosti'!B114-'reálná rychlost'!B114)/'reálná rychlost'!B114 -> 0.5625 | C114: =('odhadnuté rychlosti'!C114-'reálná rychlost'!C114)/'reálná rychlost'!C114 -> -0.16666667 | D114: =('odhadnuté rychlosti'!D114-'reálná rychlost'!D114)/'reálná rychlost'!D114 -> 0.041666667 | E114: =('odhadnuté rychlosti'!E114-'reálná rychlost'!E114)/'reálná rychlost'!E114 -> -0.16666667 | F114: =('odhadnuté rychlosti'!F114-'reálná rychlost'!F114)/'reálná rychlost'!F114 -> 0.35714286 | G114: =('odhadnuté rychlosti'!G114-'reálná rychlost'!G114)/'reálná rychlost'!G114 -> -0.047619048 | H114: =('odhadnuté rychlosti'!H114-'reálná rychlost'!H114)/'reálná rychlost'!H114 -> -0.047619048 | ... U114: =('odhadnuté rychlosti'!U114-'reálná rychlost'!U114)/'reálná rychlost'!U114 -> -0.30232558 | V114: VW Caravella | W114: Bez rádia/se sudoku
A116: =MAX(A2:U114) -> 1.1428571 | B116: =MIN(A2:U114) -> -0.71698113

Sheet odchylky_zkušení
A1: Vozidlo | B1: Poznámka | C1: =odchylky!C1 -> 3 | D1: =odchylky!D1 -> 4 | E1: =odchylky!E1 -> 5 | F1: =odchylky!F1 -> 6 | G1: =odchylky!G1 -> 7 | H1: =IF(odchylky!K1="","",odchylky!K1) -> 11 | I1: =IF(odchylky!L1="","",odchylky!L1) -> 12 | J1: =IF(odchylky!S1="","",odchylky!S1) -> 19 | K1: =IF(odchylky!T1="","",odchylky!T1) -> 20 | L1: =IF(odchylky!U1="","",odchylky!U1) -> 21
A2: BMW 530d xDrive Touring | B2: s rádiem/bez sudoku | C2: =odchylky!C2 -> -0.024390244 | D2: =odchylky!D2 -> 0.097560976 | E2: =odchylky!E2 -> 0.052631579 | F2: =odchylky!F2 -> 0.5 | G2: =odchylky!G2 -> 0.43333333 | H2: =IF(odchylky!K2="","",odchylky!K2) -> 0.35135135 | I2: =IF(odchylky!L2="","",odchylky!L2) -> 0.081081081 | J2: =IF(odchylky!S2="","",odchylky!S2) -> 0.64705882 | K2: =IF(odchylky!T2="","",odchylky!T2) -> 0.11764706 | L2: =IF(odchylky!U2="","",odchylky!U2) -> -0.35185185 | N2: II | O2: III | P2: dálnice
A3: BMW 530d xDrive Touring | B3: s rádiem/bez sudoku | C3: =odchylky!C3 -> -0.038461538 | D3: =odchylky!D3 -> -0.038461538 | E3: =odchylky!E3 -> 0.063829787 | F3: =odchylky!F3 -> 0.14583333 | G3: =odchylky!G3 -> 0.0625 | H3: =IF(odchylky!K3="","",odchylky!K3) -> 0.32653061 | I3: =IF(odchylky!L3="","",odchylky!L3) -> 0.2244898 | J3: =IF(odchylky!S3="","",odchylky!S3) -> 0.28571429 | K3: =IF(odchylky!T3="","",odchylky!T3) -> -0.30612245 | L3: =IF(odchylky!U3="","",odchylky!U3) -> -0.375
A4: BMW 530d xDrive Touring | B4: s rádiem/bez sudoku | C4: =odchylky!C4 -> 0 | D4: =odchylky!D4 -> 0.25 | E4: =odchylky!E4 -> -0.054054054 | F4: =odchylky!F4 -> 0.35897436 | G4: =odchylky!G4 -> 0.15384615 | H4: =IF(odchylky!K4="","",odchylky!K4) -> 0.18421053 | I4: =IF(odchylky!L4="","",odchylky!L4) -> 0.052631579 | J4: =IF(odchylky!S4="","",odchylky!S4) -> 0.35135135 | K4: =IF(odchylky!T4="","",odchylky!T4) -> -0.2972973 | L4: =IF(odchylky!U4="","",odchylky!U4) -> -0.14634146
A5: BMW 530d xDrive Touring | B5: s rádiem/bez sudoku | C5: =odchylky!C5 -> -0.0625 | D5: =odchylky!D5 -> 0.40625 | E5: =odchylky!E5 -> -0.054054054 | F5: =odchylky!F5 -> 0.21428571 | G5: =odchylky!G5 -> 0.028571429 | H5: =IF(odchylky!K5="","",odchylky!K5) -> 0.11111111 | I5: =IF(odchylky!L5="","",odchylky!L5) -> 0.11111111 | J5: =IF(odchylky!S5="","",odchylky!S5) -> 0.25757576 | K5: =IF(odchylky!T5="","",odchylky!T5) -> -0.060606061 | L5: =IF(odchylky!U5="","",odchylky!U5) -> -0.21052632
A6: BMW 530d xDrive Touring | B6: s rádiem/bez sudoku | C6: =odchylky!C6 -> 0.1627907 | D6: =odchylky!D6 -> 0.1627907 | E6: =odchylky!E6 -> -0.034090909 | F6: =odchylky!F6 -> 0.13636364 | G6: =odchylky!G6 -> 0 | H6: =IF(odchylky!K6="","",odchylky!K6) -> 0.055555556 | I6: =IF(odchylky!L6="","",odchylky!L6) -> 0 | J6: =IF(odchylky!S6="","",odchylky!S6) -> 0.15909091 | K6: =IF(odchylky!T6="","",odchylky!T6) -> 0.045454545 | L6: =IF(odchylky!U6="","",odchylky!U6) -> -0.0625
A7: BMW 530d xDrive Touring | B7: s rádiem/bez sudoku | C7: =odchylky!C7 -> X | D7: =odchylky!D7 -> X | E7: =odchylky!E7 -> 0.16666667 | F7: =odchylky!F7 -> 0.92592593 | G7: =odchylky!G7 -> 0.22222222 | H7: =IF(odchylky!K7="","",odchylky!K7) -> 0.40625 | I7: =IF(odchylky!L7="","",odchylky!L7) -> 0.25 | J7: =IF(odchylky!S7="","",odchylky!S7) -> 0.4 | K7: =IF(odchylky!T7="","",odchylky!T7) -> 0.33333333 | L7: =IF(odchylky!U7="","",odchylky!U7) -> 0
A8: BMW 530d xDrive Touring | B8: s rádiem/bez sudoku | C8: =odchylky!C8 -> 0.14583333 | D8: =odchylky!D8 -> 0.14583333 | E8: =odchylky!E8 -> -0.038461538 | F8: =odchylky!F8 -> 0.38297872 | G8: =odchylky!G8 -> 0.10638298 | H8: =IF(odchylky!K8="","",odchylky!K8) -> 0 | I8: =IF(odchylky!L8="","",odchylky!L8) -> 0 | J8: =IF(odchylky!S8="","",odchylky!S8) -> 0.6 | K8: =IF(odchylky!T8="","",odchylky!T8) -> 0.31428571 | L8: =IF(odchylky!U8="","",odchylky!U8) -> -0.1
A9: BMW 530d xDrive Touring | B9: s rádiem/bez sudoku | C9: =odchylky!C9 -> X | D9: =odchylky!D9 -> X | E9: =odchylky!E9 -> -0.1 | F9: =odchylky!F9 -> 0.38297872 | G9: =odchylky!G9 -> 0.23404255 | H9: =IF(odchylky!K9="","",odchylky!K9) -> 0.1 | I9: =IF(odchylky!L9="","",odchylky!L9) -> 0 | J9: =IF(odchylky!S9="","",odchylky!S9) -> 0.23529412 | K9: =IF(odchylky!T9="","",odchylky!T9) -> 0.078431373 | L9: =IF(odchylky!U9="","",odchylky!U9) -> -0.14893617 | N9: =COUNTIF(C2:L114,"> 5%") -> 590
A10: BMW 530d xDrive Touring | B10: s rádiem/bez sudoku | C10: =odchylky!C10 -> X | D10: =odchylky!D10 -> X | E10: =odchylky!E10 -> -0.085365854 | F10: =odchylky!F10 -> 0.11764706 | G10: =odchylky!G10 -> -0.2 | H10: =IF(odchylky!K10="","",odchylky!K10) -> -0.090909091 | I10: =IF(odchylky!L10="","",odchylky!L10) -> -0.090909091 | J10: =IF(odchylky!S10="","",odchylky!S10) -> 0.15662651 | K10: =IF(odchylky!T10="","",odchylky!T10) -> 0.20481928 | L10: =IF(odchylky!U10="","",odchylky!U10) -> -0.066666667
A11: BMW 530d xDrive Touring | B11: s rádiem/bez sudoku | C11: =odchylky!C11 -> X | D11: =odchylky!D11 -> X | E11: =odchylky!E11 -> 0 | F11: =odchylky!F11 -> 0.22222222 | G11: =odchylky!G11 -> 0.066666667 | H11: =IF(odchylky!K11="","",odchylky!K11) -> 0.086956522 | I11: =IF(odchylky!L11="","",odchylky!L11) -> 0.086956522 | J11: =IF(odchylky!S11="","",odchylky!S11) -> 0.17777778 | K11: =IF(odchylky!T11="","",odchylky!T11) -> 0.11111111 | L11: =IF(odchylky!U11="","",odchylky!U11) -> -0.22222222
A12: BMW 530d xDrive Touring | B12: s rádiem/bez sudoku | C12: =odchylky!C12 -> 0.15942029 | D12: =odchylky!D12 -> 0.086956522 | E12: =odchylky!E12 -> 0.037735849 | F12: =odchylky!F12 -> 0.35087719 | G12: =odchylky!G12 -> 0.33333333 | H12: =IF(odchylky!K12="","",odchylky!K12) -> 0.076923077 | I12: =IF(odchylky!L12="","",odchylky!L12) -> 0.15384615 | J12: =IF(odchylky!S12="","",odchylky!S12) -> 0.12698413 | K12: =IF(odchylky!T12="","",odchylky!T12) -> -0.015873016 | L12: =IF(odchylky!U12="","",odchylky!U12) -> -0.038461538
A13: BMW 530d xDrive Touring | B13: s rádiem/bez sudoku | C13: =odchylky!C13 -> 0.2195122 | D13: =odchylky!D13 -> 0.097560976 | E13: =odchylky!E13 -> 0.076923077 | F13: =odchylky!F13 -> 0.046511628 | G13: =odchylky!G13 -> 0.046511628 | H13: =IF(odchylky!K13="","",odchylky!K13) -> -0.10714286 | I13: =IF(odchylky!L13="","",odchylky!L13) -> -0.047619048 | J13: =IF(odchylky!S13="","",odchylky!S13) -> 0.04494382 | K13: =IF(odchylky!T13="","",odchylky!T13) -> 0.011235955 | L13: =IF(odchylky!U13="","",odchylky!U13) -> -0.027777778
A14: BMW 530d xDrive Touring | B14: s rádiem/bez sudoku | C14: =odchylky!C14 -> 0.034482759 | D14: =odchylky!D14 -> 0.034482759 | E14: =odchylky!E14 -> -0.038461538 | F14: =odchylky!F14 -> 0.38461538 | G14: =odchylky!G14 -> 0.38461538 | H14: =IF(odchylky!K14="","",odchylky!K14) -> X | I14: =IF(odchylky!L14="","",odchylky!L14) -> X | J14: =IF(odchylky!S14="","",odchylky!S14) -> 0.089285714 | K14: =IF(odchylky!T14="","",odchylky!T14) -> -0.23214286 | L14: =IF(odchylky!U14="","",odchylky!U14) -> -0.20289855
A15: BMW 530d xDrive Touring | B15: s rádiem/bez sudoku | C15: =odchylky!C15 -> 0.11111111 | D15: =odchylky!D15 -> -0.090909091 | E15: =odchylky!E15 -> 0.18556701 | F15: =odchylky!F15 -> 0.078431373 | G15: =odchylky!G15 -> 0.12745098 | H15: =IF(odchylky!K15="","",odchylky!K15) -> 0.089108911 | I15: =IF(odchylky!L15="","",odchylky!L15) -> 0.089108911 | J15: =IF(odchylky!S15="","",odchylky!S15) -> 0.29 | K15: =IF(odchylky!T15="","",odchylky!T15) -> 0.05 | L15: =IF(odchylky!U15="","",odchylky!U15) -> -0.17525773
A16: BMW 530d xDrive Touring | B16: s rádiem/bez sudoku | C16: =odchylky!C16 -> 0.031746032 | D16: =odchylky!D16 -> -0.047619048 | E16: =odchylky!E16 -> -0.038461538 | F16: =odchylky!F16 -> 0.031746032 | G16: =odchylky!G16 -> 0.055555556 | H16: =IF(odchylky!K16="","",odchylky!K16) -> 0.04 | I16: =IF(odchylky!L16="","",odchylky!L16) -> 0.08 | J16: =IF(odchylky!S16="","",odchylky!S16) -> 0.10569106 | K16: =IF(odchylky!T16="","",odchylky!T16) -> 0.089430894 | L16: =IF(odchylky!U16="","",odchylky!U16) -> -0.04
A17: BMW 530d xDrive Touring | B17: s rádiem/bez sudoku | C17: =odchylky!C17 -> 0.043478261 | D17: =odchylky!D17 -> 0.043478261 | E17: =odchylky!E17 -> X | F17: =odchylky!F17 -> X | G17: =odchylky!G17 -> X | H17: =IF(odchylky!K17="","",odchylky!K17) -> 0.18181818 | I17: =IF(odchylky!L17="","",odchylky!L17) -> 0.18181818 | J17: =IF(odchylky!S17="","",odchylky!S17) -> 0.14782609 | K17: =IF(odchylky!T17="","",odchylky!T17) -> 0.043478261 | L17: =IF(odchylky!U17="","",odchylky!U17) -> -0.035087719
A18: BMW 530d xDrive Touring | B18: s rádiem/bez sudoku | C18: =odchylky!C18 -> -0.02173913 | D18: =odchylky!D18 -> 0.032608696 | E18: =odchylky!E18 -> 0.034482759 | F18: =odchylky!F18 -> 0.091954023 | G18: =odchylky!G18 -> 0.26436782 | H18: =IF(odchylky!K18="","",odchylky!K18) -> 0.17647059 | I18: =IF(odchylky!L18="","",odchylky!L18) -> 0.23529412 | J18: =IF(odchylky!S18="","",odchylky!S18) -> 0.17894737 | K18: =IF(odchylky!T18="","",odchylky!T18) -> 0.052631579 | L18: =IF(odchylky!U18="","",odchylky!U18) -> -0.10714286
A19: BMW 530d xDrive Touring | B19: s rádiem/bez sudoku | C19: =odchylky!C19 -> 0.2 | D19: =odchylky!D19 -> 0.1 | E19: =odchylky!E19 -> 0 | F19: =odchylky!F19 -> 0.20930233 | G19: =odchylky!G19 -> 0.1627907 | H19: =IF(odchylky!K19="","",odchylky!K19) -> -0.11111111 | I19: =IF(odchylky!L19="","",odchylky!L19) -> 0 | J19: =IF(odchylky!S19="","",odchylky!S19) -> 0.54347826 | K19: =IF(odchylky!T19="","",odchylky!T19) -> -0.13043478 | L19: =IF(odchylky!U19="","",odchylky!U19) -> -0.24528302
H20: =IF(odchylky!K20="","",odchylky!K20) | I20: =IF(odchylky!L20="","",odchylky!L20) | J20: =IF(odchylky!S20="","",odchylky!S20) | K20: =IF(odchylky!T20="","",odchylky!T20) | L20: =IF(odchylky!U20="","",odchylky!U20)
A21: BMW 530d xDrive Touring | B21: Bez rádia/se sudoku | C21: =odchylky!C21 -> -0.4 | D21: =odchylky!D21 -> -0.2 | E21: =odchylky!E21 -> 0.097560976 | F21: =odchylky!F21 -> 0.18421053 | G21: =odchylky!G21 -> 0.31578947 | H21: =IF(odchylky!K21="","",odchylky!K21) -> 0.28205128 | I21: =IF(odchylky!L21="","",odchylky!L21) -> 0.15384615 | J21: =IF(odchylky!S21="","",odchylky!S21) -> 0.26829268 | K21: =IF(odchylky!T21="","",odchylky!T21) -> -0.024390244 | L21: =IF(odchylky!U21="","",odchylky!U21) -> -0.32432432
A22: BMW 530d xDrive Touring | B22: Bez rádia/se sudoku | C22: =odchylky!C22 -> -0.056603774 | D22: =odchylky!D22 -> 0.037735849 | E22: =odchylky!E22 -> 0 | F22: =odchylky!F22 -> 0.057692308 | G22: =odchylky!G22 -> 0.019230769 | H22: =IF(odchylky!K22="","",odchylky!K22) -> 0.2 | I22: =IF(odchylky!L22="","",odchylky!L22) -> 0.3 | J22: =IF(odchylky!S22="","",odchylky!S22) -> 0.17307692 | K22: =IF(odchylky!T22="","",odchylky!T22) -> -0.038461538 | L22: =IF(odchylky!U22="","",odchylky!U22) -> -0.2
A23: BMW 530d xDrive Touring | B23: Bez rádia/se sudoku | C23: =odchylky!C23 -> 0 | D23: =odchylky!D23 -> 0 | E23: =odchylky!E23 -> 0.28571429 | F23: =odchylky!F23 -> 0.76470588 | G23: =odchylky!G23 -> 0.17647059 | H23: =IF(odchylky!K23="","",odchylky!K23) -> 0.2195122 | I23: =IF(odchylky!L23="","",odchylky!L23) -> 0.34146341 | J23: =IF(odchylky!S23="","",odchylky!S23) -> 0.46511628 | K23: =IF(odchylky!T23="","",odchylky!T23) -> 0.20930233 | L23: =IF(odchylky!U23="","",odchylky!U23) -> -0.11111111
A24: BMW 530d xDrive Touring | B24: Bez rádia/se sudoku | C24: =odchylky!C24 -> 0.17647059 | D24: =odchylky!D24 -> 0.17647059 | E24: =odchylky!E24 -> 0.044776119 | F24: =odchylky!F24 -> 0.30434783 | G24: =odchylky!G24 -> 0.1884058 | H24: =IF(odchylky!K24="","",odchylky!K24) -> 0.11940299 | I24: =IF(odchylky!L24="","",odchylky!L24) -> 0.19402985 | J24: =IF(odchylky!S24="","",odchylky!S24) -> 0.20895522 | K24: =IF(odchylky!T24="","",odchylky!T24) -> 0.19402985 | L24: =IF(odchylky!U24="","",odchylky!U24) -> -0.097222222
A25: BMW 530d xDrive Touring | B25: Bez rádia/se sudoku | C25: =odchylky!C25 -> 0.14942529 | D25: =odchylky!D25 -> 0.034482759 | E25: =odchylky!E25 -> 0.011904762 | F25: =odchylky!F25 -> 0.046511628 | G25: =odchylky!G25 -> 0.023255814 | H25: =IF(odchylky!K25="","",odchylky!K25) -> -0.04494382 | I25: =IF(odchylky!L25="","",odchylky!L25) -> 0.12359551 | J25: =IF(odchylky!S25="","",odchylky!S25) -> 0.30337079 | K25: =IF(odchylky!T25="","",odchylky!T25) -> 0.033707865 | L25: =IF(odchylky!U25="","",odchylky!U25) -> -0.13043478
A26: BMW 530d xDrive Touring | B26: Bez rádia/se sudoku | C26: =odchylky!C26 -> 0.29032258 | D26: =odchylky!D26 -> 0.29032258 | E26: =odchylky!E26 -> 0.48148148 | F26: =odchylky!F26 -> 0.73333333 | G26: =odchylky!G26 -> 0.33333333 | H26: =IF(odchylky!K26="","",odchylky!K26) -> 0.33333333 | I26: =IF(odchylky!L26="","",odchylky!L26) -> 0.66666667 | J26: =IF(odchylky!S26="","",odchylky!S26) -> 0.44444444 | K26: =IF(odchylky!T26="","",odchylky!T26) -> 0.33333333 | L26: =IF(odchylky!U26="","",odchylky!U26) -> 0.25
A27: BMW 530d xDrive Touring | B27: Bez rádia/se sudoku | C27: =odchylky!C27 -> -0.056603774 | D27: =odchylky!D27 -> 0.037735849 | E27: =odchylky!E27 -> 0.020408163 | F27: =odchylky!F27 -> 0.27659574 | G27: =odchylky!G27 -> -0.042553191 | H27: =IF(odchylky!K27="","",odchylky!K27) -> 0.12244898 | I27: =IF(odchylky!L27="","",odchylky!L27) -> 0.32653061 | J27: =IF(odchylky!S27="","",odchylky!S27) -> 0.17307692 | K27: =IF(odchylky!T27="","",odchylky!T27) -> -0.038461538 | L27: =IF(odchylky!U27="","",odchylky!U27) -> 0
A28: BMW 530d xDrive Touring | B28: Bez rádia/se sudoku | C28: =odchylky!C28 -> 0.52173913 | D28: =odchylky!D28 -> 0.30434783 | E28: =odchylky!E28 -> 0.14583333 | F28: =odchylky!F28 -> 0.42857143 | G28: =odchylky!G28 -> 0.12244898 | H28: =IF(odchylky!K28="","",odchylky!K28) -> 0.2 | I28: =IF(odchylky!L28="","",odchylky!L28) -> 0.1 | J28: =IF(odchylky!S28="","",odchylky!S28) -> 0.10416667 | K28: =IF(odchylky!T28="","",odchylky!T28) -> 0.0625 | L28: =IF(odchylky!U28="","",odchylky!U28) -> 0.022727273
A29: BMW 530d xDrive Touring | B29: Bez rádia/se sudoku | C29: =odchylky!C29 -> 0.38888889 | D29: =odchylky!D29 -> 0.25 | E29: =odchylky!E29 -> -0.1011236 | F29: =odchylky!F29 -> 0.10465116 | G29: =odchylky!G29 -> -0.046511628 | H29: =IF(odchylky!K29="","",odchylky!K29) -> 0.011904762 | I29: =IF(odchylky!L29="","",odchylky!L29) -> 0.13095238 | J29: =IF(odchylky!S29="","",odchylky!S29) -> 0.18072289 | K29: =IF(odchylky!T29="","",odchylky!T29) -> 0.096385542 | L29: =IF(odchylky!U29="","",odchylky!U29) -> -0.15662651
A30: BMW 530d xDrive Touring | B30: Bez rádia/se sudoku | C30: =odchylky!C30 -> 0.052631579 | D30: =odchylky!D30 -> 0.31578947 | E30: =odchylky!E30 -> -0.02173913 | F30: =odchylky!F30 -> 0.2244898 | G30: =odchylky!G30 -> -0.040816327 | H30: =IF(odchylky!K30="","",odchylky!K30) -> 0.063829787 | I30: =IF(odchylky!L30="","",odchylky!L30) -> 1.1276596 | J30: =IF(odchylky!S30="","",odchylky!S30) -> 0.10416667 | K30: =IF(odchylky!T30="","",odchylky!T30) -> 0 | L30: =IF(odchylky!U30="","",odchylky!U30) -> -0.16666667
A31: BMW 530d xDrive Touring | B31: Bez rádia/se sudoku | C31: =odchylky!C31 -> -0.10447761 | D31: =odchylky!D31 -> 0.34328358 | E31: =odchylky!E31 -> 0.11111111 | F31: =odchylky!F31 -> 0.076923077 | G31: =odchylky!G31 -> 0.18461538 | H31: =IF(odchylky!K31="","",odchylky!K31) -> 0.20967742 | I31: =IF(odchylky!L31="","",odchylky!L31) -> 0.20967742 | J31: =IF(odchylky!S31="","",odchylky!S31) -> 0.27118644 | K31: =IF(odchylky!T31="","",odchylky!T31) -> 0.38983051 | L31: =IF(odchylky!U31="","",odchylky!U31) -> -0.035087719
A32: BMW 530d xDrive Touring | B32: Bez rádia/se sudoku | C32: =odchylky!C32 -> 0.2 | D32: =odchylky!D32 -> 0.33333333 | E32: =odchylky!E32 -> -0.011627907 | F32: =odchylky!F32 -> 0.035294118 | G32: =odchylky!G32 -> 0 | H32: =IF(odchylky!K32="","",odchylky!K32) -> 0.036585366 | I32: =IF(odchylky!L32="","",odchylky!L32) -> 0.097560976 | J32: =IF(odchylky!S32="","",odchylky!S32) -> -0.011904762 | K32: =IF(odchylky!T32="","",odchylky!T32) -> 0.071428571 | L32: =IF(odchylky!U32="","",odchylky!U32) -> -0.125
... A38: BMW 530d xDrive Touring | B38: Bez rádia/se sudoku | C38: =odchylky!C38 -> 0.33333333 | D38: =odchylky!D38 -> 0.11111111 | E38: =odchylky!E38 -> -0.090909091 | F38: =odchylky!F38 -> 0.4893617 | G38: =odchylky!G38 -> 0.10638298 | H38: =IF(odchylky!K38="","",odchylky!K38) -> 0.022727273 | I38: =IF(odchylky!L38="","",odchylky!L38) -> 0.25 | J38: =IF(odchylky!S38="","",odchylky!S38) -> 0.10909091 | K38: =IF(odchylky!T38="","",odchylky!T38) -> -0.16363636 | L38: =IF(odchylky!U38="","",odchylky!U38) -> -0.33333333
H39: =IF(odchylky!K39="","",odchylky!K39) | I39: =IF(odchylky!L39="","",odchylky!L39) | J39: =IF(odchylky!S39="","",odchylky!S39) | K39: =IF(odchylky!T39="","",odchylky!T39) | L39: =IF(odchylky!U39="","",odchylky!U39)
A40: BMW X3 | B40: s rádiem/bez sudoku | C40: =odchylky!C40 -> 0.35135135 | D40: =odchylky!D40 -> 0.21621622 | E40: =odchylky!E40 -> 0.11111111 | F40: =odchylky!F40 -> 0.28205128 | G40: =odchylky!G40 -> 0.23076923 | H40: =IF(odchylky!K40="","",odchylky!K40) -> 0.31578947 | I40: =IF(odchylky!L40="","",odchylky!L40) -> 0.052631579 | J40: =IF(odchylky!S40="","",odchylky!S40) -> 0.054545455 | K40: =IF(odchylky!T40="","",odchylky!T40) -> -0.090909091 | L40: =IF(odchylky!U40="","",odchylky!U40) -> -0.28571429
A41: BMW X3 | B41: s rádiem/bez sudoku | C41: =odchylky!C41 -> -0.019607843 | D41: =odchylky!D41 -> 0.078431373 | E41: =odchylky!E41 -> 0.14583333 | F41: =odchylky!F41 -> 0.14583333 | G41: =odchylky!G41 -> 0.0625 | H41: =IF(odchylky!K41="","",odchylky!K41) -> 0.15384615 | I41: =IF(odchylky!L41="","",odchylky!L41) -> -0.038461538 | J41: =IF(odchylky!S41="","",odchylky!S41) -> 0.27272727 | K41: =IF(odchylky!T41="","",odchylky!T41) -> 0.45454545 | L41: =IF(odchylky!U41="","",odchylky!U41) -> -0.21568627
A42: BMW X3 | B42: s rádiem/bez sudoku | C42: =odchylky!C42 -> 0.28205128 | D42: =odchylky!D42 -> 0.15384615 | E42: =odchylky!E42 -> -0.125 | F42: =odchylky!F42 -> 0.52777778 | G42: =odchylky!G42 -> 0.11111111 | H42: =IF(odchylky!K42="","",odchylky!K42) -> 0.25 | I42: =IF(odchylky!L42="","",odchylky!L42) -> 0.375 | J42: =IF(odchylky!S42="","",odchylky!S42) -> 0.30232558 | K42: =IF(odchylky!T42="","",odchylky!T42) -> 0.046511628 | L42: =IF(odchylky!U42="","",odchylky!U42) -> -0.28571429
A43: BMW X3 | B43: s rádiem/bez sudoku | C43: =odchylky!C43 -> 0.09375 | D43: =odchylky!D43 -> -0.0625 | E43: =odchylky!E43 -> 0.060606061 | F43: =odchylky!F43 -> 0.28571429 | G43: =odchylky!G43 -> 0.11428571 | H43: =IF(odchylky!K43="","",odchylky!K43) -> 0.044776119 | I43: =IF(odchylky!L43="","",odchylky!L43) -> 0.26865672 | J43: =IF(odchylky!S43="","",odchylky!S43) -> 0.26315789 | K43: =IF(odchylky!T43="","",odchylky!T43) -> 0.11842105 | L43: =IF(odchylky!U43="","",odchylky!U43) -> -0.11764706
A44: BMW X3 | B44: s rádiem/bez sudoku | C44: =odchylky!C44 -> 0 | D44: =odchylky!D44 -> -0.11111111 | E44: =odchylky!E44 -> 0.091954023 | F44: =odchylky!F44 -> 0.19318182 | G44: =odchylky!G44 -> 0.13636364 | H44: =IF(odchylky!K44="","",odchylky!K44) -> -0.090909091 | I44: =IF(odchylky!L44="","",odchylky!L44) -> 0.022727273 | J44: =IF(odchylky!S44="","",odchylky!S44) -> 0.052631579 | K44: =IF(odchylky!T44="","",odchylky!T44) -> -0.063157895 | L44: =IF(odchylky!U44="","",odchylky!U44) -> 0.022727273
A45: BMW X3 | B45: s rádiem/bez sudoku | C45: =odchylky!C45 -> 0.37931034 | D45: =odchylky!D45 -> 0.37931034 | E45: =odchylky!E45 -> 0.20689655 | F45: =odchylky!F45 -> 0.66666667 | G45: =odchylky!G45 -> 0.26666667 | H45: =IF(odchylky!K45="","",odchylky!K45) -> 0.21212121 | I45: =IF(odchylky!L45="","",odchylky!L45) -> 0.36363636 | J45: =IF(odchylky!S45="","",odchylky!S45) -> 0.39285714 | K45: =IF(odchylky!T45="","",odchylky!T45) -> 0.21428571 | L45: =IF(odchylky!U45="","",odchylky!U45) -> 0.09375
A46: BMW X3 | B46: s rádiem/bez sudoku | C46: =odchylky!C46 -> 0.063829787 | D46: =odchylky!D46 -> 0.063829787 | E46: =odchylky!E46 -> 0.063829787 | F46: =odchylky!F46 -> 0.30769231 | G46: =odchylky!G46 -> 0.019230769 | H46: =IF(odchylky!K46="","",odchylky!K46) -> 0.057692308 | I46: =IF(odchylky!L46="","",odchylky!L46) -> 0.34615385 | J46: =IF(odchylky!S46="","",odchylky!S46) -> 0.10416667 | K46: =IF(odchylky!T46="","",odchylky!T46) -> 0.10416667 | L46: =IF(odchylky!U46="","",odchylky!U46) -> -0.0625
A47: BMW X3 | B47: s rádiem/bez sudoku | C47: =odchylky!C47 -> 0.041666667 | D47: =odchylky!D47 -> 0.25 | E47: =odchylky!E47 -> 0.14583333 | F47: =odchylky!F47 -> 0.3 | G47: =odchylky!G47 -> 0 | H47: =IF(odchylky!K47="","",odchylky!K47) -> -0.038461538 | I47: =IF(odchylky!L47="","",odchylky!L47) -> 0.25 | J47: =IF(odchylky!S47="","",odchylky!S47) -> 0.32608696 | K47: =IF(odchylky!T47="","",odchylky!T47) -> 0.065217391 | L47: =IF(odchylky!U47="","",odchylky!U47) -> -0.2
A48: BMW X3 | B48: s rádiem/bez sudoku | C48: =odchylky!C48 -> 0.097560976 | D48: =odchylky!D48 -> -0.024390244 | E48: =odchylky!E48 -> -0.036144578 | F48: =odchylky!F48 -> 0.19230769 | G48: =odchylky!G48 -> 0.051282051 | H48: =IF(odchylky!K48="","",odchylky!K48) -> 0.049382716 | I48: =IF(odchylky!L48="","",odchylky!L48) -> 0.049382716 | J48: =IF(odchylky!S48="","",odchylky!S48) -> 0.41772152 | K48: =IF(odchylky!T48="","",odchylky!T48) -> -0.24050633 | L48: =IF(odchylky!U48="","",odchylky!U48) -> -0.0625
A49: BMW X3 | B49: s rádiem/bez sudoku | C49: =odchylky!C49 -> 0.11111111 | D49: =odchylky!D49 -> 0.22222222 | E49: =odchylky!E49 -> 0.046511628 | F49: =odchylky!F49 -> 0.37777778 | G49: =odchylky!G49 -> 0 | H49: =IF(odchylky!K49="","",odchylky!K49) -> 0.086956522 | I49: =IF(odchylky!L49="","",odchylky!L49) -> 0.19565217 | J49: =IF(odchylky!S49="","",odchylky!S49) -> 0.1627907 | K49: =IF(odchylky!T49="","",odchylky!T49) -> 0.046511628 | L49: =IF(odchylky!U49="","",odchylky!U49) -> -0.090909091
A50: BMW X3 | B50: s rádiem/bez sudoku | C50: =odchylky!C50 -> 0 | D50: =odchylky!D50 -> -0.28571429 | E50: =odchylky!E50 -> 0.12903226 | F50: =odchylky!F50 -> 0.12903226 | G50: =odchylky!G50 -> 0.22580645 | H50: =IF(odchylky!K50="","",odchylky!K50) -> 0.076923077 | I50: =IF(odchylky!L50="","",odchylky!L50) -> 0.076923077 | J50: =IF(odchylky!S50="","",odchylky!S50) -> 0.052631579 | K50: =IF(odchylky!T50="","",odchylky!T50) -> 0.052631579 | L50: =IF(odchylky!U50="","",odchylky!U50) -> -0.0625
A51: BMW X3 | B51: s rádiem/bez sudoku | C51: =odchylky!C51 -> 0.071428571 | D51: =odchylky!D51 -> -0.047619048 | E51: =odchylky!E51 -> 0.049382716 | F51: =odchylky!F51 -> 0.21212121 | G51: =odchylky!G51 -> 0.21212121 | H51: =IF(odchylky!K51="","",odchylky!K51) -> 0 | I51: =IF(odchylky!L51="","",odchylky!L51) -> 0 | J51: =IF(odchylky!S51="","",odchylky!S51) -> 0.19402985 | K51: =IF(odchylky!T51="","",odchylky!T51) -> 0.19402985 | L51: =IF(odchylky!U51="","",odchylky!U51) -> -0.08045977
... A57: BMW X3 | B57: s rádiem/bez sudoku | C57: =odchylky!C57 -> 0.2244898 | D57: =odchylky!D57 -> 0.020408163 | E57: =odchylky!E57 -> -0.047619048 | F57: =odchylky!F57 -> 0.19565217 | G57: =odchylky!G57 -> 0.043478261 | H57: =IF(odchylky!K57="","",odchylky!K57) -> -0.042553191 | I57: =IF(odchylky!L57="","",odchylky!L57) -> 0.063829787 | J57: =IF(odchylky!S57="","",odchylky!S57) -> 0.41176471 | K57: =IF(odchylky!T57="","",odchylky!T57) -> -0.15686275 | L57: =IF(odchylky!U57="","",odchylky!U57) -> -0.23913043
H58: =IF(odchylky!K58="","",odchylky!K58) | I58: =IF(odchylky!L58="","",odchylky!L58) | J58: =IF(odchylky!S58="","",odchylky!S58) | K58: =IF(odchylky!T58="","",odchylky!T58) | L58: =IF(odchylky!U58="","",odchylky!U58)
A59: BMW X3 | B59: Bez rádia/se sudoku | C59: =odchylky!C59 -> 0.11111111 | D59: =odchylky!D59 -> 0.38888889 | E59: =odchylky!E59 -> 0.025641026 | F59: =odchylky!F59 -> 0.25 | G59: =odchylky!G59 -> 0.175 | H59: =IF(odchylky!K59="","",odchylky!K59) -> 0.19047619 | I59: =IF(odchylky!L59="","",odchylky!L59) -> 0.30952381 | J59: =IF(odchylky!S59="","",odchylky!S59) -> 0.13157895 | K59: =IF(odchylky!T59="","",odchylky!T59) -> 0.10526316 | L59: =IF(odchylky!U59="","",odchylky!U59) -> -0.26829268
A60: BMW X3 | B60: Bez rádia/se sudoku | C60: =odchylky!C60 -> 0 | D60: =odchylky!D60 -> 0.1 | E60: =odchylky!E60 -> 0.057692308 | F60: =odchylky!F60 -> 0.020408163 | G60: =odchylky!G60 -> 0.081632653 | H60: =IF(odchylky!K60="","",odchylky!K60) -> 0.12068966 | I60: =IF(odchylky!L60="","",odchylky!L60) -> 0.12068966 | J60: =IF(odchylky!S60="","",odchylky!S60) -> 0.081632653 | K60: =IF(odchylky!T60="","",odchylky!T60) -> 0.040816327 | L60: =IF(odchylky!U60="","",odchylky!U60) -> -0.23076923
A61: BMW X3 | B61: Bez rádia/se sudoku | C61: =odchylky!C61 -> 0.46341463 | D61: =odchylky!D61 -> 0.097560976 | E61: =odchylky!E61 -> 0.029411765 | F61: =odchylky!F61 -> 0.57142857 | G61: =odchylky!G61 -> 0 | H61: =IF(odchylky!K61="","",odchylky!K61) -> 0.1627907 | I61: =IF(odchylky!L61="","",odchylky!L61) -> 0.39534884 | J61: =IF(odchylky!S61="","",odchylky!S61) -> 0.043478261 | K61: =IF(odchylky!T61="","",odchylky!T61) -> -0.13043478 | L61: =IF(odchylky!U61="","",odchylky!U61) -> -0.20454545
A62: BMW X3 | B62: Bez rádia/se sudoku | C62: =odchylky!C62 -> 0.19402985 | D62: =odchylky!D62 -> -0.10447761 | E62: =odchylky!E62 -> 0.23076923 | F62: =odchylky!F62 -> 0.044776119 | G62: =odchylky!G62 -> 0.1641791 | H62: =IF(odchylky!K62="","",odchylky!K62) -> 0.11940299 | I62: =IF(odchylky!L62="","",odchylky!L62) -> 0.11940299 | J62: =IF(odchylky!S62="","",odchylky!S62) -> 0.19444444 | K62: =IF(odchylky!T62="","",odchylky!T62) -> 0.18055556 | L62: =IF(odchylky!U62="","",odchylky!U62) -> -0.21428571
A63: BMW X3 | B63: Bez rádia/se sudoku | C63: =odchylky!C63 -> 0.14942529 | D63: =odchylky!D63 -> -0.022988506 | E63: =odchylky!E63 -> 0.046511628 | F63: =odchylky!F63 -> 0.097560976 | G63: =odchylky!G63 -> 0.097560976 | H63: =IF(odchylky!K63="","",odchylky!K63) -> -0.1011236 | I63: =IF(odchylky!L63="","",odchylky!L63) -> -0.04494382 | J63: =IF(odchylky!S63="","",odchylky!S63) -> 0.15217391 | K63: =IF(odchylky!T63="","",odchylky!T63) -> -0.02173913 | L63: =IF(odchylky!U63="","",odchylky!U63) -> 0.011235955
A64: BMW X3 | B64: Bez rádia/se sudoku | C64: =odchylky!C64 -> 0.93548387 | D64: =odchylky!D64 -> 0.4516129 | E64: =odchylky!E64 -> 0.25 | F64: =odchylky!F64 -> 0.65517241 | G64: =odchylky!G64 -> 0.27586207 | H64: =IF(odchylky!K64="","",odchylky!K64) -> 0.17647059 | I64: =IF(odchylky!L64="","",odchylky!L64) -> 0.47058824 | J64: =IF(odchylky!S64="","",odchylky!S64) -> 0.44827586 | K64: =IF(odchylky!T64="","",odchylky!T64) -> 0.37931034 | L64: =IF(odchylky!U64="","",odchylky!U64) -> 0
A65: BMW X3 | B65: Bez rádia/se sudoku | C65: =odchylky!C65 -> -0.019607843 | D65: =odchylky!D65 -> 0.17647059 | E65: =odchylky!E65 -> 0.063829787 | F65: =odchylky!F65 -> 0.2 | G65: =odchylky!G65 -> 0.06 | H65: =IF(odchylky!K65="","",odchylky!K65) -> 0.020408163 | I65: =IF(odchylky!L65="","",odchylky!L65) -> 0.32653061 | J65: =IF(odchylky!S65="","",odchylky!S65) -> 0.1372549 | K65: =IF(odchylky!T65="","",odchylky!T65) -> -0.058823529 | L65: =IF(odchylky!U65="","",odchylky!U65) -> -0.019607843
A66: BMW X3 | B66: Bez rádia/se sudoku | C66: =odchylky!C66 -> 0.27659574 | D66: =odchylky!D66 -> 0.38297872 | E66: =odchylky!E66 -> 0.020408163 | F66: =odchylky!F66 -> 0.27659574 | G66: =odchylky!G66 -> 0.063829787 | H66: =IF(odchylky!K66="","",odchylky!K66) -> 0.063829787 | I66: =IF(odchylky!L66="","",odchylky!L66) -> 0.063829787 | J66: =IF(odchylky!S66="","",odchylky!S66) -> 0.17391304 | K66: =IF(odchylky!T66="","",odchylky!T66) -> 0.13043478 | L66: =IF(odchylky!U66="","",odchylky!U66) -> -0.14893617
A67: BMW X3 | B67: Bez rádia/se sudoku | C67: =odchylky!C67 -> 0.084337349 | D67: =odchylky!D67 -> 0.024096386 | E67: =odchylky!E67 -> 0.058823529 | F67: =odchylky!F67 -> 0.091954023 | G67: =odchylky!G67 -> 0.057471264 | H67: =IF(odchylky!K67="","",odchylky!K67) -> -0.078947368 | I67: =IF(odchylky!L67="","",odchylky!L67) -> 0.052631579 | J67: =IF(odchylky!S67="","",odchylky!S67) -> 0.1875 | K67: =IF(odchylky!T67="","",odchylky!T67) -> 0.125 | L67: =IF(odchylky!U67="","",odchylky!U67) -> -0.15662651
A68: BMW X3 | B68: Bez rádia/se sudoku | C68: =odchylky!C68 -> 0.13636364 | D68: =odchylky!D68 -> 0.13636364 | E68: =odchylky!E68 -> 0.063829787 | F68: =odchylky!F68 -> 0.20833333 | G68: =odchylky!G68 -> 0.041666667 | H68: =IF(odchylky!K68="","",odchylky!K68) -> 0.071428571 | I68: =IF(odchylky!L68="","",odchylky!L68) -> 0.30952381 | J68: =IF(odchylky!S68="","",odchylky!S68) -> 0.10869565 | K68: =IF(odchylky!T68="","",odchylky!T68) -> 0.086956522 | L68: =IF(odchylky!U68="","",odchylky!U68) -> -0.0625
A69: BMW X3 | B69: Bez rádia/se sudoku | C69: =odchylky!C69 -> 0.044776119 | D69: =odchylky!D69 -> 0.11940299 | E69: =odchylky!E69 -> 0.09375 | F69: =odchylky!F69 -> 0.014925373 | G69: =odchylky!G69 -> 0.19402985 | H69: =IF(odchylky!K69="","",odchylky!K69) -> 0.015625 | I69: =IF(odchylky!L69="","",odchylky!L69) -> 0.25 | J69: =IF(odchylky!S69="","",odchylky!S69) -> 0.15873016 | K69: =IF(odchylky!T69="","",odchylky!T69) -> 0.33333333 | L69: =IF(odchylky!U69="","",odchylky!U69) -> -0.0625
A70: BMW X3 | B70: Bez rádia/se sudoku | C70: =odchylky!C70 -> 0.081081081 | D70: =odchylky!D70 -> 0.081081081 | E70: =odchylky!E70 -> 0.075949367 | F70: =odchylky!F70 -> 0.011904762 | G70: =odchylky!G70 -> 0.047619048 | H70: =IF(odchylky!K70="","",odchylky!K70) -> -0.14634146 | I70: =IF(odchylky!L70="","",odchylky!L70) -> 0.097560976 | J70: =IF(odchylky!S70="","",odchylky!S70) -> 0.0375 | K70: =IF(odchylky!T70="","",odchylky!T70) -> 0.075 | L70: =IF(odchylky!U70="","",odchylky!U70) -> -0.024390244
... A76: BMW X3 | B76: Bez rádia/se sudoku | C76: =odchylky!C76 -> 0.36363636 | D76: =odchylky!D76 -> 0.36363636 | E76: =odchylky!E76 -> -0.13043478 | F76: =odchylky!F76 -> 0.20930233 | G76: =odchylky!G76 -> 0.11627907 | H76: =IF(odchylky!K76="","",odchylky!K76) -> -0.1 | I76: =IF(odchylky!L76="","",odchylky!L76) -> -0.1 | J76: =IF(odchylky!S76="","",odchylky!S76) -> 0.17777778 | K76: =IF(odchylky!T76="","",odchylky!T76) -> 0.022222222 | L76: =IF(odchylky!U76="","",odchylky!U76) -> -0.054054054
H77: =IF(odchylky!K77="","",odchylky!K77) | I77: =IF(odchylky!L77="","",odchylky!L77) | J77: =IF(odchylky!S77="","",odchylky!S77) | K77: =IF(odchylky!T77="","",odchylky!T77) | L77: =IF(odchylky!U77="","",odchylky!U77)
A78: VW Caravella | B78: s rádiem/bez sudoku | C78: =odchylky!C78 -> 0.42857143 | D78: =odchylky!D78 -> 0.14285714 | E78: =odchylky!E78 -> 0.081081081 | F78: =odchylky!F78 -> 0.081081081 | G78: =odchylky!G78 -> 0.24324324 | H78: =IF(odchylky!K78="","",odchylky!K78) -> 0.38888889 | I78: =IF(odchylky!L78="","",odchylky!L78) -> 0.66666667 | J78: =IF(odchylky!S78="","",odchylky!S78) -> 0.36842105 | K78: =IF(odchylky!T78="","",odchylky!T78) -> 0.052631579 | L78: =IF(odchylky!U78="","",odchylky!U78) -> -0.21052632
A79: VW Caravella | B79: s rádiem/bez sudoku | C79: =odchylky!C79 -> 0.041666667 | D79: =odchylky!D79 -> 0.041666667 | E79: =odchylky!E79 -> 0.1 | F79: =odchylky!F79 -> 0 | G79: =odchylky!G79 -> 0 | H79: =IF(odchylky!K79="","",odchylky!K79) -> 0.25 | I79: =IF(odchylky!L79="","",odchylky!L79) -> 0.25 | J79: =IF(odchylky!S79="","",odchylky!S79) -> 0.12962963 | K79: =IF(odchylky!T79="","",odchylky!T79) -> -0.27777778 | L79: =IF(odchylky!U79="","",odchylky!U79) -> -0.25925926
A80: VW Caravella | B80: s rádiem/bez sudoku | C80: =odchylky!C80 -> 0.11111111 | D80: =odchylky!D80 -> 0.11111111 | E80: =odchylky!E80 -> -0.18918919 | F80: =odchylky!F80 -> 0.21621622 | G80: =odchylky!G80 -> -0.13513514 | H80: =IF(odchylky!K80="","",odchylky!K80) -> 0.11111111 | I80: =IF(odchylky!L80="","",odchylky!L80) -> 0.44444444 | J80: =IF(odchylky!S80="","",odchylky!S80) -> 0.023809524 | K80: =IF(odchylky!T80="","",odchylky!T80) -> -0.23809524 | L80: =IF(odchylky!U80="","",odchylky!U80) -> -0.16666667
A81: VW Caravella | B81: s rádiem/bez sudoku | C81: =odchylky!C81 -> -0.04109589 | D81: =odchylky!D81 -> 0.02739726 | E81: =odchylky!E81 -> 0.029411765 | F81: =odchylky!F81 -> 0.029411765 | G81: =odchylky!G81 -> -0.33823529 | H81: =IF(odchylky!K81="","",odchylky!K81) -> 0.014492754 | I81: =IF(odchylky!L81="","",odchylky!L81) -> 0.15942029 | J81: =IF(odchylky!S81="","",odchylky!S81) -> 0.17391304 | K81: =IF(odchylky!T81="","",odchylky!T81) -> -0.1884058 | L81: =IF(odchylky!U81="","",odchylky!U81) -> -0.20289855
A82: VW Caravella | B82: s rádiem/bez sudoku | C82: =odchylky!C82 -> -0.024390244 | D82: =odchylky!D82 -> 0.073170732 | E82: =odchylky!E82 -> 0.055555556 | F82: =odchylky!F82 -> 0 | G82: =odchylky!G82 -> -0.13333333 | H82: =IF(odchylky!K82="","",odchylky!K82) -> -0.13043478 | I82: =IF(odchylky!L82="","",odchylky!L82) -> -0.076086957 | J82: =IF(odchylky!S82="","",odchylky!S82) -> 0.1827957 | K82: =IF(odchylky!T82="","",odchylky!T82) -> -0.19354839 | L82: =IF(odchylky!U82="","",odchylky!U82) -> -0.086021505
A83: VW Caravella | B83: s rádiem/bez sudoku | C83: =odchylky!C83 -> 0.37931034 | D83: =odchylky!D83 -> 0.37931034 | E83: =odchylky!E83 -> -0.16666667 | F83: =odchylky!F83 -> 0.5 | G83: =odchylky!G83 -> -0.16666667 | H83: =IF(odchylky!K83="","",odchylky!K83) -> 0.25 | I83: =IF(odchylky!L83="","",odchylky!L83) -> 0.5625 | J83: =IF(odchylky!S83="","",odchylky!S83) -> 0.4 | K83: =IF(odchylky!T83="","",odchylky!T83) -> 0.26666667 | L83: =IF(odchylky!U83="","",odchylky!U83) -> -0.16666667
A84: VW Caravella | B84: s rádiem/bez sudoku | C84: =odchylky!C84 -> 0.063829787 | D84: =odchylky!D84 -> 0.063829787 | E84: =odchylky!E84 -> 0.041666667 | F84: =odchylky!F84 -> 0.083333333 | G84: =odchylky!G84 -> 0.020833333 | H84: =IF(odchylky!K84="","",odchylky!K84) -> 0.057692308 | I84: =IF(odchylky!L84="","",odchylky!L84) -> 0.25 | J84: =IF(odchylky!S84="","",odchylky!S84) -> 0.086206897 | K84: =IF(odchylky!T84="","",odchylky!T84) -> -0.13793103 | L84: =IF(odchylky!U84="","",odchylky!U84) -> -0.051724138
A85: VW Caravella | B85: s rádiem/bez sudoku | C85: =odchylky!C85 -> 0.1 | D85: =odchylky!D85 -> 0 | E85: =odchylky!E85 -> -0.1 | F85: =odchylky!F85 -> 0.04 | G85: =odchylky!G85 -> 0 | H85: =IF(odchylky!K85="","",odchylky!K85) -> -0.019607843 | I85: =IF(odchylky!L85="","",odchylky!L85) -> 0.17647059 | J85: =IF(odchylky!S85="","",odchylky!S85) -> 0.083333333 | K85: =IF(odchylky!T85="","",odchylky!T85) -> -0.0625 | L85: =IF(odchylky!U85="","",odchylky!U85) -> -0.27083333
A86: VW Caravella | B86: s rádiem/bez sudoku | C86: =odchylky!C86 -> -0.024390244 | D86: =odchylky!D86 -> -0.20731707 | E86: =odchylky!E86 -> -0.13978495 | F86: =odchylky!F86 -> -0.086021505 | G86: =odchylky!G86 -> -0.35483871 | H86: =IF(odchylky!K86="","",odchylky!K86) -> -0.069767442 | I86: =IF(odchylky!L86="","",odchylky!L86) -> -0.12790698 | J86: =IF(odchylky!S86="","",odchylky!S86) -> 0.036585366 | K86: =IF(odchylky!T86="","",odchylky!T86) -> -0.14634146 | L86: =IF(odchylky!U86="","",odchylky!U86) -> -0.14634146
A87: VW Caravella | B87: s rádiem/bez sudoku | C87: =odchylky!C87 -> -0.047619048 | D87: =odchylky!D87 -> 0.9047619 | E87: =odchylky!E87 -> -0.069767442 | F87: =odchylky!F87 -> 0.27906977 | G87: =odchylky!G87 -> -0.11627907 | H87: =IF(odchylky!K87="","",odchylky!K87) -> 0.51515152 | I87: =IF(odchylky!L87="","",odchylky!L87) -> 0.66666667 | J87: =IF(odchylky!S87="","",odchylky!S87) -> 0.47368421 | K87: =IF(odchylky!T87="","",odchylky!T87) -> -0.10526316 | L87: =IF(odchylky!U87="","",odchylky!U87) -> 0.052631579
A88: VW Caravella | B88: s rádiem/bez sudoku | C88: =odchylky!C88 -> 0.18644068 | D88: =odchylky!D88 -> 0.016949153 | E88: =odchylky!E88 -> 0 | F88: =odchylky!F88 -> 0.071428571 | G88: =odchylky!G88 -> 0.042857143 | H88: =IF(odchylky!K88="","",odchylky!K88) -> 0.17647059 | I88: =IF(odchylky!L88="","",odchylky!L88) -> 0.2745098 | J88: =IF(odchylky!S88="","",odchylky!S88) -> 0.096774194 | K88: =IF(odchylky!T88="","",odchylky!T88) -> -0.032258065 | L88: =IF(odchylky!U88="","",odchylky!U88) -> -0.11290323
A89: VW Caravella | B89: s rádiem/bez sudoku | C89: =odchylky!C89 -> -0.012345679 | D89: =odchylky!D89 -> 0.049382716 | E89: =odchylky!E89 -> 0.075949367 | F89: =odchylky!F89 -> 0.037974684 | G89: =odchylky!G89 -> 0.037974684 | H89: =IF(odchylky!K89="","",odchylky!K89) -> -0.085365854 | I89: =IF(odchylky!L89="","",odchylky!L89) -> -0.024390244 | J89: =IF(odchylky!S89="","",odchylky!S89) -> 0.025 | K89: =IF(odchylky!T89="","",odchylky!T89) -> 0.125 | L89: =IF(odchylky!U89="","",odchylky!U89) -> -0.1875
... A95: VW Caravella | B95: s rádiem/bez sudoku | C95: =odchylky!C95 -> -0.11111111 | D95: =odchylky!D95 -> 0.11111111 | E95: =odchylky!E95 -> -0.23076923 | F95: =odchylky!F95 -> 0.019230769 | G95: =odchylky!G95 -> -0.096153846 | H95: =IF(odchylky!K95="","",odchylky!K95) -> -0.24528302 | I95: =IF(odchylky!L95="","",odchylky!L95) -> 0.13207547 | J95: =IF(odchylky!S95="","",odchylky!S95) -> 0.70588235 | K95: =IF(odchylky!T95="","",odchylky!T95) -> 0.70588235 | L95: =IF(odchylky!U95="","",odchylky!U95) -> 0.029411765
H96: =IF(odchylky!K96="","",odchylky!K96) | I96: =IF(odchylky!L96="","",odchylky!L96) | J96: =IF(odchylky!S96="","",odchylky!S96) | K96: =IF(odchylky!T96="","",odchylky!T96) | L96: =IF(odchylky!U96="","",odchylky!U96)
A97: VW Caravella | B97: Bez rádia/se sudoku | C97: =odchylky!C97 -> -0.047619048 | D97: =odchylky!D97 -> -0.047619048 | E97: =odchylky!E97 -> -0.054054054 | F97: =odchylky!F97 -> 0.21621622 | G97: =odchylky!G97 -> 0.16216216 | H97: =IF(odchylky!K97="","",odchylky!K97) -> 0.19565217 | I97: =IF(odchylky!L97="","",odchylky!L97) -> 0.30434783 | J97: =IF(odchylky!S97="","",odchylky!S97) -> 0.15384615 | K97: =IF(odchylky!T97="","",odchylky!T97) -> 0.025641026 | L97: =IF(odchylky!U97="","",odchylky!U97) -> -0.35897436
A98: VW Caravella | B98: Bez rádia/se sudoku | C98: =odchylky!C98 -> -0.056603774 | D98: =odchylky!D98 -> -0.094339623 | E98: =odchylky!E98 -> 0.12244898 | F98: =odchylky!F98 -> -0.081632653 | G98: =odchylky!G98 -> 0.020408163 | H98: =IF(odchylky!K98="","",odchylky!K98) -> 0.18181818 | I98: =IF(odchylky!L98="","",odchylky!L98) -> 0 | J98: =IF(odchylky!S98="","",odchylky!S98) -> 0.040816327 | K98: =IF(odchylky!T98="","",odchylky!T98) -> 0.020408163 | L98: =IF(odchylky!U98="","",odchylky!U98) -> -0.34693878
A99: VW Caravella | B99: Bez rádia/se sudoku | C99: =odchylky!C99 -> 0.14285714 | D99: =odchylky!D99 -> 0.28571429 | E99: =odchylky!E99 -> -0.054054054 | F99: =odchylky!F99 -> 0.48648649 | G99: =odchylky!G99 -> -0.10810811 | H99: =IF(odchylky!K99="","",odchylky!K99) -> 0.086956522 | I99: =IF(odchylky!L99="","",odchylky!L99) -> 0.30434783 | J99: =IF(odchylky!S99="","",odchylky!S99) -> 0.1627907 | K99: =IF(odchylky!T99="","",odchylky!T99) -> -0.30232558 | L99: =IF(odchylky!U99="","",odchylky!U99) -> -0.18604651
A100: VW Caravella | B100: Bez rádia/se sudoku | C100: =odchylky!C100 -> -0.10447761 | D100: =odchylky!D100 -> -0.25373134 | E100: =odchylky!E100 -> 0.13636364 | F100: =odchylky!F100 -> 0.060606061 | G100: =odchylky!G100 -> -0.015151515 | H100: =IF(odchylky!K100="","",odchylky!K100) -> 0.060606061 | I100: =IF(odchylky!L100="","",odchylky!L100) -> 0.13636364 | J100: =IF(odchylky!S100="","",odchylky!S100) -> 0.092307692 | K100: =IF(odchylky!T100="","",odchylky!T100) -> -0.10769231 | L100: =IF(odchylky!U100="","",odchylky!U100) -> -0.23076923
A101: VW Caravella | B101: Bez rádia/se sudoku | C101: =odchylky!C101 -> -0.058823529 | D101: =odchylky!D101 -> -0.17647059 | E101: =odchylky!E101 -> 0.10465116 | F101: =odchylky!F101 -> 0.046511628 | G101: =odchylky!G101 -> 0.034883721 | H101: =IF(odchylky!K101="","",odchylky!K101) -> -0.090909091 | I101: =IF(odchylky!L101="","",odchylky!L101) -> -0.034090909 | J101: =IF(odchylky!S101="","",odchylky!S101) -> 0.12359551 | K101: =IF(odchylky!T101="","",odchylky!T101) -> -0.06741573 | L101: =IF(odchylky!U101="","",odchylky!U101) -> -0.15730337
A102: VW Caravella | B102: Bez rádia/se sudoku | C102: =odchylky!C102 -> 0.21212121 | D102: =odchylky!D102 -> 0.21212121 | E102: =odchylky!E102 -> -0.032258065 | F102: =odchylky!F102 -> 0.032258065 | G102: =odchylky!G102 -> -0.032258065 | H102: =IF(odchylky!K102="","",odchylky!K102) -> 0.33333333 | I102: =IF(odchylky!L102="","",odchylky!L102) -> 0.66666667 | J102: =IF(odchylky!S102="","",odchylky!S102) -> 0.35483871 | K102: =IF(odchylky!T102="","",odchylky!T102) -> 0 | L102: =IF(odchylky!U102="","",odchylky!U102) -> 0.12903226
A103: VW Caravella | B103: Bez rádia/se sudoku | C103: =odchylky!C103 -> 0.11111111 | D103: =odchylky!D103 -> 0.11111111 | E103: =odchylky!E103 -> -0.15254237 | F103: =odchylky!F103 -> -0.15254237 | G103: =odchylky!G103 -> -0.11864407 | H103: =IF(odchylky!K103="","",odchylky!K103) -> -0.090909091 | I103: =IF(odchylky!L103="","",odchylky!L103) -> 0.27272727 | J103: =IF(odchylky!S103="","",odchylky!S103) -> 0.19607843 | K103: =IF(odchylky!T103="","",odchylky!T103) -> -0.039215686 | L103: =IF(odchylky!U103="","",odchylky!U103) -> -0.019607843
A104: VW Caravella | B104: Bez rádia/se sudoku | C104: =odchylky!C104 -> 0.057692308 | D104: =odchylky!D104 -> 0.11538462 | E104: =odchylky!E104 -> 0.2 | F104: =odchylky!F104 -> 0.2 | G104: =odchylky!G104 -> 0.02 | H104: =IF(odchylky!K104="","",odchylky!K104) -> 0.078431373 | I104: =IF(odchylky!L104="","",odchylky!L104) -> 0.17647059 | J104: =IF(odchylky!S104="","",odchylky!S104) -> 0.08 | K104: =IF(odchylky!T104="","",odchylky!T104) -> -0.2 | L104: =IF(odchylky!U104="","",odchylky!U104) -> -0.2
A105: VW Caravella | B105: Bez rádia/se sudoku | C105: =odchylky!C105 -> -0.15730337 | D105: =odchylky!D105 -> -0.15730337 | E105: =odchylky!E105 -> -0.011627907 | F105: =odchylky!F105 -> -0.069767442 | G105: =odchylky!G105 -> -0.069767442 | H105: =IF(odchylky!K105="","",odchylky!K105) -> -0.058823529 | I105: =IF(odchylky!L105="","",odchylky!L105) -> -0.058823529 | J105: =IF(odchylky!S105="","",odchylky!S105) -> 0.19512195 | K105: =IF(odchylky!T105="","",odchylky!T105) -> -0.17073171 | L105: =IF(odchylky!U105="","",odchylky!U105) -> -0.14634146
A106: VW Caravella | B106: Bez rádia/se sudoku | C106: =odchylky!C106 -> 0.2195122 | D106: =odchylky!D106 -> 0.2195122 | E106: =odchylky!E106 -> 0.28571429 | F106: =odchylky!F106 -> 0.57142857 | G106: =odchylky!G106 -> -0.057142857 | H106: =IF(odchylky!K106="","",odchylky!K106) -> 0.28205128 | I106: =IF(odchylky!L106="","",odchylky!L106) -> 0.53846154 | J106: =IF(odchylky!S106="","",odchylky!S106) -> 0.090909091 | K106: =IF(odchylky!T106="","",odchylky!T106) -> -0.43181818 | L106: =IF(odchylky!U106="","",odchylky!U106) -> -0.090909091
A107: VW Caravella | B107: Bez rádia/se sudoku | C107: =odchylky!C107 -> -0.047619048 | D107: =odchylky!D107 -> 0.031746032 | E107: =odchylky!E107 -> 0.014492754 | F107: =odchylky!F107 -> 0.014492754 | G107: =odchylky!G107 -> 0.086956522 | H107: =IF(odchylky!K107="","",odchylky!K107) -> 0.083333333 | I107: =IF(odchylky!L107="","",odchylky!L107) -> 0.25 | J107: =IF(odchylky!S107="","",odchylky!S107) -> 0 | K107: =IF(odchylky!T107="","",odchylky!T107) -> -0.079365079 | L107: =IF(odchylky!U107="","",odchylky!U107) -> -0.20634921
A108: VW Caravella | B108: Bez rádia/se sudoku | C108: =odchylky!C108 -> -0.078947368 | D108: =odchylky!D108 -> -0.013157895 | E108: =odchylky!E108 -> 0.029411765 | F108: =odchylky!F108 -> 0.10294118 | G108: =odchylky!G108 -> 0.17647059 | H108: =IF(odchylky!K108="","",odchylky!K108) -> -0.12790698 | I108: =IF(odchylky!L108="","",odchylky!L108) -> -0.011627907 | J108: =IF(odchylky!S108="","",odchylky!S108) -> 0.045977011 | K108: =IF(odchylky!T108="","",odchylky!T108) -> 0 | L108: =IF(odchylky!U108="","",odchylky!U108) -> -0.25287356
... A114: VW Caravella | B114: Bez rádia/se sudoku | C114: =odchylky!C114 -> -0.16666667 | D114: =odchylky!D114 -> 0.041666667 | E114: =odchylky!E114 -> -0.16666667 | F114: =odchylky!F114 -> 0.35714286 | G114: =odchylky!G114 -> -0.047619048 | H114: =IF(odchylky!K114="","",odchylky!K114) -> -0.2 | I114: =IF(odchylky!L114="","",odchylky!L114) -> 0.2 | J114: =IF(odchylky!S114="","",odchylky!S114) -> 0.46511628 | K114: =IF(odchylky!T114="","",odchylky!T114) -> -0.25581395 | L114: =IF(odchylky!U114="","",odchylky!U114) -> -0.30232558
A115: =MAX(C2:L114) -> 1.1276596
A116: =MIN(C2:L114) -> -0.50819672

Sheet odchylky_nezkušení
A1: Vozidlo | B1: Poznámka | C1: =IF(odchylky!A1="","",odchylky!A1) -> 1 | D1: =IF(odchylky!B1="","",odchylky!B1) -> 2 | E1: =IF(odchylky!H1="","",odchylky!H1) -> 8 | F1: =IF(odchylky!I1="","",odchylky!I1) -> 9 | G1: =IF(odchylky!J1="","",odchylky!J1) -> 10 | H1: =IF(odchylky!M1="","",odchylky!M1) -> 13 | I1: =IF(odchylky!N1="","",odchylky!N1) -> 14 | J1: =IF(odchylky!O1="","",odchylky!O1) -> 15 | K1: =IF(odchylky!P1="","",odchylky!P1) -> 16 | L1: =IF(odchylky!Q1="","",odchylky!Q1) -> 17 | M1: =IF(odchylky!R1="","",odchylky!R1) -> 18
A2: BMW 530d xDrive Touring | B2: s rádiem/bez sudoku | C2: =IF(odchylky!A2="","",odchylky!A2) -> -0.18918919 | D2: =IF(odchylky!B2="","",odchylky!B2) -> -0.59459459 | E2: =IF(odchylky!H2="","",odchylky!H2) -> -0.078947368 | F2: =IF(odchylky!I2="","",odchylky!I2) -> 0.052631579 | G2: =IF(odchylky!J2="","",odchylky!J2) -> 0.31578947 | H2: =IF(odchylky!M2="","",odchylky!M2) -> -0.054054054 | I2: =IF(odchylky!N2="","",odchylky!N2) -> X | J2: =IF(odchylky!O2="","",odchylky!O2) -> X | K2: =IF(odchylky!P2="","",odchylky!P2) -> 0.18421053 | L2: =IF(odchylky!Q2="","",odchylky!Q2) -> 0.18421053 | M2: =IF(odchylky!R2="","",odchylky!R2) -> X
A3: BMW 530d xDrive Touring | B3: s rádiem/bez sudoku | C3: =IF(odchylky!A3="","",odchylky!A3) -> -0.4 | D3: =IF(odchylky!B3="","",odchylky!B3) -> -0.6 | E3: =IF(odchylky!H3="","",odchylky!H3) -> -0.042553191 | F3: =IF(odchylky!I3="","",odchylky!I3) -> 0.17647059 | G3: =IF(odchylky!J3="","",odchylky!J3) -> -0.019607843 | H3: =IF(odchylky!M3="","",odchylky!M3) -> -0.18367347 | I3: =IF(odchylky!N3="","",odchylky!N3) -> X | J3: =IF(odchylky!O3="","",odchylky!O3) -> X | K3: =IF(odchylky!P3="","",odchylky!P3) -> -0.017857143 | L3: =IF(odchylky!Q3="","",odchylky!Q3) -> -0.017857143 | M3: =IF(odchylky!R3="","",odchylky!R3) -> X
A4: BMW 530d xDrive Touring | B4: s rádiem/bez sudoku | C4: =IF(odchylky!A4="","",odchylky!A4) -> -0.25 | D4: =IF(odchylky!B4="","",odchylky!B4) -> -0.25 | E4: =IF(odchylky!H4="","",odchylky!H4) -> -0.18918919 | F4: =IF(odchylky!I4="","",odchylky!I4) -> 0.28205128 | G4: =IF(odchylky!J4="","",odchylky!J4) -> 0.23076923 | H4: =IF(odchylky!M4="","",odchylky!M4) -> -0.21052632 | I4: =IF(odchylky!N4="","",odchylky!N4) -> X | J4: =IF(odchylky!O4="","",odchylky!O4) -> X | K4: =IF(odchylky!P4="","",odchylky!P4) -> 0.36363636 | L4: =IF(odchylky!Q4="","",odchylky!Q4) -> 0.36363636 | M4: =IF(odchylky!R4="","",odchylky!R4) -> X
A5: BMW 530d xDrive Touring | B5: s rádiem/bez sudoku | C5: =IF(odchylky!A5="","",odchylky!A5) -> -0.15492958 | D5: =IF(odchylky!B5="","",odchylky!B5) -> -0.29577465 | E5: =IF(odchylky!H5="","",odchylky!H5) -> -0.054054054 | F5: =IF(odchylky!I5="","",odchylky!I5) -> 0.076923077 | G5: =IF(odchylky!J5="","",odchylky!J5) -> 0.076923077 | H5: =IF(odchylky!M5="","",odchylky!M5) -> -0.097222222 | I5: =IF(odchylky!N5="","",odchylky!N5) -> X | J5: =IF(odchylky!O5="","",odchylky!O5) -> X | K5: =IF(odchylky!P5="","",odchylky!P5) -> 0.041666667 | L5: =IF(odchylky!Q5="","",odchylky!Q5) -> 0.11111111 | M5: =IF(odchylky!R5="","",odchylky!R5) -> X
A6: BMW 530d xDrive Touring | B6: s rádiem/bez sudoku | C6: =IF(odchylky!A6="","",odchylky!A6) -> 0 | D6: =IF(odchylky!B6="","",odchylky!B6) -> -0.16666667 | E6: =IF(odchylky!H6="","",odchylky!H6) -> -0.090909091 | F6: =IF(odchylky!I6="","",odchylky!I6) -> 0.11111111 | G6: =IF(odchylky!J6="","",odchylky!J6) -> 0.022222222 | H6: =IF(odchylky!M6="","",odchylky!M6) -> -0.16666667 | I6: =IF(odchylky!N6="","",odchylky!N6) -> X | J6: =IF(odchylky!O6="","",odchylky!O6) -> X | K6: =IF(odchylky!P6="","",odchylky!P6) -> -0.010989011 | L6: =IF(odchylky!Q6="","",odchylky!Q6) -> 0.043956044 | M6: =IF(odchylky!R6="","",odchylky!R6) -> X
A7: BMW 530d xDrive Touring | B7: s rádiem/bez sudoku | C7: =IF(odchylky!A7="","",odchylky!A7) -> 0.66666667 | D7: =IF(odchylky!B7="","",odchylky!B7) -> 0.11111111 | E7: =IF(odchylky!H7="","",odchylky!H7) -> 0.16666667 | F7: =IF(odchylky!I7="","",odchylky!I7) -> 0.25 | G7: =IF(odchylky!J7="","",odchylky!J7) -> 0.42857143 | H7: =IF(odchylky!M7="","",odchylky!M7) -> -0.21875 | I7: =IF(odchylky!N7="","",odchylky!N7) -> X | J7: =IF(odchylky!O7="","",odchylky!O7) -> X | K7: =IF(odchylky!P7="","",odchylky!P7) -> 0.875 | L7: =IF(odchylky!Q7="","",odchylky!Q7) -> 0.40625 | M7: =IF(odchylky!R7="","",odchylky!R7) -> X
A8: BMW 530d xDrive Touring | B8: s rádiem/bez sudoku | C8: =IF(odchylky!A8="","",odchylky!A8) -> 0.041666667 | D8: =IF(odchylky!B8="","",odchylky!B8) -> -0.16666667 | E8: =IF(odchylky!H8="","",odchylky!H8) -> -0.038461538 | F8: =IF(odchylky!I8="","",odchylky!I8) -> -0.11764706 | G8: =IF(odchylky!J8="","",odchylky!J8) -> 0.078431373 | H8: =IF(odchylky!M8="","",odchylky!M8) -> -0.3 | I8: =IF(odchylky!N8="","",odchylky!N8) -> X | J8: =IF(odchylky!O8="","",odchylky!O8) -> X | K8: =IF(odchylky!P8="","",odchylky!P8) -> 0.41509434 | L8: =IF(odchylky!Q8="","",odchylky!Q8) -> 0.13207547 | M8: =IF(odchylky!R8="","",odchylky!R8) -> X
A9: BMW 530d xDrive Touring | B9: s rádiem/bez sudoku | C9: =IF(odchylky!A9="","",odchylky!A9) -> 0.041666667 | D9: =IF(odchylky!B9="","",odchylky!B9) -> -0.16666667 | E9: =IF(odchylky!H9="","",odchylky!H9) -> 0 | F9: =IF(odchylky!I9="","",odchylky!I9) -> -0.038461538 | G9: =IF(odchylky!J9="","",odchylky!J9) -> 0.15384615 | H9: =IF(odchylky!M9="","",odchylky!M9) -> -0.1 | I9: =IF(odchylky!N9="","",odchylky!N9) -> X | J9: =IF(odchylky!O9="","",odchylky!O9) -> X | K9: =IF(odchylky!P9="","",odchylky!P9) -> 0.32653061 | L9: =IF(odchylky!Q9="","",odchylky!Q9) -> 0.020408163 | M9: =IF(odchylky!R9="","",odchylky!R9) -> X
A10: BMW 530d xDrive Touring | B10: s rádiem/bez sudoku | C10: =IF(odchylky!A10="","",odchylky!A10) -> 0.11764706 | D10: =IF(odchylky!B10="","",odchylky!B10) -> 0 | E10: =IF(odchylky!H10="","",odchylky!H10) -> -0.14634146 | F10: =IF(odchylky!I10="","",odchylky!I10) -> -0.047619048 | G10: =IF(odchylky!J10="","",odchylky!J10) -> -0.047619048 | H10: =IF(odchylky!M10="","",odchylky!M10) -> -0.090909091 | I10: =IF(odchylky!N10="","",odchylky!N10) -> X | J10: =IF(odchylky!O10="","",odchylky!O10) -> X | K10: =IF(odchylky!P10="","",odchylky!P10) -> 0.024096386 | L10: =IF(odchylky!Q10="","",odchylky!Q10) -> 0.084337349 | M10: =IF(odchylky!R10="","",odchylky!R10) -> X
A11: BMW 530d xDrive Touring | B11: s rádiem/bez sudoku | C11: =IF(odchylky!A11="","",odchylky!A11) -> -0.02173913 | D11: =IF(odchylky!B11="","",odchylky!B11) -> -0.02173913 | E11: =IF(odchylky!H11="","",odchylky!H11) -> 0 | F11: =IF(odchylky!I11="","",odchylky!I11) -> -0.22222222 | G11: =IF(odchylky!J11="","",odchylky!J11) -> 0.11111111 | H11: =IF(odchylky!M11="","",odchylky!M11) -> -0.13043478 | I11: =IF(odchylky!N11="","",odchylky!N11) -> X | J11: =IF(odchylky!O11="","",odchylky!O11) -> X | K11: =IF(odchylky!P11="","",odchylky!P11) -> 0.25 | L11: =IF(odchylky!Q11="","",odchylky!Q11) -> 0.36363636 | M11: =IF(odchylky!R11="","",odchylky!R11) -> X
A12: BMW 530d xDrive Touring | B12: s rádiem/bez sudoku | C12: =IF(odchylky!A12="","",odchylky!A12) -> 0.14285714 | D12: =IF(odchylky!B12="","",odchylky!B12) -> 0.14285714 | E12: =IF(odchylky!H12="","",odchylky!H12) -> 0.037735849 | F12: =IF(odchylky!I12="","",odchylky!I12) -> 0.27118644 | G12: =IF(odchylky!J12="","",odchylky!J12) -> 0.18644068 | H12: =IF(odchylky!M12="","",odchylky!M12) -> 0.076923077 | I12: =IF(odchylky!N12="","",odchylky!N12) -> X | J12: =IF(odchylky!O12="","",odchylky!O12) -> X | K12: =IF(odchylky!P12="","",odchylky!P12) -> 0.21212121 | L12: =IF(odchylky!Q12="","",odchylky!Q12) -> 0.060606061 | M12: =IF(odchylky!R12="","",odchylky!R12) -> X
... A19: BMW 530d xDrive Touring | B19: s rádiem/bez sudoku | C19: =IF(odchylky!A19="","",odchylky!A19) -> -0.019607843 | D19: =IF(odchylky!B19="","",odchylky!B19) -> 0.2745098 | E19: =IF(odchylky!H19="","",odchylky!H19) -> -0.22222222 | F19: =IF(odchylky!I19="","",odchylky!I19) -> 0.13636364 | G19: =IF(odchylky!J19="","",odchylky!J19) -> 0.25 | H19: =IF(odchylky!M19="","",odchylky!M19) -> -0.33333333 | I19: =IF(odchylky!N19="","",odchylky!N19) -> 0.25 | J19: =IF(odchylky!O19="","",odchylky!O19) -> -0.27083333 | K19: =IF(odchylky!P19="","",odchylky!P19) -> X | L19: =IF(odchylky!Q19="","",odchylky!Q19) -> X | M19: =IF(odchylky!R19="","",odchylky!R19) -> 0.041666667
C20: =IF(odchylky!A20="","",odchylky!A20) | D20: =IF(odchylky!B20="","",odchylky!B20) | E20: =IF(odchylky!H20="","",odchylky!H20) | F20: =IF(odchylky!I20="","",odchylky!I20) | G20: =IF(odchylky!J20="","",odchylky!J20) | H20: =IF(odchylky!M20="","",odchylky!M20) | I20: =IF(odchylky!N20="","",odchylky!N20) | J20: =IF(odchylky!O20="","",odchylky!O20) | K20: =IF(odchylky!P20="","",odchylky!P20) | L20: =IF(odchylky!Q20="","",odchylky!Q20) | M20: =IF(odchylky!R20="","",odchylky!R20)
A21: BMW 530d xDrive Touring | B21: Bez rádia/se sudoku | C21: =IF(odchylky!A21="","",odchylky!A21) -> -0.18918919 | D21: =IF(odchylky!B21="","",odchylky!B21) -> -0.59459459 | E21: =IF(odchylky!H21="","",odchylky!H21) -> -0.024390244 | F21: =IF(odchylky!I21="","",odchylky!I21) -> 0.097560976 | G21: =IF(odchylky!J21="","",odchylky!J21) -> 0.2195122 | H21: =IF(odchylky!M21="","",odchylky!M21) -> -0.1025641 | I21: =IF(odchylky!N21="","",odchylky!N21) -> 0.11111111 | J21: =IF(odchylky!O21="","",odchylky!O21) -> -0.11111111 | K21: =IF(odchylky!P21="","",odchylky!P21) -> 0.18421053 | L21: =IF(odchylky!Q21="","",odchylky!Q21) -> 0.052631579 | M21: =IF(odchylky!R21="","",odchylky!R21) -> -0.11111111
A22: BMW 530d xDrive Touring | B22: Bez rádia/se sudoku | C22: =IF(odchylky!A22="","",odchylky!A22) -> -0.41176471 | D22: =IF(odchylky!B22="","",odchylky!B22) -> -0.60784314 | E22: =IF(odchylky!H22="","",odchylky!H22) -> -0.1 | F22: =IF(odchylky!I22="","",odchylky!I22) -> 0.071428571 | G22: =IF(odchylky!J22="","",odchylky!J22) -> -0.017857143 | H22: =IF(odchylky!M22="","",odchylky!M22) -> 0 | I22: =IF(odchylky!N22="","",odchylky!N22) -> -0.090909091 | J22: =IF(odchylky!O22="","",odchylky!O22) -> -0.090909091 | K22: =IF(odchylky!P22="","",odchylky!P22) -> 0.020408163 | L22: =IF(odchylky!Q22="","",odchylky!Q22) -> 0.12244898 | M22: =IF(odchylky!R22="","",odchylky!R22) -> -0.090909091
A23: BMW 530d xDrive Touring | B23: Bez rádia/se sudoku | C23: =IF(odchylky!A23="","",odchylky!A23) -> 0.25 | D23: =IF(odchylky!B23="","",odchylky!B23) -> -0.25 | E23: =IF(odchylky!H23="","",odchylky!H23) -> -0.14285714 | F23: =IF(odchylky!I23="","",odchylky!I23) -> 0.2195122 | G23: =IF(odchylky!J23="","",odchylky!J23) -> 0.46341463 | H23: =IF(odchylky!M23="","",odchylky!M23) -> -0.024390244 | I23: =IF(odchylky!N23="","",odchylky!N23) -> 0.063829787 | J23: =IF(odchylky!O23="","",odchylky!O23) -> 0.17021277 | K23: =IF(odchylky!P23="","",odchylky!P23) -> 0.34146341 | L23: =IF(odchylky!Q23="","",odchylky!Q23) -> 0.58536585 | M23: =IF(odchylky!R23="","",odchylky!R23) -> 0.063829787
A24: BMW 530d xDrive Touring | B24: Bez rádia/se sudoku | C24: =IF(odchylky!A24="","",odchylky!A24) -> -0.090909091 | D24: =IF(odchylky!B24="","",odchylky!B24) -> -0.090909091 | E24: =IF(odchylky!H24="","",odchylky!H24) -> 0.11940299 | F24: =IF(odchylky!I24="","",odchylky!I24) -> 0.13636364 | G24: =IF(odchylky!J24="","",odchylky!J24) -> 0.28787879 | H24: =IF(odchylky!M24="","",odchylky!M24) -> 0.11940299 | I24: =IF(odchylky!N24="","",odchylky!N24) -> -0.084507042 | J24: =IF(odchylky!O24="","",odchylky!O24) -> -0.014084507 | K24: =IF(odchylky!P24="","",odchylky!P24) -> 0.15384615 | L24: =IF(odchylky!Q24="","",odchylky!Q24) -> 0.076923077 | M24: =IF(odchylky!R24="","",odchylky!R24) -> -0.014084507
A25: BMW 530d xDrive Touring | B25: Bez rádia/se sudoku | C25: =IF(odchylky!A25="","",odchylky!A25) -> 0.034482759 | D25: =IF(odchylky!B25="","",odchylky!B25) -> -0.08045977 | E25: =IF(odchylky!H25="","",odchylky!H25) -> 0.011904762 | F25: =IF(odchylky!I25="","",odchylky!I25) -> 0.046511628 | G25: =IF(odchylky!J25="","",odchylky!J25) -> 0.069767442 | H25: =IF(odchylky!M25="","",odchylky!M25) -> 0.011235955 | I25: =IF(odchylky!N25="","",odchylky!N25) -> 0.046511628 | J25: =IF(odchylky!O25="","",odchylky!O25) -> 0.046511628 | K25: =IF(odchylky!P25="","",odchylky!P25) -> -0.034090909 | L25: =IF(odchylky!Q25="","",odchylky!Q25) -> 0.079545455 | M25: =IF(odchylky!R25="","",odchylky!R25) -> 0.046511628
A26: BMW 530d xDrive Touring | B26: Bez rádia/se sudoku | C26: =IF(odchylky!A26="","",odchylky!A26) -> 0.4516129 | D26: =IF(odchylky!B26="","",odchylky!B26) -> 0.12903226 | E26: =IF(odchylky!H26="","",odchylky!H26) -> 0.48148148 | F26: =IF(odchylky!I26="","",odchylky!I26) -> 0.060606061 | G26: =IF(odchylky!J26="","",odchylky!J26) -> 0.51515152 | H26: =IF(odchylky!M26="","",odchylky!M26) -> 0 | I26: =IF(odchylky!N26="","",odchylky!N26) -> 0.37931034 | J26: =IF(odchylky!O26="","",odchylky!O26) -> 0.37931034 | K26: =IF(odchylky!P26="","",odchylky!P26) -> 1.1428571 | L26: =IF(odchylky!Q26="","",odchylky!Q26) -> 0.42857143 | M26: =IF(odchylky!R26="","",odchylky!R26) -> 0.034482759
A27: BMW 530d xDrive Touring | B27: Bez rádia/se sudoku | C27: =IF(odchylky!A27="","",odchylky!A27) -> 0.078431373 | D27: =IF(odchylky!B27="","",odchylky!B27) -> -0.019607843 | E27: =IF(odchylky!H27="","",odchylky!H27) -> 0.020408163 | F27: =IF(odchylky!I27="","",odchylky!I27) -> 0.020408163 | G27: =IF(odchylky!J27="","",odchylky!J27) -> 0.2244898 | H27: =IF(odchylky!M27="","",odchylky!M27) -> 0.020408163 | I27: =IF(odchylky!N27="","",odchylky!N27) -> 0.2 | J27: =IF(odchylky!O27="","",odchylky!O27) -> 0 | K27: =IF(odchylky!P27="","",odchylky!P27) -> 0.5 | L27: =IF(odchylky!Q27="","",odchylky!Q27) -> 0 | M27: =IF(odchylky!R27="","",odchylky!R27) -> 0
A28: BMW 530d xDrive Touring | B28: Bez rádia/se sudoku | C28: =IF(odchylky!A28="","",odchylky!A28) -> 0.041666667 | D28: =IF(odchylky!B28="","",odchylky!B28) -> -0.16666667 | E28: =IF(odchylky!H28="","",odchylky!H28) -> 0.041666667 | F28: =IF(odchylky!I28="","",odchylky!I28) -> -0.11111111 | G28: =IF(odchylky!J28="","",odchylky!J28) -> 0.55555556 | H28: =IF(odchylky!M28="","",odchylky!M28) -> 0 | I28: =IF(odchylky!N28="","",odchylky!N28) -> 0.2 | J28: =IF(odchylky!O28="","",odchylky!O28) -> 0.2 | K28: =IF(odchylky!P28="","",odchylky!P28) -> 0.42857143 | L28: =IF(odchylky!Q28="","",odchylky!Q28) -> 0.2244898 | M28: =IF(odchylky!R28="","",odchylky!R28) -> 0.2
A29: BMW 530d xDrive Touring | B29: Bez rádia/se sudoku | C29: =IF(odchylky!A29="","",odchylky!A29) -> 0.058823529 | D29: =IF(odchylky!B29="","",odchylky!B29) -> 0 | E29: =IF(odchylky!H29="","",odchylky!H29) -> 0.011235955 | F29: =IF(odchylky!I29="","",odchylky!I29) -> 0.038961039 | G29: =IF(odchylky!J29="","",odchylky!J29) -> 0.1038961 | H29: =IF(odchylky!M29="","",odchylky!M29) -> -0.047619048 | I29: =IF(odchylky!N29="","",odchylky!N29) -> 0.097560976 | J29: =IF(odchylky!O29="","",odchylky!O29) -> 0.097560976 | K29: =IF(odchylky!P29="","",odchylky!P29) -> 0.024096386 | L29: =IF(odchylky!Q29="","",odchylky!Q29) -> 0.024096386 | M29: =IF(odchylky!R29="","",odchylky!R29) -> 0.097560976
A30: BMW 530d xDrive Touring | B30: Bez rádia/se sudoku | C30: =IF(odchylky!A30="","",odchylky!A30) -> 0.19047619 | D30: =IF(odchylky!B30="","",odchylky!B30) -> -0.047619048 | E30: =IF(odchylky!H30="","",odchylky!H30) -> 0.086956522 | F30: =IF(odchylky!I30="","",odchylky!I30) -> -0.090909091 | G30: =IF(odchylky!J30="","",odchylky!J30) -> 0.25 | H30: =IF(odchylky!M30="","",odchylky!M30) -> -0.042553191 | I30: =IF(odchylky!N30="","",odchylky!N30) -> 0.5 | J30: =IF(odchylky!O30="","",odchylky!O30) -> 0.25 | K30: =IF(odchylky!P30="","",odchylky!P30) -> 0.74418605 | L30: =IF(odchylky!Q30="","",odchylky!Q30) -> 0.27906977 | M30: =IF(odchylky!R30="","",odchylky!R30) -> 0
A31: BMW 530d xDrive Touring | B31: Bez rádia/se sudoku | C31: =IF(odchylky!A31="","",odchylky!A31) -> 0.15942029 | D31: =IF(odchylky!B31="","",odchylky!B31) -> 0.014492754 | E31: =IF(odchylky!H31="","",odchylky!H31) -> 0.11111111 | F31: =IF(odchylky!I31="","",odchylky!I31) -> 0.10294118 | G31: =IF(odchylky!J31="","",odchylky!J31) -> 0.029411765 | H31: =IF(odchylky!M31="","",odchylky!M31) -> 0.12903226 | I31: =IF(odchylky!N31="","",odchylky!N31) -> 0.12903226 | J31: =IF(odchylky!O31="","",odchylky!O31) -> 0.048387097 | K31: =IF(odchylky!P31="","",odchylky!P31) -> 0.39344262 | L31: =IF(odchylky!Q31="","",odchylky!Q31) -> 0.14754098 | M31: =IF(odchylky!R31="","",odchylky!R31) -> 0.29032258
A32: BMW 530d xDrive Touring | B32: Bez rádia/se sudoku | C32: =IF(odchylky!A32="","",odchylky!A32) -> 0.11111111 | D32: =IF(odchylky!B32="","",odchylky!B32) -> 0.11111111 | E32: =IF(odchylky!H32="","",odchylky!H32) -> 0.046511628 | F32: =IF(odchylky!I32="","",odchylky!I32) -> 0.097560976 | G32: =IF(odchylky!J32="","",odchylky!J32) -> -0.048780488 | H32: =IF(odchylky!M32="","",odchylky!M32) -> 0.036585366 | I32: =IF(odchylky!N32="","",odchylky!N32) -> -0.11111111 | J32: =IF(odchylky!O32="","",odchylky!O32) -> 0 | K32: =IF(odchylky!P32="","",odchylky!P32) -> 0.079545455 | L32: =IF(odchylky!Q32="","",odchylky!Q32) -> 0.079545455 | M32: =IF(odchylky!R32="","",odchylky!R32) -> 0.11111111
... A38: BMW 530d xDrive Touring | B38: Bez rádia/se sudoku | C38: =IF(odchylky!A38="","",odchylky!A38) -> 0.086956522 | D38: =IF(odchylky!B38="","",odchylky!B38) -> -0.34782609 | E38: =IF(odchylky!H38="","",odchylky!H38) -> -0.43181818 | F38: =IF(odchylky!I38="","",odchylky!I38) -> -0.1 | G38: =IF(odchylky!J38="","",odchylky!J38) -> 0.2 | H38: =IF(odchylky!M38="","",odchylky!M38) -> -0.31818182 | I38: =IF(odchylky!N38="","",odchylky!N38) -> 0.063829787 | J38: =IF(odchylky!O38="","",odchylky!O38) -> -0.14893617 | K38: =IF(odchylky!P38="","",odchylky!P38) -> 0.25 | L38: =IF(odchylky!Q38="","",odchylky!Q38) -> -0.090909091 | M38: =IF(odchylky!R38="","",odchylky!R38) -> 0.063829787
C39: =IF(odchylky!A39="","",odchylky!A39) | D39: =IF(odchylky!B39="","",odchylky!B39) | E39: =IF(odchylky!H39="","",odchylky!H39) | F39: =IF(odchylky!I39="","",odchylky!I39) | G39: =IF(odchylky!J39="","",odchylky!J39) | H39: =IF(odchylky!M39="","",odchylky!M39) | I39: =IF(odchylky!N39="","",odchylky!N39) | J39: =IF(odchylky!O39="","",odchylky!O39) | K39: =IF(odchylky!P39="","",odchylky!P39) | L39: =IF(odchylky!Q39="","",odchylky!Q39) | M39: =IF(odchylky!R39="","",odchylky!R39)
A40: BMW X3 | B40: s rádiem/bez sudoku | C40: =IF(odchylky!A40="","",odchylky!A40) -> -0.024390244 | D40: =IF(odchylky!B40="","",odchylky!B40) -> -0.51219512 | E40: =IF(odchylky!H40="","",odchylky!H40) -> -0.027777778 | F40: =IF(odchylky!I40="","",odchylky!I40) -> -0.054054054 | G40: =IF(odchylky!J40="","",odchylky!J40) -> 0.62162162 | H40: =IF(odchylky!M40="","",odchylky!M40) -> -0.21052632 | I40: =IF(odchylky!N40="","",odchylky!N40) -> 0.28205128 | J40: =IF(odchylky!O40="","",odchylky!O40) -> 0.28205128 | K40: =IF(odchylky!P40="","",odchylky!P40) -> -0.054054054 | L40: =IF(odchylky!Q40="","",odchylky!Q40) -> 0.35135135 | M40: =IF(odchylky!R40="","",odchylky!R40) -> 0.025641026
A41: BMW X3 | B41: s rádiem/bez sudoku | C41: =IF(odchylky!A41="","",odchylky!A41) -> -0.42307692 | D41: =IF(odchylky!B41="","",odchylky!B41) -> -0.51923077 | E41: =IF(odchylky!H41="","",odchylky!H41) -> -0.0625 | F41: =IF(odchylky!I41="","",odchylky!I41) -> 0.1 | G41: =IF(odchylky!J41="","",odchylky!J41) -> 0.36 | H41: =IF(odchylky!M41="","",odchylky!M41) -> -0.23076923 | I41: =IF(odchylky!N41="","",odchylky!N41) -> 0.052631579 | J41: =IF(odchylky!O41="","",odchylky!O41) -> 0.052631579 | K41: =IF(odchylky!P41="","",odchylky!P41) -> -0.24528302 | L41: =IF(odchylky!Q41="","",odchylky!Q41) -> 0.13207547 | M41: =IF(odchylky!R41="","",odchylky!R41) -> -0.12280702
A42: BMW X3 | B42: s rádiem/bez sudoku | C42: =IF(odchylky!A42="","",odchylky!A42) -> -0.5 | D42: =IF(odchylky!B42="","",odchylky!B42) -> -0.375 | E42: =IF(odchylky!H42="","",odchylky!H42) -> -0.25 | F42: =IF(odchylky!I42="","",odchylky!I42) -> 0.53846154 | G42: =IF(odchylky!J42="","",odchylky!J42) -> 0.025641026 | H42: =IF(odchylky!M42="","",odchylky!M42) -> -0.25 | I42: =IF(odchylky!N42="","",odchylky!N42) -> -0.090909091 | J42: =IF(odchylky!O42="","",odchylky!O42) -> 0.022727273 | K42: =IF(odchylky!P42="","",odchylky!P42) -> 0.14583333 | L42: =IF(odchylky!Q42="","",odchylky!Q42) -> 0.35416667 | M42: =IF(odchylky!R42="","",odchylky!R42) -> 0.13636364
A43: BMW X3 | B43: s rádiem/bez sudoku | C43: =IF(odchylky!A43="","",odchylky!A43) -> -0.0625 | D43: =IF(odchylky!B43="","",odchylky!B43) -> 0.25 | E43: =IF(odchylky!H43="","",odchylky!H43) -> 0.060606061 | F43: =IF(odchylky!I43="","",odchylky!I43) -> 0.26760563 | G43: =IF(odchylky!J43="","",odchylky!J43) -> 0.12676056 | H43: =IF(odchylky!M43="","",odchylky!M43) -> 0.044776119 | I43: =IF(odchylky!N43="","",odchylky!N43) -> -0.15584416 | J43: =IF(odchylky!O43="","",odchylky!O43) -> 0.038961039 | K43: =IF(odchylky!P43="","",odchylky!P43) -> 0.041666667 | L43: =IF(odchylky!Q43="","",odchylky!Q43) -> 0.31944444 | M43: =IF(odchylky!R43="","",odchylky!R43) -> 0.038961039
A44: BMW X3 | B44: s rádiem/bez sudoku | C44: =IF(odchylky!A44="","",odchylky!A44) -> 0.046511628 | D44: =IF(odchylky!B44="","",odchylky!B44) -> 0.046511628 | E44: =IF(odchylky!H44="","",odchylky!H44) -> 0.034482759 | F44: =IF(odchylky!I44="","",odchylky!I44) -> 0.11111111 | G44: =IF(odchylky!J44="","",odchylky!J44) -> 0.088888889 | H44: =IF(odchylky!M44="","",odchylky!M44) -> 0.022727273 | I44: =IF(odchylky!N44="","",odchylky!N44) -> -0.010989011 | J44: =IF(odchylky!O44="","",odchylky!O44) -> 0.098901099 | K44: =IF(odchylky!P44="","",odchylky!P44) -> -0.055555556 | L44: =IF(odchylky!Q44="","",odchylky!Q44) -> 0.11111111 | M44: =IF(odchylky!R44="","",odchylky!R44) -> 0.31868132
A45: BMW X3 | B45: s rádiem/bez sudoku | C45: =IF(odchylky!A45="","",odchylky!A45) -> X | D45: =IF(odchylky!B45="","",odchylky!B45) -> X | E45: =IF(odchylky!H45="","",odchylky!H45) -> 0.20689655 | F45: =IF(odchylky!I45="","",odchylky!I45) -> 0.33333333 | G45: =IF(odchylky!J45="","",odchylky!J45) -> 0.33333333 | H45: =IF(odchylky!M45="","",odchylky!M45) -> -0.090909091 | I45: =IF(odchylky!N45="","",odchylky!N45) -> 0.052631579 | J45: =IF(odchylky!O45="","",odchylky!O45) -> 0.31578947 | K45: =IF(odchylky!P45="","",odchylky!P45) -> 0.93548387 | L45: =IF(odchylky!Q45="","",odchylky!Q45) -> 0.4516129 | M45: =IF(odchylky!R45="","",odchylky!R45) -> -0.21052632
A46: BMW X3 | B46: s rádiem/bez sudoku | C46: =IF(odchylky!A46="","",odchylky!A46) -> 0.041666667 | D46: =IF(odchylky!B46="","",odchylky!B46) -> -0.16666667 | E46: =IF(odchylky!H46="","",odchylky!H46) -> 0.063829787 | F46: =IF(odchylky!I46="","",odchylky!I46) -> 0.020408163 | G46: =IF(odchylky!J46="","",odchylky!J46) -> 0.12244898 | H46: =IF(odchylky!M46="","",odchylky!M46) -> -0.038461538 | I46: =IF(odchylky!N46="","",odchylky!N46) -> 0.11111111 | J46: =IF(odchylky!O46="","",odchylky!O46) -> 0.018518519 | K46: =IF(odchylky!P46="","",odchylky!P46) -> 0.38888889 | L46: =IF(odchylky!Q46="","",odchylky!Q46) -> 0.018518519 | M46: =IF(odchylky!R46="","",odchylky!R46) -> -0.074074074
A47: BMW X3 | B47: s rádiem/bez sudoku | C47: =IF(odchylky!A47="","",odchylky!A47) -> X | D47: =IF(odchylky!B47="","",odchylky!B47) -> X | E47: =IF(odchylky!H47="","",odchylky!H47) -> -0.0625 | F47: =IF(odchylky!I47="","",odchylky!I47) -> -0.2 | G47: =IF(odchylky!J47="","",odchylky!J47) -> 0.2 | H47: =IF(odchylky!M47="","",odchylky!M47) -> -0.13461538 | I47: =IF(odchylky!N47="","",odchylky!N47) -> -0.019607843 | J47: =IF(odchylky!O47="","",odchylky!O47) -> -0.019607843 | K47: =IF(odchylky!P47="","",odchylky!P47) -> 0.15384615 | L47: =IF(odchylky!Q47="","",odchylky!Q47) -> -0.038461538 | M47: =IF(odchylky!R47="","",odchylky!R47) -> -0.019607843
A48: BMW X3 | B48: s rádiem/bez sudoku | C48: =IF(odchylky!A48="","",odchylky!A48) -> X | D48: =IF(odchylky!B48="","",odchylky!B48) -> X | E48: =IF(odchylky!H48="","",odchylky!H48) -> -0.036144578 | F48: =IF(odchylky!I48="","",odchylky!I48) -> 0.011904762 | G48: =IF(odchylky!J48="","",odchylky!J48) -> 0.071428571 | H48: =IF(odchylky!M48="","",odchylky!M48) -> -0.012345679 | I48: =IF(odchylky!N48="","",odchylky!N48) -> 0 | J48: =IF(odchylky!O48="","",odchylky!O48) -> -0.125 | K48: =IF(odchylky!P48="","",odchylky!P48) -> 0.049382716 | L48: =IF(odchylky!Q48="","",odchylky!Q48) -> 0.11111111 | M48: =IF(odchylky!R48="","",odchylky!R48) -> 0.125
A49: BMW X3 | B49: s rádiem/bez sudoku | C49: =IF(odchylky!A49="","",odchylky!A49) -> X | D49: =IF(odchylky!B49="","",odchylky!B49) -> X | E49: =IF(odchylky!H49="","",odchylky!H49) -> 0.046511628 | F49: =IF(odchylky!I49="","",odchylky!I49) -> -0.22222222 | G49: =IF(odchylky!J49="","",odchylky!J49) -> 0.11111111 | H49: =IF(odchylky!M49="","",odchylky!M49) -> -0.13043478 | I49: =IF(odchylky!N49="","",odchylky!N49) -> 0.046511628 | J49: =IF(odchylky!O49="","",odchylky!O49) -> 0.1627907 | K49: =IF(odchylky!P49="","",odchylky!P49) -> 0.30952381 | L49: =IF(odchylky!Q49="","",odchylky!Q49) -> 0.19047619 | M49: =IF(odchylky!R49="","",odchylky!R49) -> -0.069767442
A50: BMW X3 | B50: s rádiem/bez sudoku | C50: =IF(odchylky!A50="","",odchylky!A50) -> 0.15942029 | D50: =IF(odchylky!B50="","",odchylky!B50) -> 0.014492754 | E50: =IF(odchylky!H50="","",odchylky!H50) -> 0.12903226 | F50: =IF(odchylky!I50="","",odchylky!I50) -> 0.15942029 | G50: =IF(odchylky!J50="","",odchylky!J50) -> 0.086956522 | H50: =IF(odchylky!M50="","",odchylky!M50) -> -0.076923077 | I50: =IF(odchylky!N50="","",odchylky!N50) -> 0.014492754 | J50: =IF(odchylky!O50="","",odchylky!O50) -> 0.15942029 | K50: =IF(odchylky!P50="","",odchylky!P50) -> 0.26984127 | L50: =IF(odchylky!Q50="","",odchylky!Q50) -> 0.19047619 | M50: =IF(odchylky!R50="","",odchylky!R50) -> 0.014492754
A51: BMW X3 | B51: s rádiem/bez sudoku | C51: =IF(odchylky!A51="","",odchylky!A51) -> 0.2195122 | D51: =IF(odchylky!B51="","",odchylky!B51) -> 0.097560976 | E51: =IF(odchylky!H51="","",odchylky!H51) -> 0.049382716 | F51: =IF(odchylky!I51="","",odchylky!I51) -> 0.13095238 | G51: =IF(odchylky!J51="","",odchylky!J51) -> -0.047619048 | H51: =IF(odchylky!M51="","",odchylky!M51) -> 0 | I51: =IF(odchylky!N51="","",odchylky!N51) -> 0.13924051 | J51: =IF(odchylky!O51="","",odchylky!O51) -> 0.012658228 | K51: =IF(odchylky!P51="","",odchylky!P51) -> -0.26829268 | L51: =IF(odchylky!Q51="","",odchylky!Q51) -> 0.15853659 | M51: =IF(odchylky!R51="","",odchylky!R51) -> 0.012658228
... A57: BMW X3 | B57: s rádiem/bez sudoku | C57: =IF(odchylky!A57="","",odchylky!A57) -> 0.034482759 | D57: =IF(odchylky!B57="","",odchylky!B57) -> -0.13793103 | E57: =IF(odchylky!H57="","",odchylky!H57) -> -0.28571429 | F57: =IF(odchylky!I57="","",odchylky!I57) -> 0.052631579 | G57: =IF(odchylky!J57="","",odchylky!J57) -> 0.31578947 | H57: =IF(odchylky!M57="","",odchylky!M57) -> -0.36170213 | I57: =IF(odchylky!N57="","",odchylky!N57) -> X | J57: =IF(odchylky!O57="","",odchylky!O57) -> X | K57: =IF(odchylky!P57="","",odchylky!P57) -> 0.12244898 | L57: =IF(odchylky!Q57="","",odchylky!Q57) -> -0.18367347 | M57: =IF(odchylky!R57="","",odchylky!R57) -> X
C58: =IF(odchylky!A58="","",odchylky!A58) | D58: =IF(odchylky!B58="","",odchylky!B58) | E58: =IF(odchylky!H58="","",odchylky!H58) | F58: =IF(odchylky!I58="","",odchylky!I58) | G58: =IF(odchylky!J58="","",odchylky!J58) | H58: =IF(odchylky!M58="","",odchylky!M58) | I58: =IF(odchylky!N58="","",odchylky!N58) | J58: =IF(odchylky!O58="","",odchylky!O58) | K58: =IF(odchylky!P58="","",odchylky!P58) | L58: =IF(odchylky!Q58="","",odchylky!Q58) | M58: =IF(odchylky!R58="","",odchylky!R58)
A59: BMW X3 | B59: Bez rádia/se sudoku | C59: =IF(odchylky!A59="","",odchylky!A59) -> -0.5 | D59: =IF(odchylky!B59="","",odchylky!B59) -> -0.7 | E59: =IF(odchylky!H59="","",odchylky!H59) -> 0.15384615 | F59: =IF(odchylky!I59="","",odchylky!I59) -> -0.16666667 | G59: =IF(odchylky!J59="","",odchylky!J59) -> 0.10416667 | H59: =IF(odchylky!M59="","",odchylky!M59) -> -0.047619048 | I59: =IF(odchylky!N59="","",odchylky!N59) -> 0.31578947 | J59: =IF(odchylky!O59="","",odchylky!O59) -> 0.18421053 | K59: =IF(odchylky!P59="","",odchylky!P59) -> -0.02173913 | L59: =IF(odchylky!Q59="","",odchylky!Q59) -> 0.19565217 | M59: =IF(odchylky!R59="","",odchylky!R59) -> 0.052631579
A60: BMW X3 | B60: Bez rádia/se sudoku | C60: =IF(odchylky!A60="","",odchylky!A60) -> -0.52830189 | D60: =IF(odchylky!B60="","",odchylky!B60) -> -0.71698113 | E60: =IF(odchylky!H60="","",odchylky!H60) -> -0.038461538 | F60: =IF(odchylky!I60="","",odchylky!I60) -> 0.063829787 | G60: =IF(odchylky!J60="","",odchylky!J60) -> 0.19148936 | H60: =IF(odchylky!M60="","",odchylky!M60) -> -0.13793103 | I60: =IF(odchylky!N60="","",odchylky!N60) -> 0.2244898 | J60: =IF(odchylky!O60="","",odchylky!O60) -> 0.020408163 | K60: =IF(odchylky!P60="","",odchylky!P60) -> 0 | L60: =IF(odchylky!Q60="","",odchylky!Q60) -> 0.090909091 | M60: =IF(odchylky!R60="","",odchylky!R60) -> 0.020408163
A61: BMW X3 | B61: Bez rádia/se sudoku | C61: =IF(odchylky!A61="","",odchylky!A61) -> 0 | D61: =IF(odchylky!B61="","",odchylky!B61) -> -0.25 | E61: =IF(odchylky!H61="","",odchylky!H61) -> -0.11764706 | F61: =IF(odchylky!I61="","",odchylky!I61) -> 0.42857143 | G61: =IF(odchylky!J61="","",odchylky!J61) -> 0.54761905 | H61: =IF(odchylky!M61="","",odchylky!M61) -> -0.18604651 | I61: =IF(odchylky!N61="","",odchylky!N61) -> 0.052631579 | J61: =IF(odchylky!O61="","",odchylky!O61) -> 0.31578947 | K61: =IF(odchylky!P61="","",odchylky!P61) -> 0.041666667 | L61: =IF(odchylky!Q61="","",odchylky!Q61) -> 0.45833333 | M61: =IF(odchylky!R61="","",odchylky!R61) -> 0.31578947
A62: BMW X3 | B62: Bez rádia/se sudoku | C62: =IF(odchylky!A62="","",odchylky!A62) -> -0.11764706 | D62: =IF(odchylky!B62="","",odchylky!B62) -> -0.11764706 | E62: =IF(odchylky!H62="","",odchylky!H62) -> 0.076923077 | F62: =IF(odchylky!I62="","",odchylky!I62) -> 0.171875 | G62: =IF(odchylky!J62="","",odchylky!J62) -> 0.328125 | H62: =IF(odchylky!M62="","",odchylky!M62) -> 0.11940299 | I62: =IF(odchylky!N62="","",odchylky!N62) -> 0.060606061 | J62: =IF(odchylky!O62="","",odchylky!O62) -> 0.21212121 | K62: =IF(odchylky!P62="","",odchylky!P62) -> 0.1971831 | L62: =IF(odchylky!Q62="","",odchylky!Q62) -> 0.26760563 | M62: =IF(odchylky!R62="","",odchylky!R62) -> 0.060606061
A63: BMW X3 | B63: Bez rádia/se sudoku | C63: =IF(odchylky!A63="","",odchylky!A63) -> 0.034482759 | D63: =IF(odchylky!B63="","",odchylky!B63) -> -0.08045977 | E63: =IF(odchylky!H63="","",odchylky!H63) -> -0.011627907 | F63: =IF(odchylky!I63="","",odchylky!I63) -> 0.25 | G63: =IF(odchylky!J63="","",odchylky!J63) -> 0.25 | H63: =IF(odchylky!M63="","",odchylky!M63) -> 0.011235955 | I63: =IF(odchylky!N63="","",odchylky!N63) -> -0.090909091 | J63: =IF(odchylky!O63="","",odchylky!O63) -> 0.022727273 | K63: =IF(odchylky!P63="","",odchylky!P63) -> 0.091954023 | L63: =IF(odchylky!Q63="","",odchylky!Q63) -> 0.14942529 | M63: =IF(odchylky!R63="","",odchylky!R63) -> 0.022727273
A64: BMW X3 | B64: Bez rádia/se sudoku | C64: =IF(odchylky!A64="","",odchylky!A64) -> 0.29032258 | D64: =IF(odchylky!B64="","",odchylky!B64) -> 0.12903226 | E64: =IF(odchylky!H64="","",odchylky!H64) -> 0.25 | F64: =IF(odchylky!I64="","",odchylky!I64) -> 0.16666667 | G64: =IF(odchylky!J64="","",odchylky!J64) -> 0.6 | H64: =IF(odchylky!M64="","",odchylky!M64) -> -0.11764706 | I64: =IF(odchylky!N64="","",odchylky!N64) -> 0.33333333 | J64: =IF(odchylky!O64="","",odchylky!O64) -> 0.16666667 | K64: =IF(odchylky!P64="","",odchylky!P64) -> 0.57894737 | L64: =IF(odchylky!Q64="","",odchylky!Q64) -> 0.18421053 | M64: =IF(odchylky!R64="","",odchylky!R64) -> 0.33333333
A65: BMW X3 | B65: Bez rádia/se sudoku | C65: =IF(odchylky!A65="","",odchylky!A65) -> -0.24528302 | D65: =IF(odchylky!B65="","",odchylky!B65) -> -0.1509434 | E65: =IF(odchylky!H65="","",odchylky!H65) -> -0.14893617 | F65: =IF(odchylky!I65="","",odchylky!I65) -> -0.13461538 | G65: =IF(odchylky!J65="","",odchylky!J65) -> 0.15384615 | H65: =IF(odchylky!M65="","",odchylky!M65) -> -0.081632653 | I65: =IF(odchylky!N65="","",odchylky!N65) -> 0.4 | J65: =IF(odchylky!O65="","",odchylky!O65) -> -0.1 | K65: =IF(odchylky!P65="","",odchylky!P65) -> 0.44230769 | L65: =IF(odchylky!Q65="","",odchylky!Q65) -> 0.057692308 | M65: =IF(odchylky!R65="","",odchylky!R65) -> 0
A66: BMW X3 | B66: Bez rádia/se sudoku | C66: =IF(odchylky!A66="","",odchylky!A66) -> -0.13043478 | D66: =IF(odchylky!B66="","",odchylky!B66) -> -0.23913043 | E66: =IF(odchylky!H66="","",odchylky!H66) -> 0.020408163 | F66: =IF(odchylky!I66="","",odchylky!I66) -> -0.25925926 | G66: =IF(odchylky!J66="","",odchylky!J66) -> 0.2962963 | H66: =IF(odchylky!M66="","",odchylky!M66) -> -0.14893617 | I66: =IF(odchylky!N66="","",odchylky!N66) -> 0.020408163 | J66: =IF(odchylky!O66="","",odchylky!O66) -> 0.020408163 | K66: =IF(odchylky!P66="","",odchylky!P66) -> 0.057692308 | L66: =IF(odchylky!Q66="","",odchylky!Q66) -> 0.25 | M66: =IF(odchylky!R66="","",odchylky!R66) -> 0.2244898
A67: BMW X3 | B67: Bez rádia/se sudoku | C67: =IF(odchylky!A67="","",odchylky!A67) -> 0.18055556 | D67: =IF(odchylky!B67="","",odchylky!B67) -> 0.11111111 | E67: =IF(odchylky!H67="","",odchylky!H67) -> -0.058823529 | F67: =IF(odchylky!I67="","",odchylky!I67) -> 0.0625 | G67: =IF(odchylky!J67="","",odchylky!J67) -> 0.125 | H67: =IF(odchylky!M67="","",odchylky!M67) -> 0.052631579 | I67: =IF(odchylky!N67="","",odchylky!N67) -> 0.084337349 | J67: =IF(odchylky!O67="","",odchylky!O67) -> -0.036144578 | K67: =IF(odchylky!P67="","",odchylky!P67) -> -0.012345679 | L67: =IF(odchylky!Q67="","",odchylky!Q67) -> 0.11111111 | M67: =IF(odchylky!R67="","",odchylky!R67) -> 0.084337349
