Workbook

Sheet odhadnuté rychlosti
A1: 1 | B1: 2 | C1: 3 | D1: 4 | E1: 5 | F1: 6 | G1: 7 | H1: 8 | I1: 9 | J1: 10 | K1: 11 | L1: 12 | M1: 13 | N1: 14 | O1: 15 | P1: 16 | Q1: 17 | R1: 18 | S1: 19 | T1: 20 | U1: 21 | V1: Vozidlo | W1: Poznámka
A2: 30 | B2: 15 | C2: 40 | D2: 45 | E2: 40 | F2: 45 | G2: 43 | H2: 35 | I2: 40 | J2: 50 | K2: 50 | L2: 40 | M2: 35 | N2: 60 | O2: 20 | P2: 45 | Q2: 45 | R2: 40 | S2: 56 | T2: 38 | U2: 35 | V2: BMW 530d xDrive Touring | W2: s rádiem/bez sudoku | Y2: 1 | Z2: N
A3: 30 | B3: 20 | C3: 50 | D3: 50 | E3: 50 | F3: 55 | G3: 51 | H3: 45 | I3: 60 | J3: 50 | K3: 65 | L3: 60 | M3: 40 | N3: 65 | O3: 45 | P3: 55 | Q3: 55 | R3: 50 | S3: 63 | T3: 34 | U3: 20 | V3: BMW 530d xDrive Touring | W3: s rádiem/bez sudoku | Y3: =Y2+1 -> 2 | Z3: N
A4: 30 | B4: 30 | C4: 40 | D4: 50 | E4: 35 | F4: 53 | G4: 45 | H4: 30 | I4: 50 | J4: 48 | K4: 45 | L4: 40 | M4: 30 | N4: 50 | O4: 55 | P4: 60 | Q4: 60 | R4: 50 | S4: 50 | T4: 26 | U4: 35 | V4: BMW 530d xDrive Touring | W4: s rádiem/bez sudoku | Y4: =Y3+1 -> 3 | Z4: Z
A5: 60 | B5: 50 | C5: 60 | D5: 90 | E5: 70 | F5: 85 | G5: 72 | H5: 70 | I5: 70 | J5: 70 | K5: 80 | L5: 80 | M5: 65 | N5: 75 | O5: 80 | P5: 75 | Q5: 80 | R5: 70 | S5: 83 | T5: 62 | U5: 60 | V5: BMW 530d xDrive Touring | W5: s rádiem/bez sudoku | Y5: =Y4+1 -> 4 | Z5: Z
A6: 90 | B6: 75 | C6: 100 | D6: 100 | E6: 85 | F6: 100 | G6: 88 | H6: 80 | I6: 100 | J6: 92 | K6: 95 | L6: 90 | M6: 75 | N6: 90 | O6: 85 | P6: 90 | Q6: 95 | R6: 90 | S6: 102 | T6: 92 | U6: 90 | V6: BMW 530d xDrive Touring | W6: s rádiem/bez sudoku | Y6: =Y5+1 -> 5 | Z6: Z
A7: 45 | B7: 30 | C7: X | D7: X | E7: 35 | F7: 52 | G7: 33 | H7: 35 | I7: 35 | J7: 40 | K7: 45 | L7: 40 | M7: 25 | N7: 40 | O7: 50 | P7: 60 | Q7: 45 | R7: 40 | S7: 42 | T7: 40 | U7: 30 | V7: BMW 530d xDrive Touring | W7: s rádiem/bez sudoku | Y7: =Y6+1 -> 6 | Z7: Z
A8: 50 | B8: 40 | C8: 55 | D8: 55 | E8: 50 | F8: 65 | G8: 52 | H8: 50 | I8: 45 | J8: 55 | K8: 50 | L8: 50 | M8: 35 | N8: 60 | O8: 50 | P8: 75 | Q8: 60 | R8: 50 | S8: 56 | T8: 46 | U8: 45 | V8: BMW 530d xDrive Touring | W8: s rádiem/bez sudoku | Y8: =Y7+1 -> 7 | Z8: Z
A9: 50 | B9: 40 | C9: X | D9: X | E9: 45 | F9: 65 | G9: 58 | H9: 50 | I9: 50 | J9: 60 | K9: 55 | L9: 50 | M9: 45 | N9: 60 | O9: 55 | P9: 65 | Q9: 50 | R9: 40 | S9: 63 | T9: 55 | U9: 40 | V9: BMW 530d xDrive Touring | W9: s rádiem/bez sudoku | Y9: =Y8+1 -> 8 | Z9: N
A10: 95 | B10: 85 | C10: X | D10: X | E10: 75 | F10: 95 | G10: 68 | H10: 70 | I10: 80 | J10: 80 | K10: 80 | L10: 80 | M10: 80 | N10: 90 | O10: 75 | P10: 85 | Q10: 90 | R10: 80 | S10: 96 | T10: 100 | U10: 70 | V10: BMW 530d xDrive Touring | W10: s rádiem/bez sudoku | Y10: =Y9+1 -> 9 | Z10: N
A11: 45 | B11: 45 | C11: X | D11: X | E11: 45 | F11: 55 | G11: 48 | H11: 45 | I11: 35 | J11: 50 | K11: 50 | L11: 50 | M11: 40 | N11: 70 | O11: 55 | P11: 55 | Q11: 60 | R11: 30 | S11: 53 | T11: 50 | U11: 35 | V11: BMW 530d xDrive Touring | W11: s rádiem/bez sudoku | Y11: =Y10+1 -> 10 | Z11: N
A12: 80 | B12: 80 | C12: 80 | D12: 75 | E12: 55 | F12: 77 | G12: 76 | H12: 55 | I12: 75 | J12: 70 | K12: 70 | L12: 75 | M12: 70 | N12: 75 | O12: 65 | P12: 80 | Q12: 70 | R12: 70 | S12: 71 | T12: 62 | U12: 75 | V12: BMW 530d xDrive Touring | W12: s rádiem/bez sudoku | Y12: =Y11+1 -> 11 | Z12: Z
A13: 95 | B13: 85 | C13: 100 | D13: 90 | E13: 70 | F13: 90 | G13: 90 | H13: 75 | I13: 85 | J13: 80 | K13: 75 | L13: 80 | M13: 85 | N13: 85 | O13: 85 | P13: 90 | Q13: 85 | R13: 90 | S13: 93 | T13: 90 | U13: 70 | V13: BMW 530d xDrive Touring | W13: s rádiem/bez sudoku | Y13: =Y12+1 -> 12 | Z13: Z
A14: 60 | B14: 65 | C14: 60 | D14: 60 | E14: 50 | F14: 72 | G14: 72 | H14: 55 | I14: 45 | J14: 55 | K14: X | L14: X | M14: X | N14: 70 | O14: 65 | P14: 60 | Q14: 60 | R14: 50 | S14: 61 | T14: 43 | U14: 55 | V14: BMW 530d xDrive Touring | W14: s rádiem/bez sudoku | Y14: =Y13+1 -> 13 | Z14: N
A15: 100 | B15: 110 | C15: 110 | D15: 90 | E15: 115 | F15: 110 | G15: 115 | H15: 125 | I15: 100 | J15: 120 | K15: 110 | L15: 110 | M15: 90 | N15: 120 | O15: 100 | P15: 115 | Q15: 110 | R15: 110 | S15: 129 | T15: 105 | U15: 80 | V15: BMW 530d xDrive Touring | W15: s rádiem/bez sudoku | Y15: =Y14+1 -> 14 | Z15: N
A16: 130 | B16: 130 | C16: 130 | D16: 120 | E16: 125 | F16: 130 | G16: 133 | H16: 130 | I16: 130 | J16: 135 | K16: 130 | L16: 135 | M16: 125 | N16: 130 | O16: 110 | P16: 135 | Q16: 130 | R16: 130 | S16: 136 | T16: 134 | U16: 120 | V16: BMW 530d xDrive Touring | W16: s rádiem/bez sudoku | Y16: =Y15+1 -> 15 | Z16: N
A17: X | B17: X | C17: 120 | D17: 120 | E17: X | F17: X | G17: X | H17: X | I17: 115 | J17: 130 | K17: 130 | L17: 130 | M17: 115 | N17: 120 | O17: 120 | P17: 135 | Q17: 120 | R17: 110 | S17: 132 | T17: 120 | U17: 110 | V17: BMW 530d xDrive Touring | W17: s rádiem/bez sudoku | Y17: =Y16+1 -> 16 | Z17: N
A18: 100 | B18: 90 | C18: 90 | D18: 95 | E18: 90 | F18: 95 | G18: 110 | H18: 80 | I18: 80 | J18: 90 | K18: 100 | L18: 105 | M18: 75 | N18: 100 | O18: 95 | P18: 95 | Q18: 100 | R18: 90 | S18: 112 | T18: 100 | U18: 75 | V18: BMW 530d xDrive Touring | W18: s rádiem/bez sudoku | Y18: =Y17+1 -> 17 | Z18: N
A19: 50 | B19: 65 | C19: 60 | D19: 55 | E19: 45 | F19: 52 | G19: 50 | H19: 35 | I19: 50 | J19: 55 | K19: 40 | L19: 45 | M19: 30 | N19: 60 | O19: 35 | P19: X | Q19: X | R19: 50 | S19: 71 | T19: 40 | U19: 40 | V19: BMW 530d xDrive Touring | W19: s rádiem/bez sudoku | Y19: =Y18+1 -> 18 | Z19: N
Y20: =Y19+1 -> 19 | Z20: Z
A21: 30 | B21: 15 | C21: 30 | D21: 40 | E21: 45 | F21: 45 | G21: 50 | H21: 40 | I21: 45 | J21: 50 | K21: 50 | L21: 45 | M21: 35 | N21: 50 | O21: 40 | P21: 45 | Q21: 40 | R21: 40 | S21: 52 | T21: 40 | U21: 25 | V21: BMW 530d xDrive Touring | W21: Bez rádia/se sudoku | Y21: =Y20+1 -> 20 | Z21: Z
A22: 30 | B22: 20 | C22: 50 | D22: 55 | E22: 50 | F22: 55 | G22: 53 | H22: 45 | I22: 60 | J22: 55 | K22: 60 | L22: 65 | M22: 50 | N22: 50 | O22: 50 | P22: 50 | Q22: 55 | R22: 50 | S22: 61 | T22: 50 | U22: 40 | V22: BMW 530d xDrive Touring | W22: Bez rádia/se sudoku | Y22: =Y21+1 -> 21 | Z22: Z
A23: 50 | B23: 30 | C23: 40 | D23: 40 | E23: 45 | F23: 60 | G23: 40 | H23: 30 | I23: 50 | J23: 60 | K23: 50 | L23: 55 | M23: 40 | N23: 50 | O23: 55 | P23: 55 | Q23: 65 | R23: 50 | S23: 63 | T23: 52 | U23: 40 | V23: BMW 530d xDrive Touring | W23: Bez rádia/se sudoku
A24: 60 | B24: 60 | C24: 80 | D24: 80 | E24: 70 | F24: 90 | G24: 82 | H24: 75 | I24: 75 | J24: 85 | K24: 75 | L24: 80 | M24: 75 | N24: 65 | O24: 70 | P24: 75 | Q24: 70 | R24: 70 | S24: 81 | T24: 80 | U24: 65 | V24: BMW 530d xDrive Touring | W24: Bez rádia/se sudoku
A25: 90 | B25: 80 | C25: 100 | D25: 90 | E25: 85 | F25: 90 | G25: 88 | H25: 85 | I25: 90 | J25: 92 | K25: 85 | L25: 100 | M25: 90 | N25: 90 | O25: 90 | P25: 85 | Q25: 95 | R25: 90 | S25: 116 | T25: 92 | U25: 80 | V25: BMW 530d xDrive Touring | W25: Bez rádia/se sudoku
A26: 45 | B26: 35 | C26: 40 | D26: 40 | E26: 40 | F26: 52 | G26: 40 | H26: 40 | I26: 35 | J26: 50 | K26: 40 | L26: 50 | M26: 30 | N26: 40 | O26: 40 | P26: 60 | Q26: 40 | R26: 30 | S26: 39 | T26: 36 | U26: 35 | V26: BMW 530d xDrive Touring | W26: Bez rádia/se sudoku
A27: 55 | B27: 50 | C27: 50 | D27: 55 | E27: 50 | F27: 60 | G27: 45 | H27: 50 | I27: 50 | J27: 60 | K27: 55 | L27: 65 | M27: 50 | N27: 60 | O27: 50 | P27: 75 | Q27: 50 | R27: 50 | S27: 61 | T27: 50 | U27: 50 | V27: BMW 530d xDrive Touring | W27: Bez rádia/se sudoku
A28: 50 | B28: 40 | C28: 70 | D28: 60 | E28: 55 | F28: 70 | G28: 55 | H28: 50 | I28: 40 | J28: 70 | K28: 60 | L28: 55 | M28: 50 | N28: 60 | O28: 60 | P28: 70 | Q28: 60 | R28: 60 | S28: 53 | T28: 51 | U28: 45 | V28: BMW 530d xDrive Touring | W28: Bez rádia/se sudoku
A29: 90 | B29: 85 | C29: 100 | D29: 90 | E29: 80 | F29: 95 | G29: 82 | H29: 90 | I29: 80 | J29: 85 | K29: 85 | L29: 95 | M29: 80 | N29: 90 | O29: 90 | P29: 85 | Q29: 85 | R29: 90 | S29: 98 | T29: 91 | U29: 70 | V29: BMW 530d xDrive Touring | W29: Bez rádia/se sudoku
A30: 50 | B30: 40 | C30: 40 | D30: 50 | E30: 45 | F30: 60 | G30: 47 | H30: 50 | I30: 40 | J30: 55 | K30: 50 | L30: 100 | M30: 45 | N30: 60 | O30: 50 | P30: 75 | Q30: 55 | R30: 40 | S30: 53 | T30: 48 | U30: 40 | V30: BMW 530d xDrive Touring | W30: Bez rádia/se sudoku
A31: 80 | B31: 70 | C31: 60 | D31: 90 | E31: 70 | F31: 70 | G31: 77 | H31: 70 | I31: 75 | J31: 70 | K31: 75 | L31: 75 | M31: 70 | N31: 70 | O31: 65 | P31: 85 | Q31: 70 | R31: 80 | S31: 75 | T31: 82 | U31: 55 | V31: BMW 530d xDrive Touring | W31: Bez rádia/se sudoku
A32: 80 | B32: 80 | C32: 90 | D32: 100 | E32: 85 | F32: 88 | G32: 85 | H32: 90 | I32: 90 | J32: 78 | K32: 85 | L32: 90 | M32: 85 | N32: 80 | O32: 90 | P32: 95 | Q32: 95 | R32: 100 | S32: 83 | T32: 90 | U32: 70 | V32: BMW 530d xDrive Touring | W32: Bez rádia/se sudoku
A33: 60 | B33: 65 | C33: 50 | D33: 75 | E33: 60 | F33: 75 | G33: 67 | H33: 45 | I33: 50 | J33: 58 | K33: 60 | L33: 75 | M33: 45 | N33: 60 | O33: 60 | P33: 70 | Q33: 60 | R33: 50 | S33: 60 | T33: 48 | U33: 55 | V33: BMW 530d xDrive Touring | W33: Bez rádia/se sudoku
A34: 100 | B34: 120 | C34: 130 | D34: 110 | E34: 125 | F34: 110 | G34: 101 | H34: 135 | I34: 100 | J34: 120 | K34: 120 | L34: 100 | M34: 105 | N34: 110 | O34: 90 | P34: 120 | Q34: 120 | R34: 100 | S34: 131 | T34: 109 | U34: 90 | V34: BMW 530d xDrive Touring | W34: Bez rádia/se sudoku
... A44: 90 | B44: 90 | C44: 90 | D44: 80 | E44: 95 | F44: 105 | G44: 100 | H44: 90 | I44: 100 | J44: 98 | K44: 80 | L44: 90 | M44: 90 | N44: 90 | O44: 100 | P44: 85 | Q44: 100 | R44: 120 | S44: 100 | T44: 89 | U44: 90 | V44: BMW X3 | W44: s rádiem/bez sudoku
A45: X | B45: X | C45: 40 | D45: 40 | E45: 35 | F45: 50 | G45: 38 | H45: 35 | I45: 40 | J45: 40 | K45: 40 | L45: 45 | M45: 30 | N45: 40 | O45: 50 | P45: 60 | Q45: 45 | R45: 30 | S45: 39 | T45: 34 | U45: 35 | V45: BMW X3 | W45: s rádiem/bez sudoku
A46: 50 | B46: 40 | C46: 50 | D46: 50 | E46: 50 | F46: 68 | G46: 53 | H46: 50 | I46: 50 | J46: 55 | K46: 55 | L46: 70 | M46: 50 | N46: 60 | O46: 55 | P46: 75 | Q46: 55 | R46: 50 | S46: 53 | T46: 53 | U46: 45 | V46: BMW X3 | W46: s rádiem/bez sudoku
A47: X | B47: X | C47: 50 | D47: 60 | E47: 55 | F47: 65 | G47: 50 | H47: 45 | I47: 40 | J47: 60 | K47: 50 | L47: 65 | M47: 45 | N47: 50 | O47: 50 | P47: 60 | Q47: 50 | R47: 50 | S47: 61 | T47: 49 | U47: 40 | V47: BMW X3 | W47: s rádiem/bez sudoku
A48: X | B48: X | C48: 90 | D48: 80 | E48: 80 | F48: 93 | G48: 82 | H48: 80 | I48: 85 | J48: 90 | K48: 85 | L48: 85 | M48: 80 | N48: 80 | O48: 70 | P48: 85 | Q48: 90 | R48: 90 | S48: 112 | T48: 60 | U48: 75 | V48: BMW X3 | W48: s rádiem/bez sudoku
A49: X | B49: X | C49: 50 | D49: 55 | E49: 45 | F49: 62 | G49: 45 | H49: 45 | I49: 35 | J49: 50 | K49: 50 | L49: 55 | M49: 40 | N49: 45 | O49: 50 | P49: 55 | Q49: 50 | R49: 40 | S49: 50 | T49: 45 | U49: 40 | V49: BMW X3 | W49: s rádiem/bez sudoku
...

Sheet reálná rychlost
A1: 1 | B1: 2 | C1: 3 | D1: 4 | E1: 5 | F1: 6 | G1: 7 | H1: 8 | I1: 9 | J1: 10 | K1: 11 | L1: 12 | M1: 13 | N1: 14 | O1: 15 | P1: 16 | Q1: 17 | R1: 18 | S1: 19 | T1: 20 | U1: 21 | V1: Vozidlo | W1: Poznámka | X1: diference | Y1: min | Z1: max | AA1: 2.5
A2: 37 | B2: 37 | C2: 41 | D2: 41 | E2: 38 | F2: 30 | G2: 30 | H2: 38 | I2: 38 | J2: 38 | K2: 37 | L2: 37 | M2: 37 | N2: X | O2: X | P2: 38 | Q2: 38 | R2: X | S2: 34 | T2: 34 | U2: 54 | V2: BMW 530d xDrive Touring | W2: s rádiem/bez sudoku | X2: 10 | Y2: =MIN(A2:U114) -> 27 | Z2: =MAX(A2:U114) -> 130 | AA2: 5
A3: 50 | B3: 50 | C3: 52 | D3: 52 | E3: 47 | F3: 48 | G3: 48 | H3: 47 | I3: 51 | J3: 51 | K3: 49 | L3: 49 | M3: 49 | N3: X | O3: X | P3: 56 | Q3: 56 | R3: X | S3: 49 | T3: 49 | U3: 32 | V3: BMW 530d xDrive Touring | W3: s rádiem/bez sudoku | X3: Vše dohromady | AA3: do 50 km/h | AD3: do 90 km/h | AG3: do 130 km/h
A4: 40 | B4: 40 | C4: 40 | D4: 40 | E4: 37 | F4: 39 | G4: 39 | H4: 37 | I4: 39 | J4: 39 | K4: 38 | L4: 38 | M4: 38 | N4: X | O4: X | P4: 44 | Q4: 44 | R4: X | S4: 37 | T4: 37 | U4: 41 | V4: BMW 530d xDrive Touring | W4: s rádiem/bez sudoku | X4: 30 | Y4: =COUNTIF($A$2:$U$114,"<="&X4) -> 68 | Z4: ≤30 | AA4: 30 | AB4: =COUNTIF($A$2:$U$114,"<="&AA4) -> 68 | AC4: ≤30 | AD4: 55 | AE4: =COUNTIF($A$2:$U$114,"<="&AD4)-AB13 -> 212 | AF4: (50;55⟩ | AG4: 95 | AH4: =COUNTIF($A$2:$U$114,"<="&AG4)-AB13-AE12 -> 85 | AI4: (90;95⟩
A5: 71 | B5: 71 | C5: 64 | D5: 64 | E5: 74 | F5: 70 | G5: 70 | H5: 74 | I5: 65 | J5: 65 | K5: 72 | L5: 72 | M5: 72 | N5: X | O5: X | P5: 72 | Q5: 72 | R5: X | S5: 66 | T5: 66 | U5: 76 | V5: BMW 530d xDrive Touring | W5: s rádiem/bez sudoku | X5: =X4+$X$2 -> 40 | Y5: =COUNTIF($A$2:$U$114,"<="&X5)-SUM($Y$4:Y4) -> 236 | Z5: (30;40⟩ | AA5: =AA4+$AA$1 -> 32.5 | AB5: =COUNTIF($A$2:$U$114,"<="&AA5)-SUM($AB$4:AB4) -> 34 | AC5: (30;32,5⟩ | AD5: =AD4+$AA$2 -> 60 | AE5: =COUNTIF($A$2:$U$114,"<="&AD5)-SUM($AE$4:AE4,$AB$13) -> 95 | AF5: (55;60⟩ | AG5: =AG4+$AA$2 -> 100 | AH5: =COUNTIF($A$2:$U$114,"<="&AG5)-SUM($AH$4:AH4,$AB$13,$AE$12) -> 74 | AI5: (95;100⟩
A6: 90 | B6: 90 | C6: 86 | D6: 86 | E6: 88 | F6: 88 | G6: 88 | H6: 88 | I6: 90 | J6: 90 | K6: 90 | L6: 90 | M6: 90 | N6: X | O6: X | P6: 91 | Q6: 91 | R6: X | S6: 88 | T6: 88 | U6: 96 | V6: BMW 530d xDrive Touring | W6: s rádiem/bez sudoku | X6: =X5+$X$2 -> 50 | Y6: =COUNTIF($A$2:$U$114,"<="&X6)-SUM($Y$4:Y5) -> 482 | Z6: (40;50⟩ | AA6: =AA5+$AA$1 -> 35 | AB6: =COUNTIF($A$2:$U$114,"<="&AA6)-SUM($AB$4:AB5) -> 53 | AC6: (32,5;35⟩ | AD6: =AD5+$AA$2 -> 65 | AE6: =COUNTIF($A$2:$U$114,"<="&AD6)-SUM($AE$4:AE5,$AB$13) -> 88 | AF6: (60;65⟩ | AG6: =AG5+$AA$2 -> 105 | AH6: =COUNTIF($A$2:$U$114,"<="&AG6)-SUM($AH$4:AH5,$AB$13,$AE$12) -> 32 | AI6: (100;105⟩
A7: 27 | B7: 27 | C7: X | D7: X | E7: 30 | F7: 27 | G7: 27 | H7: 30 | I7: 28 | J7: 28 | K7: 32 | L7: 32 | M7: 32 | N7: X | O7: X | P7: 32 | Q7: 32 | R7: X | S7: 30 | T7: 30 | U7: 30 | V7: BMW 530d xDrive Touring | W7: s rádiem/bez sudoku | X7: =X6+$X$2 -> 60 | Y7: =COUNTIF($A$2:$U$114,"<="&X7)-SUM($Y$4:Y6) -> 307 | Z7: (50;60⟩ | AA7: =AA6+$AA$1 -> 37.5 | AB7: =COUNTIF($A$2:$U$114,"<="&AA7)-SUM($AB$4:AB6) -> 50 | AC7: (35;37,5⟩ | AD7: =AD6+$AA$2 -> 70 | AE7: =COUNTIF($A$2:$U$114,"<="&AD7)-SUM($AE$4:AE6,$AB$13) -> 129 | AF7: (65;70⟩ | AG7: =AG6+$AA$2 -> 110 | AH7: =COUNTIF($A$2:$U$114,"<="&AG7)-SUM($AH$4:AH6,$AB$13,$AE$12) -> 20 | AI7: (105;110⟩
A8: 48 | B8: 48 | C8: 48 | D8: 48 | E8: 52 | F8: 47 | G8: 47 | H8: 52 | I8: 51 | J8: 51 | K8: 50 | L8: 50 | M8: 50 | N8: X | O8: X | P8: 53 | Q8: 53 | R8: X | S8: 35 | T8: 35 | U8: 50 | V8: BMW 530d xDrive Touring | W8: s rádiem/bez sudoku | X8: =X7+$X$2 -> 70 | Y8: =COUNTIF($A$2:$U$114,"<="&X8)-SUM($Y$4:Y7) -> 217 | Z8: (60;70⟩ | AA8: =AA7+$AA$1 -> 40 | AB8: =COUNTIF($A$2:$U$114,"<="&AA8)-SUM($AB$4:AB7) -> 99 | AC8: (37,5;40⟩ | AD8: =AD7+$AA$2 -> 75 | AE8: =COUNTIF($A$2:$U$114,"<="&AD8)-SUM($AE$4:AE7,$AB$13) -> 39 | AF8: (70;75⟩ | AG8: =AG7+$AA$2 -> 115 | AH8: =COUNTIF($A$2:$U$114,"<="&AG8)-SUM($AH$4:AH7,$AB$13,$AE$12) -> 57 | AI8: (110;115⟩
A9: 48 | B9: 48 | C9: X | D9: X | E9: 50 | F9: 47 | G9: 47 | H9: 50 | I9: 52 | J9: 52 | K9: 50 | L9: 50 | M9: 50 | N9: X | O9: X | P9: 49 | Q9: 49 | R9: X | S9: 51 | T9: 51 | U9: 47 | V9: BMW 530d xDrive Touring | W9: s rádiem/bez sudoku | X9: =X8+$X$2 -> 80 | Y9: =COUNTIF($A$2:$U$114,"<="&X9)-SUM($Y$4:Y8) -> 93 | Z9: (70;80⟩ | AA9: =AA8+$AA$1 -> 42.5 | AB9: =COUNTIF($A$2:$U$114,"<="&AA9)-SUM($AB$4:AB8) -> 69 | AC9: (40;42,5⟩ | AD9: =AD8+$AA$2 -> 80 | AE9: =COUNTIF($A$2:$U$114,"<="&AD9)-SUM($AE$4:AE8,$AB$13) -> 54 | AF9: (75;80⟩ | AG9: =AG8+$AA$2 -> 120 | AH9: =COUNTIF($A$2:$U$114,"<="&AG9)-SUM($AH$4:AH8,$AB$13,$AE$12) -> 41 | AI9: (115;120⟩
A10: 85 | B10: 85 | C10: X | D10: X | E10: 82 | F10: 85 | G10: 85 | H10: 82 | I10: 84 | J10: 84 | K10: 88 | L10: 88 | M10: 88 | N10: X | O10: X | P10: 83 | Q10: 83 | R10: X | S10: 83 | T10: 83 | U10: 75 | V10: BMW 530d xDrive Touring | W10: s rádiem/bez sudoku | X10: =X9+$X$2 -> 90 | Y10: =COUNTIF($A$2:$U$114,"<="&X10)-SUM($Y$4:Y9) -> 344 | Z10: (80;90⟩ | AA10: =AA9+$AA$1 -> 45 | AB10: =COUNTIF($A$2:$U$114,"<="&AA10)-SUM($AB$4:AB9) -> 113 | AC10: (42,5;45⟩ | AD10: =AD9+$AA$2 -> 85 | AE10: =COUNTIF($A$2:$U$114,"<="&AD10)-SUM($AE$4:AE9,$AB$13) -> 162 | AF10: (80;85⟩ | AG10: =AG9+$AA$2 -> 125 | AH10: =COUNTIF($A$2:$U$114,"<="&AG10)-SUM($AH$4:AH9,$AB$13,$AE$12) -> 64 | AI10: (120;125⟩
A11: 46 | B11: 46 | C11: X | D11: X | E11: 45 | F11: 45 | G11: 45 | H11: 45 | I11: 45 | J11: 45 | K11: 46 | L11: 46 | M11: 46 | N11: X | O11: X | P11: 44 | Q11: 44 | R11: X | S11: 45 | T11: 45 | U11: 45 | V11: BMW 530d xDrive Touring | W11: s rádiem/bez sudoku | X11: =X10+$X$2 -> 100 | Y11: =COUNTIF($A$2:$U$114,"<="&X11)-SUM($Y$4:Y10) -> 159 | Z11: (90;100⟩ | AA11: =AA10+$AA$1 -> 47.5 | AB11: =COUNTIF($A$2:$U$114,"<="&AA11)-SUM($AB$4:AB10) -> 103 | AC11: (45;47,5⟩ | AD11: =AD10+$AA$2 -> 90 | AE11: =COUNTIF($A$2:$U$114,"<="&AD11)-SUM($AE$4:AE10,$AB$13) -> 182 | AF11: (85;90⟩ | AG11: =AG10+$AA$2 -> 130 | AH11: =COUNTIF($A$2:$U$114,"<="&AG11)-SUM($AH$4:AH10,$AB$13,$AE$12) -> 54 | AI11: (125;130⟩
A12: 70 | B12: 70 | C12: 69 | D12: 69 | E12: 53 | F12: 57 | G12: 57 | H12: 53 | I12: 59 | J12: 59 | K12: 65 | L12: 65 | M12: 65 | N12: X | O12: X | P12: 66 | Q12: 66 | R12: X | S12: 63 | T12: 63 | U12: 78 | V12: BMW 530d xDrive Touring | W12: s rádiem/bez sudoku | X12: =X11+$X$2 -> 110 | Y12: =COUNTIF($A$2:$U$114,"<="&X12)-SUM($Y$4:Y11) -> 52 | Z12: (100;110⟩ | AA12: =AA11+$AA$1 -> 50 | AB12: =COUNTIF($A$2:$U$114,"<="&AA12)-SUM($AB$4:AB11) -> 197 | AC12: (47,5;50⟩ | AE12: =SUM(AE4:AE11) -> 961 | AH12: =SUM(AH4:AH11) -> 427
A13: 85 | B13: 85 | C13: 82 | D13: 82 | E13: 65 | F13: 86 | G13: 86 | H13: 65 | I13: 86 | J13: 86 | K13: 84 | L13: 84 | M13: 84 | N13: X | O13: X | P13: 79 | Q13: 79 | R13: X | S13: 89 | T13: 89 | U13: 72 | V13: BMW 530d xDrive Touring | W13: s rádiem/bez sudoku | X13: =X12+$X$2 -> 120 | Y13: =COUNTIF($A$2:$U$114,"<="&X13)-SUM($Y$4:Y12) -> 98 | Z13: (110;120⟩ | AB13: =SUM(AB4:AB12) -> 786
A14: 57 | B14: 57 | C14: 58 | D14: 58 | E14: 52 | F14: 52 | G14: 52 | H14: 52 | I14: 50 | J14: 50 | K14: X | L14: X | M14: X | N14: X | O14: X | P14: 58 | Q14: 58 | R14: X | S14: 56 | T14: 56 | U14: 69 | V14: BMW 530d xDrive Touring | W14: s rádiem/bez sudoku | X14: =X13+$X$2 -> 130 | Y14: =COUNTIF($A$2:$U$114,"<="&X14)-SUM($Y$4:Y13) -> 118 | Z14: (120;130⟩
A15: 83 | B15: 83 | C15: 99 | D15: 99 | E15: 97 | F15: 102 | G15: 102 | H15: 97 | I15: 97 | J15: 97 | K15: 101 | L15: 101 | M15: 101 | N15: X | O15: X | P15: 100 | Q15: 100 | R15: X | S15: 100 | T15: 100 | U15: 97 | V15: BMW 530d xDrive Touring | W15: s rádiem/bez sudoku | X15: =X14+$X$2 -> 140 | Y15: =COUNTIF($A$2:$U$114,"<="&X15)-SUM($Y$4:Y14) -> 0 | Z15: (25;30⟩ | AA15: =SUM(Y4:Y14) -> 2174 | AB15: Celkem naměřených hodnot
A16: 124 | B16: 124 | C16: 126 | D16: 126 | E16: 130 | F16: 126 | G16: 126 | H16: 130 | I16: 129 | J16: 129 | K16: 125 | L16: 125 | M16: 125 | N16: X | O16: X | P16: 127 | Q16: 127 | R16: X | S16: 123 | T16: 123 | U16: 125 | V16: BMW 530d xDrive Touring | W16: s rádiem/bez sudoku | X16: =X15+$X$2 -> 150 | Y16: =COUNTIF($A$2:$U$114,"<="&X16)-SUM($Y$4:Y15) -> 0 | Z16: (25;30⟩
A17: X | B17: X | C17: 115 | D17: 115 | E17: X | F17: X | G17: X | H17: X | I17: 117 | J17: 117 | K17: 110 | L17: 110 | M17: 110 | N17: X | O17: X | P17: 114 | Q17: 114 | R17: X | S17: 115 | T17: 115 | U17: 114 | V17: BMW 530d xDrive Touring | W17: s rádiem/bez sudoku | X17: =X16+$X$2 -> 160 | Y17: =COUNTIF($A$2:$U$114,"<="&X17)-SUM($Y$4:Y16) -> 0 | Z17: (25;30⟩
A18: 87 | B18: 87 | C18: 92 | D18: 92 | E18: 87 | F18: 87 | G18: 87 | H18: 87 | I18: 92 | J18: 92 | K18: 85 | L18: 85 | M18: 85 | N18: 90 | O18: 90 | P18: 94 | Q18: 94 | R18: 90 | S18: 95 | T18: 95 | U18: 84 | V18: BMW 530d xDrive Touring | W18: s rádiem/bez sudoku | X18: =X17+$X$2 -> 170 | Y18: =COUNTIF($A$2:$U$114,"<="&X18)-SUM($Y$4:Y17) -> 0 | Z18: (25;30⟩
A19: 51 | B19: 51 | C19: 50 | D19: 50 | E19: 45 | F19: 43 | G19: 43 | H19: 45 | I19: 44 | J19: 44 | K19: 45 | L19: 45 | M19: 45 | N19: 48 | O19: 48 | P19: X | Q19: X | R19: 48 | S19: 46 | T19: 46 | U19: 53 | V19: BMW 530d xDrive Touring | W19: s rádiem/bez sudoku | X19: =X18+$X$2 -> 180 | Y19: =COUNTIF($A$2:$U$114,"<="&X19)-SUM($Y$4:Y18) -> 0 | Z19: (25;30⟩
X20: =X19+$X$2 -> 190 | Y20: =COUNTIF($A$2:$U$114,"<="&X20)-SUM($Y$4:Y19) -> 0 | Z20: (25;30⟩
A21: 37 | B21: 37 | C21: 50 | D21: 50 | E21: 41 | F21: 38 | G21: 38 | H21: 41 | I21: 41 | J21: 41 | K21: 39 | L21: 39 | M21: 39 | N21: 45 | O21: 45 | P21: 38 | Q21: 38 | R21: 45 | S21: 41 | T21: 41 | U21: 37 | V21: BMW 530d xDrive Touring | W21: Bez rádia/se sudoku | X21: =X20+$X$2 -> 200 | Y21: =COUNTIF($A$2:$U$114,"<="&X21)-SUM($Y$4:Y20) -> 0 | Z21: (25;30⟩
A22: 51 | B22: 51 | C22: 53 | D22: 53 | E22: 50 | F22: 52 | G22: 52 | H22: 50 | I22: 56 | J22: 56 | K22: 50 | L22: 50 | M22: 50 | N22: 55 | O22: 55 | P22: 49 | Q22: 49 | R22: 55 | S22: 52 | T22: 52 | U22: 50 | V22: BMW 530d xDrive Touring | W22: Bez rádia/se sudoku | X22: =X21+$X$2 -> 210 | Y22: =COUNTIF($A$2:$U$114,"<="&X22)-SUM($Y$4:Y21) -> 0 | Z22: (25;30⟩
A23: 40 | B23: 40 | C23: 40 | D23: 40 | E23: 35 | F23: 34 | G23: 34 | H23: 35 | I23: 41 | J23: 41 | K23: 41 | L23: 41 | M23: 41 | N23: 47 | O23: 47 | P23: 41 | Q23: 41 | R23: 47 | S23: 43 | T23: 43 | U23: 45 | V23: BMW 530d xDrive Touring | W23: Bez rádia/se sudoku | X23: =X22+$X$2 -> 220 | Y23: =COUNTIF($A$2:$U$114,"<="&X23)-SUM($Y$4:Y22) -> 0 | Z23: (25;30⟩
A24: 66 | B24: 66 | C24: 68 | D24: 68 | E24: 67 | F24: 69 | G24: 69 | H24: 67 | I24: 66 | J24: 66 | K24: 67 | L24: 67 | M24: 67 | N24: 71 | O24: 71 | P24: 65 | Q24: 65 | R24: 71 | S24: 67 | T24: 67 | U24: 72 | V24: BMW 530d xDrive Touring | W24: Bez rádia/se sudoku | X24: =X23+$X$2 -> 230 | Y24: =COUNTIF($A$2:$U$114,"<="&X24)-SUM($Y$4:Y23) -> 0 | Z24: (25;30⟩
A25: 87 | B25: 87 | C25: 87 | D25: 87 | E25: 84 | F25: 86 | G25: 86 | H25: 84 | I25: 86 | J25: 86 | K25: 89 | L25: 89 | M25: 89 | N25: 86 | O25: 86 | P25: 88 | Q25: 88 | R25: 86 | S25: 89 | T25: 89 | U25: 92 | V25: BMW 530d xDrive Touring | W25: Bez rádia/se sudoku | X25: =X24+$X$2 -> 240 | Y25: =COUNTIF($A$2:$U$114,"<="&X25)-SUM($Y$4:Y24) -> 0 | Z25: (25;30⟩
A26: 31 | B26: 31 | C26: 31 | D26: 31 | E26: 27 | F26: 30 | G26: 30 | H26: 27 | I26: 33 | J26: 33 | K26: 30 | L26: 30 | M26: 30 | N26: 29 | O26: 29 | P26: 28 | Q26: 28 | R26: 29 | S26: 27 | T26: 27 | U26: 28 | V26: BMW 530d xDrive Touring | W26: Bez rádia/se sudoku
A27: 51 | B27: 51 | C27: 53 | D27: 53 | E27: 49 | F27: 47 | G27: 47 | H27: 49 | I27: 49 | J27: 49 | K27: 49 | L27: 49 | M27: 49 | N27: 50 | O27: 50 | P27: 50 | Q27: 50 | R27: 50 | S27: 52 | T27: 52 | U27: 50 | V27: BMW 530d xDrive Touring | W27: Bez rádia/se sudoku
A28: 48 | B28: 48 | C28: 46 | D28: 46 | E28: 48 | F28: 49 | G28: 49 | H28: 48 | I28: 45 | J28: 45 | K28: 50 | L28: 50 | M28: 50 | N28: 50 | O28: 50 | P28: 49 | Q28: 49 | R28: 50 | S28: 48 | T28: 48 | U28: 44 | V28: BMW 530d xDrive Touring | W28: Bez rádia/se sudoku
A29: 85 | B29: 85 | C29: 72 | D29: 72 | E29: 89 | F29: 86 | G29: 86 | H29: 89 | I29: 77 | J29: 77 | K29: 84 | L29: 84 | M29: 84 | N29: 82 | O29: 82 | P29: 83 | Q29: 83 | R29: 82 | S29: 83 | T29: 83 | U29: 83 | V29: BMW 530d xDrive Touring | W29: Bez rádia/se sudoku
A30: 42 | B30: 42 | C30: 38 | D30: 38 | E30: 46 | F30: 49 | G30: 49 | H30: 46 | I30: 44 | J30: 44 | K30: 47 | L30: 47 | M30: 47 | N30: 40 | O30: 40 | P30: 43 | Q30: 43 | R30: 40 | S30: 48 | T30: 48 | U30: 48 | V30: BMW 530d xDrive Touring | W30: Bez rádia/se sudoku
A31: 69 | B31: 69 | C31: 67 | D31: 67 | E31: 63 | F31: 65 | G31: 65 | H31: 63 | I31: 68 | J31: 68 | K31: 62 | L31: 62 | M31: 62 | N31: 62 | O31: 62 | P31: 61 | Q31: 61 | R31: 62 | S31: 59 | T31: 59 | U31: 57 | V31: BMW 530d xDrive Touring | W31: Bez rádia/se sudoku
A32: 72 | B32: 72 | C32: 75 | D32: 75 | E32: 86 | F32: 85 | G32: 85 | H32: 86 | I32: 82 | J32: 82 | K32: 82 | L32: 82 | M32: 82 | N32: 90 | O32: 90 | P32: 88 | Q32: 88 | R32: 90 | S32: 84 | T32: 84 | U32: 80 | V32: BMW 530d xDrive Touring | W32: Bez rádia/se sudoku
A33: 57 | B33: 57 | C33: 59 | D33: 59 | E33: 54 | F33: 56 | G33: 56 | H33: 54 | I33: 55 | J33: 55 | K33: 61 | L33: 61 | M33: 61 | N33: 55 | O33: 55 | P33: 57 | Q33: 57 | R33: 55 | S33: 56 | T33: 56 | U33: 66 | V33: BMW 530d xDrive Touring | W33: Bez rádia/se sudoku
A34: 99 | B34: 99 | C34: 94 | D34: 94 | E34: 100 | F34: 94 | G34: 94 | H34: 100 | I34: 97 | J34: 97 | K34: 105 | L34: 105 | M34: 105 | N34: 96 | O34: 96 | P34: 99 | Q34: 99 | R34: 96 | S34: 95 | T34: 95 | U34: 98 | V34: BMW 530d xDrive Touring | W34: Bez rádia/se sudoku
A35: 125 | B35: 125 | C35: 125 | D35: 125 | E35: 127 | F35: 112 | G35: 112 | H35: 127 | I35: 127 | J35: 127 | K35: 124 | L35: 124 | M35: 124 | N35: 125 | O35: 125 | P35: 117 | Q35: 117 | R35: 125 | S35: 123 | T35: 123 | U35: 125 | V35: BMW 530d xDrive Touring | W35: Bez rádia/se sudoku
A36: 114 | B36: 114 | C36: 113 | D36: 113 | E36: 115 | F36: 111 | G36: 111 | H36: 115 | I36: 116 | J36: 116 | K36: 114 | L36: 114 | M36: 114 | N36: 120 | O36: 120 | P36: 113 | Q36: 113 | R36: 120 | S36: 116 | T36: 116 | U36: 110 | V36: BMW 530d xDrive Touring | W36: Bez rádia/se sudoku
A37: 84 | B37: 84 | C37: 87 | D37: 87 | E37: 92 | F37: 85 | G37: 85 | H37: 92 | I37: 84 | J37: 84 | K37: 87 | L37: 87 | M37: 87 | N37: 96 | O37: 96 | P37: 93 | Q37: 93 | R37: 96 | S37: 97 | T37: 97 | U37: 90 | V37: BMW 530d xDrive Touring | W37: Bez rádia/se sudoku
... A44: 86 | B44: 86 | C44: 90 | D44: 90 | E44: 87 | F44: 88 | G44: 88 | H44: 87 | I44: 90 | J44: 90 | K44: 88 | L44: 88 | M44: 88 | N44: 91 | O44: 91 | P44: 90 | Q44: 90 | R44: 91 | S44: 95 | T44: 95 | U44: 88 | V44: BMW X3 | W44: s rádiem/bez sudoku
A45: X | B45: X | C45: 29 | D45: 29 | E45: 29 | F45: 30 | G45: 30 | H45: 29 | I45: 30 | J45: 30 | K45: 33 | L45: 33 | M45: 33 | N45: 38 | O45: 38 | P45: 31 | Q45: 31 | R45: 38 | S45: 28 | T45: 28 | U45: 32 | V45: BMW X3 | W45: s rádiem/bez sudoku
A46: 48 | B46: 48 | C46: 47 | D46: 47 | E46: 47 | F46: 52 | G46: 52 | H46: 47 | I46: 49 | J46: 49 | K46: 52 | L46: 52 | M46: 52 | N46: 54 | O46: 54 | P46: 54 | Q46: 54 | R46: 54 | S46: 48 | T46: 48 | U46: 48 | V46: BMW X3 | W46: s rádiem/bez sudoku
...

Sheet odchylky
A1: 1 | B1: 2 | C1: 3 | D1: 4 | E1: 5 | F1: 6 | G1: 7 | H1: 8 | I1: 9 | J1: 10 | K1: 11 | L1: 12 | M1: 13 | N1: 14 | O1: 15 | P1: 16 | Q1: 17 | R1: 18 | S1: 19 | T1: 20 | U1: 21 | V1: Vozidlo | W1: Poznámka
A2: =('odhadnuté rychlosti'!A2-'reálná rychlost'!A2)/'reálná rychlost'!A2 -> -0.18918919 | B2: =('odhadnuté rychlosti'!B2-'reálná rychlost'!B2)/'reálná rychlost'!B2 -> -0.59459459 | C2: =('odhadnuté rychlosti'!C2-'reálná rychlost'!C2)/'reálná rychlost'!C2 -> -0.024390244 | D2: =('odhadnuté rychlosti'!D2-'reálná rychlost'!D2)/'reálná rychlost'!D2 -> 0.097560976 | E2: =('odhadnuté rychlosti'!E2-'reálná rychlost'!E2)/'reálná rychlost'!E2 -> 0.052631579 | F2: =('odhadnuté rychlosti'!F2-'reálná rychlost'!F2)/'reálná rychlost'!F2 -> 0.5 | G2: =('odhadnuté rychlosti'!G2-'reálná rychlost'!G2)/'reálná rychlost'!G2 -> 0.43333333 | H2: =('odhadnuté rychlosti'!H2-'reálná rychlost'!H2)/'reálná rychlost'!H2 -> -0.078947368 | ... M2: =('odhadnuté rychlosti'!M2-'reálná rychlost'!M2)/'reálná rychlost'!M2 -> -0.054054054 | N2: X | O2: X | P2: =('odhadnuté rychlosti'!P2-'reálná rychlost'!P2)/'reálná rychlost'!P2 -> 0.18421053 | Q2: =('odhadnuté rychlosti'!Q2-'reálná rychlost'!Q2)/'reálná rychlost'!Q2 -> 0.18421053 | R2: X | S2: =('odhadnuté rychlosti'!S2-'reálná rychlost'!S2)/'reálná rychlost'!S2 -> 0.64705882 | T2: =('odhadnuté rychlosti'!T2-'reálná rychlost'!T2)/'reálná rychlost'!T2 -> 0.11764706 | U2: =('odhadnuté rychlosti'!U2-'reálná rychlost'!U2)/'reálná rychlost'!U2 -> -0.35185185 | V2: BMW 530d xDrive Touring | W2: s rádiem/bez sudoku
A3: =('odhadnuté rychlosti'!A3-'reálná rychlost'!A3)/'reálná rychlost'!A3 -> -0.4 | B3: =('odhadnuté rychlosti'!B3-'reálná rychlost'!B3)/'reálná rychlost'!B3 -> -0.6 | C3: =('odhadnuté rychlosti'!C3-'reálná rychlost'!C3)/'reálná rychlost'!C3 -> -0.038461538 | D3: =('odhadnuté rychlosti'!D3-'reálná rychlost'!D3)/'reálná rychlost'!D3 -> -0.038461538 | E3: =('odhadnuté rychlosti'!E3-'reálná rychlost'!E3)/'reálná rychlost'!E3 -> 0.063829787 | F3: =('odhadnuté rychlosti'!F3-'reálná rychlost'!F3)/'reálná rychlost'!F3 -> 0.14583333 | G3: =('odhadnuté rychlosti'!G3-'reálná rychlost'!G3)/'reálná rychlost'!G3 -> 0.0625 | H3: =('odhadnuté rychlosti'!H3-'reálná rychlost'!H3)/'reálná rychlost'!H3 -> -0.042553191 | ... M3: =('odhadnuté rychlosti'!M3-'reálná rychlost'!M3)/'reálná rychlost'!M3 -> -0.18367347 | N3: X | O3: X | P3: =('odhadnuté rychlosti'!P3-'reálná rychlost'!P3)/'reálná rychlost'!P3 -> -0.017857143 | Q3: =('odhadnuté rychlosti'!Q3-'reálná rychlost'!Q3)/'reálná rychlost'!Q3 -> -0.017857143 | R3: X | S3: =('odhadnuté rychlosti'!S3-'reálná rychlost'!S3)/'reálná rychlost'!S3 -> 0.28571429 | T3: =('odhadnuté rychlosti'!T3-'reálná rychlost'!T3)/'reálná rychlost'!T3 -> -0.30612245 | U3: =('odhadnuté rychlosti'!U3-'reálná rychlost'!U3)/'reálná rychlost'!U3 -> -0.375 | V3: BMW 530d xDrive Touring | W3: s rádiem/bez sudoku
A4: =('odhadnuté rychlosti'!A4-'reálná rychlost'!A4)/'reálná rychlost'!A4 -> -0.25 | B4: =('odhadnuté rychlosti'!B4-'reálná rychlost'!B4)/'reálná rychlost'!B4 -> -0.25 | C4: =('odhadnuté rychlosti'!C4-'reálná rychlost'!C4)/'reálná rychlost'!C4 -> 0 | D4: =('odhadnuté rychlosti'!D4-'reálná rychlost'!D4)/'reálná rychlost'!D4 -> 0.25 | E4: =('odhadnuté rychlosti'!E4-'reálná rychlost'!E4)/'reálná rychlost'!E4 -> -0.054054054 | F4: =('odhadnuté rychlosti'!F4-'reálná rychlost'!F4)/'reálná rychlost'!F4 -> 0.35897436 | G4: =('odhadnuté rychlosti'!G4-'reálná rychlost'!G4)/'reálná rychlost'!G4 -> 0.15384615 | H4: =('odhadnuté rychlosti'!H4-'reálná rychlost'!H4)/'reálná rychlost'!H4 -> -0.18918919 | ... M4: =('odhadnuté rychlosti'!M4-'reálná rychlost'!M4)/'reálná rychlost'!M4 -> -0.21052632 | N4: X | O4: X | P4: =('odhadnuté rychlosti'!P4-'reálná rychlost'!P4)/'reálná rychlost'!P4 -> 0.36363636 | Q4: =('odhadnuté rychlosti'!Q4-'reálná rychlost'!Q4)/'reálná rychlost'!Q4 -> 0.36363636 | R4: X | S4: =('odhadnuté rychlosti'!S4-'reálná rychlost'!S4)/'reálná rychlost'!S4 -> 0.35135135 | T4: =('odhadnuté rychlosti'!T4-'reálná rychlost'!T4)/'reálná rychlost'!T4 -> -0.2972973 | U4: =('odhadnuté rychlosti'!U4-'reálná rychlost'!U4)/'reálná rychlost'!U4 -> -0.14634146 | V4: BMW 530d xDrive Touring | W4: s rádiem/bez sudoku
A5: =('odhadnuté rychlosti'!A5-'reálná rychlost'!A5)/'reálná rychlost'!A5 -> -0.15492958 | B5: =('odhadnuté rychlosti'!B5-'reálná rychlost'!B5)/'reálná rychlost'!B5 -> -0.29577465 | C5: =('odhadnuté rychlosti'!C5-'reálná rychlost'!C5)/'reálná rychlost'!C5 -> -0.0625 | D5: =('odhadnuté rychlosti'!D5-'reálná rychlost'!D5)/'reálná rychlost'!D5 -> 0.40625 | E5: =('odhadnuté rychlosti'!E5-'reálná rychlost'!E5)/'reálná rychlost'!E5 -> -0.054054054 | F5: =('odhadnuté rychlosti'!F5-'reálná rychlost'!F5)/'reálná rychlost'!F5 -> 0.21428571 | G5: =('odhadnuté rychlosti'!G5-'reálná rychlost'!G5)/'reálná rychlost'!G5 -> 0.028571429 | H5: =('odhadnuté rychlosti'!H5-'reálná rychlost'!H5)/'reálná rychlost'!H5 -> -0.054054054 | ... M5: =('odhadnuté rychlosti'!M5-'reálná rychlost'!M5)/'reálná rychlost'!M5 -> -0.097222222 | N5: X | O5: X | P5: =('odhadnuté rychlosti'!P5-'reálná rychlost'!P5)/'reálná rychlost'!P5 -> 0.041666667 | Q5: =('odhadnuté rychlosti'!Q5-'reálná rychlost'!Q5)/'reálná rychlost'!Q5 -> 0.11111111 | R5: X | S5: =('odhadnuté rychlosti'!S5-'reálná rychlost'!S5)/'reálná rychlost'!S5 -> 0.25757576 | T5: =('odhadnuté rychlosti'!T5-'reálná rychlost'!T5)/'reálná rychlost'!T5 -> -0.060606061 | U5: =('odhadnuté rychlosti'!U5-'reálná rychlost'!U5)/'reálná rychlost'!U5 -> -0.21052632 | V5: BMW 530d xDrive Touring | W5: s rádiem/bez sudoku
A6: =('odhadnuté rychlosti'!A6-'reálná rychlost'!A6)/'reálná rychlost'!A6 -> 0 | B6: =('odhadnuté rychlosti'!B6-'reálná rychlost'!B6)/'reálná rychlost'!B6 -> -0.16666667 | C6: =('odhadnuté rychlosti'!C6-'reálná rychlost'!C6)/'reálná rychlost'!C6 -> 0.1627907 | D6: =('odhadnuté rychlosti'!D6-'reálná rychlost'!D6)/'reálná rychlost'!D6 -> 0.1627907 | E6: =('odhadnuté rychlosti'!E6-'reálná rychlost'!E6)/'reálná rychlost'!E6 -> -0.034090909 | F6: =('odhadnuté rychlosti'!F6-'reálná rychlost'!F6)/'reálná rychlost'!F6 -> 0.13636364 | G6: =('odhadnuté rychlosti'!G6-'reálná rychlost'!G6)/'reálná rychlost'!G6 -> 0 | H6: =('odhadnuté rychlosti'!H6-'reálná rychlost'!H6)/'reálná rychlost'!H6 -> -0.090909091 | ... M6: =('odhadnuté rychlosti'!M6-'reálná rychlost'!M6)/'reálná rychlost'!M6 -> -0.16666667 | N6: X | O6: X | P6: =('odhadnuté rychlosti'!P6-'reálná rychlost'!P6)/'reálná rychlost'!P6 -> -0.010989011 | Q6: =('odhadnuté rychlosti'!Q6-'reálná rychlost'!Q6)/'reálná rychlost'!Q6 -> 0.043956044 | R6: X | S6: =('odhadnuté rychlosti'!S6-'reálná rychlost'!S6)/'reálná rychlost'!S6 -> 0.15909091 | T6: =('odhadnuté rychlosti'!T6-'reálná rychlost'!T6)/'reálná rychlost'!T6 -> 0.045454545 | U6: =('odhadnuté rychlosti'!U6-'reálná rychlost'!U6)/'reálná rychlost'!U6 -> -0.0625 | V6: BMW 530d xDrive Touring | W6: s rádiem/bez sudoku
A7: =('odhadnuté rychlosti'!A7-'reálná rychlost'!A7)/'reálná rychlost'!A7 -> 0.66666667 | B7: =('odhadnuté rychlosti'!B7-'reálná rychlost'!B7)/'reálná rychlost'!B7 -> 0.11111111 | C7: X | D7: X | E7: =('odhadnuté rychlosti'!E7-'reálná rychlost'!E7)/'reálná rychlost'!E7 -> 0.16666667 | F7: =('odhadnuté rychlosti'!F7-'reálná rychlost'!F7)/'reálná rychlost'!F7 -> 0.92592593 | G7: =('odhadnuté rychlosti'!G7-'reálná rychlost'!G7)/'reálná rychlost'!G7 -> 0.22222222 | H7: =('odhadnuté rychlosti'!H7-'reálná rychlost'!H7)/'reálná rychlost'!H7 -> 0.16666667 | I7: =('odhadnuté rychlosti'!I7-'reálná rychlost'!I7)/'reálná rychlost'!I7 -> 0.25 | J7: =('odhadnuté rychlosti'!J7-'reálná rychlost'!J7)/'reálná rychlost'!J7 -> 0.42857143 | K7: =('odhadnuté rychlosti'!K7-'reálná rychlost'!K7)/'reálná rychlost'!K7 -> 0.40625 | L7: =('odhadnuté rychlosti'!L7-'reálná rychlost'!L7)/'reálná rychlost'!L7 -> 0.25 | M7: =('odhadnuté rychlosti'!M7-'reálná rychlost'!M7)/'reálná rychlost'!M7 -> -0.21875 | N7: X | O7: X | P7: =('odhadnuté rychlosti'!P7-'reálná rychlost'!P7)/'reálná rychlost'!P7 -> 0.875 | Q7: =('odhadnuté rychlosti'!Q7-'reálná rychlost'!Q7)/'reálná rychlost'!Q7 -> 0.40625 | R7: X | S7: =('odhadnuté rychlosti'!S7-'reálná rychlost'!S7)/'reálná rychlost'!S7 -> 0.4 | T7: =('odhadnuté rychlosti'!T7-'reálná rychlost'!T7)/'reálná rychlost'!T7 -> 0.33333333 | U7: =('odhadnuté rychlosti'!U7-'reálná rychlost'!U7)/'reálná rychlost'!U7 -> 0 | V7: BMW 530d xDrive Touring | W7: s rádiem/bez sudoku
A8: =('odhadnuté rychlosti'!A8-'reálná rychlost'!A8)/'reálná rychlost'!A8 -> 0.041666667 | B8: =('odhadnuté rychlosti'!B8-'reálná rychlost'!B8)/'reálná rychlost'!B8 -> -0.16666667 | C8: =('odhadnuté rychlosti'!C8-'reálná rychlost'!C8)/'reálná rychlost'!C8 -> 0.14583333 | D8: =('odhadnuté rychlosti'!D8-'reálná rychlost'!D8)/'reálná rychlost'!D8 -> 0.14583333 | E8: =('odhadnuté rychlosti'!E8-'reálná rychlost'!E8)/'reálná rychlost'!E8 -> -0.038461538 | F8: =('odhadnuté rychlosti'!F8-'reálná rychlost'!F8)/'reálná rychlost'!F8 -> 0.38297872 | G8: =('odhadnuté rychlosti'!G8-'reálná rychlost'!G8)/'reálná rychlost'!G8 -> 0.10638298 | H8: =('odhadnuté rychlosti'!H8-'reálná rychlost'!H8)/'reálná rychlost'!H8 -> -0.038461538 | ... M8: =('odhadnuté rychlosti'!M8-'reálná rychlost'!M8)/'reálná rychlost'!M8 -> -0.3 | N8: X | O8: X | P8: =('odhadnuté rychlosti'!P8-'reálná rychlost'!P8)/'reálná rychlost'!P8 -> 0.41509434 | Q8: =('odhadnuté rychlosti'!Q8-'reálná rychlost'!Q8)/'reálná rychlost'!Q8 -> 0.13207547 | R8: X | S8: =('odhadnuté rychlosti'!S8-'reálná rychlost'!S8)/'reálná rychlost'!S8 -> 0.6 | T8: =('odhadnuté rychlosti'!T8-'reálná rychlost'!T8)/'reálná rychlost'!T8 -> 0.31428571 | U8: =('odhadnuté rychlosti'!U8-'reálná rychlost'!U8)/'reálná rychlost'!U8 -> -0.1 | V8: BMW 530d xDrive Touring | W8: s rádiem/bez sudoku
A9: =('odhadnuté rychlosti'!A9-'reálná rychlost'!A9)/'reálná rychlost'!A9 -> 0.041666667 | B9: =('odhadnuté rychlosti'!B9-'reálná rychlost'!B9)/'reálná rychlost'!B9 -> -0.16666667 | C9: X | D9: X | E9: =('odhadnuté rychlosti'!E9-'reálná rychlost'!E9)/'reálná rychlost'!E9 -> -0.1 | F9: =('odhadnuté rychlosti'!F9-'reálná rychlost'!F9)/'reálná rychlost'!F9 -> 0.38297872 | G9: =('odhadnuté rychlosti'!G9-'reálná rychlost'!G9)/'reálná rychlost'!G9 -> 0.23404255 | H9: =('odhadnuté rychlosti'!H9-'reálná rychlost'!H9)/'reálná rychlost'!H9 -> 0 | I9: =('odhadnuté rychlosti'!I9-'reálná rychlost'!I9)/'reálná rychlost'!I9 -> -0.038461538 | J9: =('odhadnuté rychlosti'!J9-'reálná rychlost'!J9)/'reálná rychlost'!J9 -> 0.15384615 | K9: =('odhadnuté rychlosti'!K9-'reálná rychlost'!K9)/'reálná rychlost'!K9 -> 0.1 | L9: =('odhadnuté rychlosti'!L9-'reálná rychlost'!L9)/'reálná rychlost'!L9 -> 0 | M9: =('odhadnuté rychlosti'!M9-'reálná rychlost'!M9)/'reálná rychlost'!M9 -> -0.1 | N9: X | O9: X | P9: =('odhadnuté rychlosti'!P9-'reálná rychlost'!P9)/'reálná rychlost'!P9 -> 0.32653061 | Q9: =('odhadnuté rychlosti'!Q9-'reálná rychlost'!Q9)/'reálná rychlost'!Q9 -> 0.020408163 | R9: X | S9: =('odhadnuté rychlosti'!S9-'reálná rychlost'!S9)/'reálná rychlost'!S9 -> 0.23529412 | T9: =('odhadnuté rychlosti'!T9-'reálná rychlost'!T9)/'reálná rychlost'!T9 -> 0.078431373 | U9: =('odhadnuté rychlosti'!U9-'reálná rychlost'!U9)/'reálná rychlost'!U9 -> -0.14893617 | V9: BMW 530d xDrive Touring | W9: s rádiem/bez sudoku
A10: =('odhadnuté rychlosti'!A10-'reálná rychlost'!A10)/'reálná rychlost'!A10 -> 0.11764706 | B10: =('odhadnuté rychlosti'!B10-'reálná rychlost'!B10)/'reálná rychlost'!B10 -> 0 | C10: X | D10: X | E10: =('odhadnuté rychlosti'!E10-'reálná rychlost'!E10)/'reálná rychlost'!E10 -> -0.085365854 | F10: =('odhadnuté rychlosti'!F10-'reálná rychlost'!F10)/'reálná rychlost'!F10 -> 0.11764706 | G10: =('odhadnuté rychlosti'!G10-'reálná rychlost'!G10)/'reálná rychlost'!G10 -> -0.2 | H10: =('odhadnuté rychlosti'!H10-'reálná rychlost'!H10)/'reálná rychlost'!H10 -> -0.14634146 | I10: =('odhadnuté rychlosti'!I10-'reálná rychlost'!I10)/'reálná rychlost'!I10 -> -0.047619048 | J10: =('odhadnuté rychlosti'!J10-'reálná rychlost'!J10)/'reálná rychlost'!J10 -> -0.047619048 | K10: =('odhadnuté rychlosti'!K10-'reálná rychlost'!K10)/'reálná rychlost'!K10 -> -0.090909091 | L10: =('odhadnuté rychlosti'!L10-'reálná rychlost'!L10)/'reálná rychlost'!L10 -> -0.090909091 | M10: =('odhadnuté rychlosti'!M10-'reálná rychlost'!M10)/'reálná rychlost'!M10 -> -0.090909091 | N10: X | O10: X | P10: =('odhadnuté rychlosti'!P10-'reálná rychlost'!P10)/'reálná rychlost'!P10 -> 0.024096386 | Q10: =('odhadnuté rychlosti'!Q10-'reálná rychlost'!Q10)/'reálná rychlost'!Q10 -> 0.084337349 | R10: X | S10: =('odhadnuté rychlosti'!S10-'reálná rychlost'!S10)/'reálná rychlost'!S10 -> 0.15662651 | T10: =('odhadnuté rychlosti'!T10-'reálná rychlost'!T10)/'reálná rychlost'!T10 -> 0.20481928 | U10: =('odhadnuté rychlosti'!U10-'reálná rychlost'!U10)/'reálná rychlost'!U10 -> -0.066666667 | V10: BMW 530d xDrive Touring | W10: s rádiem/bez sudoku
A11: =('odhadnuté rychlosti'!A11-'reálná rychlost'!A11)/'reálná rychlost'!A11 -> -0.02173913 | B11: =('odhadnuté rychlosti'!B11-'reálná rychlost'!B11)/'reálná rychlost'!B11 -> -0.02173913 | C11: X | D11: X | E11: =('odhadnuté rychlosti'!E11-'reálná rychlost'!E11)/'reálná rychlost'!E11 -> 0 | F11: =('odhadnuté rychlosti'!F11-'reálná rychlost'!F11)/'reálná rychlost'!F11 -> 0.22222222 | G11: =('odhadnuté rychlosti'!G11-'reálná rychlost'!G11)/'reálná rychlost'!G11 -> 0.066666667 | H11: =('odhadnuté rychlosti'!H11-'reálná rychlost'!H11)/'reálná rychlost'!H11 -> 0 | I11: =('odhadnuté rychlosti'!I11-'reálná rychlost'!I11)/'reálná rychlost'!I11 -> -0.22222222 | J11: =('odhadnuté rychlosti'!J11-'reálná rychlost'!J11)/'reálná rychlost'!J11 -> 0.11111111 | K11: =('odhadnuté rychlosti'!K11-'reálná rychlost'!K11)/'reálná rychlost'!K11 -> 0.086956522 | L11: =('odhadnuté rychlosti'!L11-'reálná rychlost'!L11)/'reálná rychlost'!L11 -> 0.086956522 | M11: =('odhadnuté rychlosti'!M11-'reálná rychlost'!M11)/'reálná rychlost'!M11 -> -0.13043478 | N11: X | O11: X | P11: =('odhadnuté rychlosti'!P11-'reálná rychlost'!P11)/'reálná rychlost'!P11 -> 0.25 | Q11: =('odhadnuté rychlosti'!Q11-'reálná rychlost'!Q11)/'reálná rychlost'!Q11 -> 0.36363636 | R11: X | S11: =('odhadnuté rychlosti'!S11-'reálná rychlost'!S11)/'reálná rychlost'!S11 -> 0.17777778 | T11: =('odhadnuté rychlosti'!T11-'reálná rychlost'!T11)/'reálná rychlost'!T11 -> 0.11111111 | U11: =('odhadnuté rychlosti'!U11-'reálná rychlost'!U11)/'reálná rychlost'!U11 -> -0.22222222 | V11: BMW 530d xDrive Touring | W11: s rádiem/bez sudoku
A12: =('odhadnuté rychlosti'!A12-'reálná rychlost'!A12)/'reálná rychlost'!A12 -> 0.14285714 | B12: =('odhadnuté rychlosti'!B12-'reálná rychlost'!B12)/'reálná rychlost'!B12 -> 0.14285714 | C12: =('odhadnuté rychlosti'!C12-'reálná rychlost'!C12)/'reálná rychlost'!C12 -> 0.15942029 | D12: =('odhadnuté rychlosti'!D12-'reálná rychlost'!D12)/'reálná rychlost'!D12 -> 0.086956522 | E12: =('odhadnuté rychlosti'!E12-'reálná rychlost'!E12)/'reálná rychlost'!E12 -> 0.037735849 | F12: =('odhadnuté rychlosti'!F12-'reálná rychlost'!F12)/'reálná rychlost'!F12 -> 0.35087719 | G12: =('odhadnuté rychlosti'!G12-'reálná rychlost'!G12)/'reálná rychlost'!G12 -> 0.33333333 | H12: =('odhadnuté rychlosti'!H12-'reálná rychlost'!H12)/'reálná rychlost'!H12 -> 0.037735849 | ... M12: =('odhadnuté rychlosti'!M12-'reálná rychlost'!M12)/'reálná rychlost'!M12 -> 0.076923077 | N12: X | O12: X | P12: =('odhadnuté rychlosti'!P12-'reálná rychlost'!P12)/'reálná rychlost'!P12 -> 0.21212121 | Q12: =('odhadnuté rychlosti'!Q12-'reálná rychlost'!Q12)/'reálná rychlost'!Q12 -> 0.060606061 | R12: X | S12: =('odhadnuté rychlosti'!S12-'reálná rychlost'!S12)/'reálná rychlost'!S12 -> 0.12698413 | T12: =('odhadnuté rychlosti'!T12-'reálná rychlost'!T12)/'reálná rychlost'!T12 -> -0.015873016 | U12: =('odhadnuté rychlosti'!U12-'reálná rychlost'!U12)/'reálná rychlost'!U12 -> -0.038461538 | V12: BMW 530d xDrive Touring | W12: s rádiem/bez sudoku
A13: =('odhadnuté rychlosti'!A13-'reálná rychlost'!A13)/'reálná rychlost'!A13 -> 0.11764706 | B13: =('odhadnuté rychlosti'!B13-'reálná rychlost'!B13)/'reálná rychlost'!B13 -> 0 | C13: =('odhadnuté rychlosti'!C13-'reálná rychlost'!C13)/'reálná rychlost'!C13 -> 0.2195122 | D13: =('odhadnuté rychlosti'!D13-'reálná rychlost'!D13)/'reálná rychlost'!D13 -> 0.097560976 | E13: =('odhadnuté rychlosti'!E13-'reálná rychlost'!E13)/'reálná rychlost'!E13 -> 0.076923077 | F13: =('odhadnuté rychlosti'!F13-'reálná rychlost'!F13)/'reálná rychlost'!F13 -> 0.046511628 | G13: =('odhadnuté rychlosti'!G13-'reálná rychlost'!G13)/'reálná rychlost'!G13 -> 0.046511628 | H13: =('odhadnuté rychlosti'!H13-'reálná rychlost'!H13)/'reálná rychlost'!H13 -> 0.15384615 | ... M13: =('odhadnuté rychlosti'!M13-'reálná rychlost'!M13)/'reálná rychlost'!M13 -> 0.011904762 | N13: X | O13: X | P13: =('odhadnuté rychlosti'!P13-'reálná rychlost'!P13)/'reálná rychlost'!P13 -> 0.13924051 | Q13: =('odhadnuté rychlosti'!Q13-'reálná rychlost'!Q13)/'reálná rychlost'!Q13 -> 0.075949367 | R13: X | S13: =('odhadnuté rychlosti'!S13-'reálná rychlost'!S13)/'reálná rychlost'!S13 -> 0.04494382 | T13: =('odhadnuté rychlosti'!T13-'reálná rychlost'!T13)/'reálná rychlost'!T13 -> 0.011235955 | U13: =('odhadnuté rychlosti'!U13-'reálná rychlost'!U13)/'reálná rychlost'!U13 -> -0.027777778 | V13: BMW 530d xDrive Touring | W13: s rádiem/bez sudoku
A14: =('odhadnuté rychlosti'!A14-'reálná rychlost'!A14)/'reálná rychlost'!A14 -> 0.052631579 | B14: =('odhadnuté rychlosti'!B14-'reálná rychlost'!B14)/'reálná rychlost'!B14 -> 0.14035088 | C14: =('odhadnuté rychlosti'!C14-'reálná rychlost'!C14)/'reálná rychlost'!C14 -> 0.034482759 | D14: =('odhadnuté rychlosti'!D14-'reálná rychlost'!D14)/'reálná rychlost'!D14 -> 0.034482759 | E14: =('odhadnuté rychlosti'!E14-'reálná rychlost'!E14)/'reálná rychlost'!E14 -> -0.038461538 | F14: =('odhadnuté rychlosti'!F14-'reálná rychlost'!F14)/'reálná rychlost'!F14 -> 0.38461538 | G14: =('odhadnuté rychlosti'!G14-'reálná rychlost'!G14)/'reálná rychlost'!G14 -> 0.38461538 | H14: =('odhadnuté rychlosti'!H14-'reálná rychlost'!H14)/'reálná rychlost'!H14 -> 0.057692308 | ... J14: =('odhadnuté rychlosti'!J14-'reálná rychlost'!J14)/'reálná rychlost'!J14 -> 0.1 | K14: X | L14: X | M14: X | N14: X | O14: X | P14: =('odhadnuté rychlosti'!P14-'reálná rychlost'!P14)/'reálná rychlost'!P14 -> 0.034482759 | Q14: =('odhadnuté rychlosti'!Q14-'reálná rychlost'!Q14)/'reálná rychlost'!Q14 -> 0.034482759 | R14: X | S14: =('odhadnuté rychlosti'!S14-'reálná rychlost'!S14)/'reálná rychlost'!S14 -> 0.089285714 | T14: =('odhadnuté rychlosti'!T14-'reálná rychlost'!T14)/'reálná rychlost'!T14 -> -0.23214286 | U14: =('odhadnuté rychlosti'!U14-'reálná rychlost'!U14)/'reálná rychlost'!U14 -> -0.20289855 | V14: BMW 530d xDrive Touring | W14: s rádiem/bez sudoku
A15: =('odhadnuté rychlosti'!A15-'reálná rychlost'!A15)/'reálná rychlost'!A15 -> 0.20481928 | B15: =('odhadnuté rychlosti'!B15-'reálná rychlost'!B15)/'reálná rychlost'!B15 -> 0.3253012 | C15: =('odhadnuté rychlosti'!C15-'reálná rychlost'!C15)/'reálná rychlost'!C15 -> 0.11111111 | D15: =('odhadnuté rychlosti'!D15-'reálná rychlost'!D15)/'reálná rychlost'!D15 -> -0.090909091 | E15: =('odhadnuté rychlosti'!E15-'reálná rychlost'!E15)/'reálná rychlost'!E15 -> 0.18556701 | F15: =('odhadnuté rychlosti'!F15-'reálná rychlost'!F15)/'reálná rychlost'!F15 -> 0.078431373 | G15: =('odhadnuté rychlosti'!G15-'reálná rychlost'!G15)/'reálná rychlost'!G15 -> 0.12745098 | H15: =('odhadnuté rychlosti'!H15-'reálná rychlost'!H15)/'reálná rychlost'!H15 -> 0.28865979 | ... M15: =('odhadnuté rychlosti'!M15-'reálná rychlost'!M15)/'reálná rychlost'!M15 -> -0.10891089 | N15: X | O15: X | P15: =('odhadnuté rychlosti'!P15-'reálná rychlost'!P15)/'reálná rychlost'!P15 -> 0.15 | Q15: =('odhadnuté rychlosti'!Q15-'reálná rychlost'!Q15)/'reálná rychlost'!Q15 -> 0.1 | R15: X | S15: =('odhadnuté rychlosti'!S15-'reálná rychlost'!S15)/'reálná rychlost'!S15 -> 0.29 | T15: =('odhadnuté rychlosti'!T15-'reálná rychlost'!T15)/'reálná rychlost'!T15 -> 0.05 | U15: =('odhadnuté rychlosti'!U15-'reálná rychlost'!U15)/'reálná rychlost'!U15 -> -0.17525773 | V15: BMW 530d xDrive Touring | W15: s rádiem/bez sudoku
A16: =('odhadnuté rychlosti'!A16-'reálná rychlost'!A16)/'reálná rychlost'!A16 -> 0.048387097 | B16: =('odhadnuté rychlosti'!B16-'reálná rychlost'!B16)/'reálná rychlost'!B16 -> 0.048387097 | C16: =('odhadnuté rychlosti'!C16-'reálná rychlost'!C16)/'reálná rychlost'!C16 -> 0.031746032 | D16: =('odhadnuté rychlosti'!D16-'reálná rychlost'!D16)/'reálná rychlost'!D16 -> -0.047619048 | E16: =('odhadnuté rychlosti'!E16-'reálná rychlost'!E16)/'reálná rychlost'!E16 -> -0.038461538 | F16: =('odhadnuté rychlosti'!F16-'reálná rychlost'!F16)/'reálná rychlost'!F16 -> 0.031746032 | G16: =('odhadnuté rychlosti'!G16-'reálná rychlost'!G16)/'reálná rychlost'!G16 -> 0.055555556 | H16: =('odhadnuté rychlosti'!H16-'reálná rychlost'!H16)/'reálná rychlost'!H16 -> 0 | ... M16: =('odhadnuté rychlosti'!M16-'reálná rychlost'!M16)/'reálná rychlost'!M16 -> 0 | N16: X | O16: X | P16: =('odhadnuté rychlosti'!P16-'reálná rychlost'!P16)/'reálná rychlost'!P16 -> 0.062992126 | Q16: =('odhadnuté rychlosti'!Q16-'reálná rychlost'!Q16)/'reálná rychlost'!Q16 -> 0.023622047 | R16: X | S16: =('odhadnuté rychlosti'!S16-'reálná rychlost'!S16)/'reálná rychlost'!S16 -> 0.10569106 | T16: =('odhadnuté rychlosti'!T16-'reálná rychlost'!T16)/'reálná rychlost'!T16 -> 0.089430894 | U16: =('odhadnuté rychlosti'!U16-'reálná rychlost'!U16)/'reálná rychlost'!U16 -> -0.04 | V16: BMW 530d xDrive Touring | W16: s rádiem/bez sudoku
A17: X | B17: X | C17: =('odhadnuté rychlosti'!C17-'reálná rychlost'!C17)/'reálná rychlost'!C17 -> 0.043478261 | D17: =('odhadnuté rychlosti'!D17-'reálná rychlost'!D17)/'reálná rychlost'!D17 -> 0.043478261 | E17: X | F17: X | G17: X | H17: X | I17: =('odhadnuté rychlosti'!I17-'reálná rychlost'!I17)/'reálná rychlost'!I17 -> -0.017094017 | J17: =('odhadnuté rychlosti'!J17-'reálná rychlost'!J17)/'reálná rychlost'!J17 -> 0.11111111 | K17: =('odhadnuté rychlosti'!K17-'reálná rychlost'!K17)/'reálná rychlost'!K17 -> 0.18181818 | L17: =('odhadnuté rychlosti'!L17-'reálná rychlost'!L17)/'reálná rychlost'!L17 -> 0.18181818 | M17: =('odhadnuté rychlosti'!M17-'reálná rychlost'!M17)/'reálná rychlost'!M17 -> 0.045454545 | N17: X | O17: X | P17: =('odhadnuté rychlosti'!P17-'reálná rychlost'!P17)/'reálná rychlost'!P17 -> 0.18421053 | Q17: =('odhadnuté rychlosti'!Q17-'reálná rychlost'!Q17)/'reálná rychlost'!Q17 -> 0.052631579 | R17: X | S17: =('odhadnuté rychlosti'!S17-'reálná rychlost'!S17)/'reálná rychlost'!S17 -> 0.14782609 | T17: =('odhadnuté rychlosti'!T17-'reálná rychlost'!T17)/'reálná rychlost'!T17 -> 0.043478261 | U17: =('odhadnuté rychlosti'!U17-'reálná rychlost'!U17)/'reálná rychlost'!U17 -> -0.035087719 | V17: BMW 530d xDrive Touring | W17: s rádiem/bez sudoku
A18: =('odhadnuté rychlosti'!A18-'reálná rychlost'!A18)/'reálná rychlost'!A18 -> 0.14942529 | B18: =('odhadnuté rychlosti'!B18-'reálná rychlost'!B18)/'reálná rychlost'!B18 -> 0.034482759 | C18: =('odhadnuté rychlosti'!C18-'reálná rychlost'!C18)/'reálná rychlost'!C18 -> -0.02173913 | D18: =('odhadnuté rychlosti'!D18-'reálná rychlost'!D18)/'reálná rychlost'!D18 -> 0.032608696 | E18: =('odhadnuté rychlosti'!E18-'reálná rychlost'!E18)/'reálná rychlost'!E18 -> 0.034482759 | F18: =('odhadnuté rychlosti'!F18-'reálná rychlost'!F18)/'reálná rychlost'!F18 -> 0.091954023 | G18: =('odhadnuté rychlosti'!G18-'reálná rychlost'!G18)/'reálná rychlost'!G18 -> 0.26436782 | H18: =('odhadnuté rychlosti'!H18-'reálná rychlost'!H18)/'reálná rychlost'!H18 -> -0.08045977 | ... U18: =('odhadnuté rychlosti'!U18-'reálná rychlost'!U18)/'reálná rychlost'!U18 -> -0.10714286 | V18: BMW 530d xDrive Touring | W18: s rádiem/bez sudoku
A19: =('odhadnuté rychlosti'!A19-'reálná rychlost'!A19)/'reálná rychlost'!A19 -> -0.019607843 | B19: =('odhadnuté rychlosti'!B19-'reálná rychlost'!B19)/'reálná rychlost'!B19 -> 0.2745098 | C19: =('odhadnuté rychlosti'!C19-'reálná rychlost'!C19)/'reálná rychlost'!C19 -> 0.2 | D19: =('odhadnuté rychlosti'!D19-'reálná rychlost'!D19)/'reálná rychlost'!D19 -> 0.1 | E19: =('odhadnuté rychlosti'!E19-'reálná rychlost'!E19)/'reálná rychlost'!E19 -> 0 | F19: =('odhadnuté rychlosti'!F19-'reálná rychlost'!F19)/'reálná rychlost'!F19 -> 0.20930233 | G19: =('odhadnuté rychlosti'!G19-'reálná rychlost'!G19)/'reálná rychlost'!G19 -> 0.1627907 | H19: =('odhadnuté rychlosti'!H19-'reálná rychlost'!H19)/'reálná rychlost'!H19 -> -0.22222222 | ... O19: =('odhadnuté rychlosti'!O19-'reálná rychlost'!O19)/'reálná rychlost'!O19 -> -0.27083333 | P19: X | Q19: X | R19: =('odhadnuté rychlosti'!R19-'reálná rychlost'!R19)/'reálná rychlost'!R19 -> 0.041666667 | S19: =('odhadnuté rychlosti'!S19-'reálná rychlost'!S19)/'reálná rychlost'!S19 -> 0.54347826 | T19: =('odhadnuté rychlosti'!T19-'reálná rychlost'!T19)/'reálná rychlost'!T19 -> -0.13043478 | U19: =('odhadnuté rychlosti'!U19-'reálná rychlost'!U19)/'reálná rychlost'!U19 -> -0.24528302 | V19: BMW 530d xDrive Touring | W19: s rádiem/bez sudoku
A21: =('odhadnuté rychlosti'!A21-'reálná rychlost'!A21)/'reálná rychlost'!A21 -> -0.18918919 | B21: =('odhadnuté rychlosti'!B21-'reálná rychlost'!B21)/'reálná rychlost'!B21 -> -0.59459459 | C21: =('odhadnuté rychlosti'!C21-'reálná rychlost'!C21)/'reálná rychlost'!C21 -> -0.4 | D21: =('odhadnuté rychlosti'!D21-'reálná rychlost'!D21)/'reálná rychlost'!D21 -> -0.2 | E21: =('odhadnuté rychlosti'!E21-'reálná rychlost'!E21)/'reálná rychlost'!E21 -> 0.097560976 | F21: =('odhadnuté rychlosti'!F21-'reálná rychlost'!F21)/'reálná rychlost'!F21 -> 0.18421053 | G21: =('odhadnuté rychlosti'!G21-'reálná rychlost'!G21)/'reálná rychlost'!G21 -> 0.31578947 | H21: =('odhadnuté rychlosti'!H21-'reálná rychlost'!H21)/'reálná rychlost'!H21 -> -0.024390244 | ... U21: =('odhadnuté rychlosti'!U21-'reálná rychlost'!U21)/'reálná rychlost'!U21 -> -0.32432432 | V21: BMW 530d xDrive Touring | W21: Bez rádia/se sudoku
A22: =('odhadnuté rychlosti'!A22-'reálná rychlost'!A22)/'reálná rychlost'!A22 -> -0.41176471 | B22: =('odhadnuté rychlosti'!B22-'reálná rychlost'!B22)/'reálná rychlost'!B22 -> -0.60784314 | C22: =('odhadnuté rychlosti'!C22-'reálná rychlost'!C22)/'reálná rychlost'!C22 -> -0.056603774 | D22: =('odhadnuté rychlosti'!D22-'reálná rychlost'!D22)/'reálná rychlost'!D22 -> 0.037735849 | E22: =('odhadnuté rychlosti'!E22-'reálná rychlost'!E22)/'reálná rychlost'!E22 -> 0 | F22: =('odhadnuté rychlosti'!F22-'reálná rychlost'!F22)/'reálná rychlost'!F22 -> 0.057692308 | G22: =('odhadnuté rychlosti'!G22-'reálná rychlost'!G22)/'reálná rychlost'!G22 -> 0.019230769 | H22: =('odhadnuté rychlosti'!H22-'reálná rychlost'!H22)/'reálná rychlost'!H22 -> -0.1 | ... U22: =('odhadnuté rychlosti'!U22-'reálná rychlost'!U22)/'reálná rychlost'!U22 -> -0.2 | V22: BMW 530d xDrive Touring | W22: Bez rádia/se sudoku
A23: =('odhadnuté rychlosti'!A23-'reálná rychlost'!A23)/'reálná rychlost'!A23 -> 0.25 | B23: =('odhadnuté rychlosti'!B23-'reálná rychlost'!B23)/'reálná rychlost'!B23 -> -0.25 | C23: =('odhadnuté rychlosti'!C23-'reálná rychlost'!C23)/'reálná rychlost'!C23 -> 0 | D23: =('odhadnuté rychlosti'!D23-'reálná rychlost'!D23)/'reálná rychlost'!D23 -> 0 | E23: =('odhadnuté rychlosti'!E23-'reálná rychlost'!E23)/'reálná rychlost'!E23 -> 0.28571429 | F23: =('odhadnuté rychlosti'!F23-'reálná rychlost'!F23)/'reálná rychlost'!F23 -> 0.76470588 | G23: =('odhadnuté rychlosti'!G23-'reálná rychlost'!G23)/'reálná rychlost'!G23 -> 0.17647059 | H23: =('odhadnuté rychlosti'!H23-'reálná rychlost'!H23)/'reálná rychlost'!H23 -> -0.14285714 | ... U23: =('odhadnuté rychlosti'!U23-'reálná rychlost'!U23)/'reálná rychlost'!U23 -> -0.11111111 | V23: BMW 530d xDrive Touring | W23: Bez rádia/se sudoku
A24: =('odhadnuté rychlosti'!A24-'reálná rychlost'!A24)/'reálná rychlost'!A24 -> -0.090909091 | B24: =('odhadnuté rychlosti'!B24-'reálná rychlost'!B24)/'reálná rychlost'!B24 -> -0.090909091 | C24: =('odhadnuté rychlosti'!C24-'reálná rychlost'!C24)/'reálná rychlost'!C24 -> 0.17647059 | D24: =('odhadnuté rychlosti'!D24-'reálná rychlost'!D24)/'reálná rychlost'!D24 -> 0.17647059 | E24: =('odhadnuté rychlosti'!E24-'reálná rychlost'!E24)/'reálná rychlost'!E24 -> 0.044776119 | F24: =('odhadnuté rychlosti'!F24-'reálná rychlost'!F24)/'reálná rychlost'!F24 -> 0.30434783 | G24: =('odhadnuté rychlosti'!G24-'reálná rychlost'!G24)/'reálná rychlost'!G24 -> 0.1884058 | H24: =('odhadnuté rychlosti'!H24-'reálná rychlost'!H24)/'reálná rychlost'!H24 -> 0.11940299 | ... U24: =('odhadnuté rychlosti'!U24-'reálná rychlost'!U24)/'reálná rychlost'!U24 -> -0.097222222 | V24: BMW 530d xDrive Touring | W24: Bez rádia/se sudoku
A25: =('odhadnuté rychlosti'!A25-'reálná rychlost'!A25)/'reálná rychlost'!A25 -> 0.034482759 | B25: =('odhadnuté rychlosti'!B25-'reálná rychlost'!B25)/'reálná rychlost'!B25 -> -0.08045977 | C25: =('odhadnuté rychlosti'!C25-'reálná rychlost'!C25)/'reálná rychlost'!C25 -> 0.14942529 | D25: =('odhadnuté rychlosti'!D25-'reálná rychlost'!D25)/'reálná rychlost'!D25 -> 0.034482759 | E25: =('odhadnuté rychlosti'!E25-'reálná rychlost'!E25)/'reálná rychlost'!E25 -> 0.011904762 | F25: =('odhadnuté rychlosti'!F25-'reálná rychlost'!F25)/'reálná rychlost'!F25 -> 0.046511628 | G25: =('odhadnuté rychlosti'!G25-'reálná rychlost'!G25)/'reálná rychlost'!G25 -> 0.023255814 | H25: =('odhadnuté rychlosti'!H25-'reálná rychlost'!H25)/'reálná rychlost'!H25 -> 0.011904762 | ... U25: =('odhadnuté rychlosti'!U25-'reálná rychlost'!U25)/'reálná rychlost'!U25 -> -0.13043478 | V25: BMW 530d xDrive Touring | W25: Bez rádia/se sudoku
A26: =('odhadnuté rychlosti'!A26-'reálná rychlost'!A26)/'reálná rychlost'!A26 -> 0.4516129 | B26: =('odhadnuté rychlosti'!B26-'reálná rychlost'!B26)/'reálná rychlost'!B26 -> 0.12903226 | C26: =('odhadnuté rychlosti'!C26-'reálná rychlost'!C26)/'reálná rychlost'!C26 -> 0.29032258 | D26: =('odhadnuté rychlosti'!D26-'reálná rychlost'!D26)/'reálná rychlost'!D26 -> 0.29032258 | E26: =('odhadnuté rychlosti'!E26-'reálná rychlost'!E26)/'reálná rychlost'!E26 -> 0.48148148 | F26: =('odhadnuté rychlosti'!F26-'reálná rychlost'!F26)/'reálná rychlost'!F26 -> 0.73333333 | G26: =('odhadnuté rychlosti'!G26-'reálná rychlost'!G26)/'reálná rychlost'!G26 -> 0.33333333 | H26: =('odhadnuté rychlosti'!H26-'reálná rychlost'!H26)/'reálná rychlost'!H26 -> 0.48148148 | ... U26: =('odhadnuté rychlosti'!U26-'reálná rychlost'!U26)/'reálná rychlost'!U26 -> 0.25 | V26: BMW 530d xDrive Touring | W26: Bez rádia/se sudoku
A27: =('odhadnuté rychlosti'!A27-'reálná rychlost'!A27)/'reálná rychlost'!A27 -> 0.078431373 | B27: =('odhadnuté rychlosti'!B27-'reálná rychlost'!B27)/'reálná rychlost'!B27 -> -0.019607843 | C27: =('odhadnuté rychlosti'!C27-'reálná rychlost'!C27)/'reálná rychlost'!C27 -> -0.056603774 | D27: =('odhadnuté rychlosti'!D27-'reálná rychlost'!D27)/'reálná rychlost'!D27 -> 0.037735849 | E27: =('odhadnuté rychlosti'!E27-'reálná rychlost'!E27)/'reálná rychlost'!E27 -> 0.020408163 | F27: =('odhadnuté rychlosti'!F27-'reálná rychlost'!F27)/'reálná rychlost'!F27 -> 0.27659574 | G27: =('odhadnuté rychlosti'!G27-'reálná rychlost'!G27)/'reálná rychlost'!G27 -> -0.042553191 | H27: =('odhadnuté rychlosti'!H27-'reálná rychlost'!H27)/'reálná rychlost'!H27 -> 0.020408163 | ... U27: =('odhadnuté rychlosti'!U27-'reálná rychlost'!U27)/'reálná rychlost'!U27 -> 0 | V27: BMW 530d xDrive Touring | W27: Bez rádia/se sudoku
A28: =('odhadnuté rychlosti'!A28-'reálná rychlost'!A28)/'reálná rychlost'!A28 -> 0.041666667 | B28: =('odhadnuté rychlosti'!B28-'reálná rychlost'!B28)/'reálná rychlost'!B28 -> -0.16666667 | C28: =('odhadnuté rychlosti'!C28-'reálná rychlost'!C28)/'reálná rychlost'!C28 -> 0.52173913 | D28: =('odhadnuté rychlosti'!D28-'reálná rychlost'!D28)/'reálná rychlost'!D28 -> 0.30434783 | E28: =('odhadnuté rychlosti'!E28-'reálná rychlost'!E28)/'reálná rychlost'!E28 -> 0.14583333 | F28: =('odhadnuté rychlosti'!F28-'reálná rychlost'!F28)/'reálná rychlost'!F28 -> 0.42857143 | G28: =('odhadnuté rychlosti'!G28-'reálná rychlost'!G28)/'reálná rychlost'!G28 -> 0.12244898 | H28: =('odhadnuté rychlosti'!H28-'reálná rychlost'!H28)/'reálná rychlost'!H28 -> 0.041666667 | ... U28: =('odhadnuté rychlosti'!U28-'reálná rychlost'!U28)/'reálná rychlost'!U28 -> 0.022727273 | V28: BMW 530d xDrive Touring | W28: Bez rádia/se sudoku
A29: =('odhadnuté rychlosti'!A29-'reálná rychlost'!A29)/'reálná rychlost'!A29 -> 0.058823529 | B29: =('odhadnuté rychlosti'!B29-'reálná rychlost'!B29)/'reálná rychlost'!B29 -> 0 | C29: =('odhadnuté rychlosti'!C29-'reálná rychlost'!C29)/'reálná rychlost'!C29 -> 0.38888889 | D29: =('odhadnuté rychlosti'!D29-'reálná rychlost'!D29)/'reálná rychlost'!D29 -> 0.25 | E29: =('odhadnuté rychlosti'!E29-'reálná rychlost'!E29)/'reálná rychlost'!E29 -> -0.1011236 | F29: =('odhadnuté rychlosti'!F29-'reálná rychlost'!F29)/'reálná rychlost'!F29 -> 0.10465116 | G29: =('odhadnuté rychlosti'!G29-'reálná rychlost'!G29)/'reálná rychlost'!G29 -> -0.046511628 | H29: =('odhadnuté rychlosti'!H29-'reálná rychlost'!H29)/'reálná rychlost'!H29 -> 0.011235955 | ... U29: =('odhadnuté rychlosti'!U29-'reálná rychlost'!U29)/'reálná rychlost'!U29 -> -0.15662651 | V29: BMW 530d xDrive Touring | W29: Bez rádia/se sudoku
A30: =('odhadnuté rychlosti'!A30-'reálná rychlost'!A30)/'reálná rychlost'!A30 -> 0.19047619 | B30: =('odhadnuté rychlosti'!B30-'reálná rychlost'!B30)/'reálná rychlost'!B30 -> -0.047619048 | C30: =('odhadnuté rychlosti'!C30-'reálná rychlost'!C30)/'reálná rychlost'!C30 -> 0.052631579 | D30: =('odhadnuté rychlosti'!D30-'reálná rychlost'!D30)/'reálná rychlost'!D30 -> 0.31578947 | E30: =('odhadnuté rychlosti'!E30-'reálná rychlost'!E30)/'reálná rychlost'!E30 -> -0.02173913 | F30: =('odhadnuté rychlosti'!F30-'reálná rychlost'!F30)/'reálná rychlost'!F30 -> 0.2244898 | G30: =('odhadnuté rychlosti'!G30-'reálná rychlost'!G30)/'reálná rychlost'!G30 -> -0.040816327 | H30: =('odhadnuté rychlosti'!H30-'reálná rychlost'!H30)/'reálná rychlost'!H30 -> 0.086956522 | ... U30: =('odhadnuté rychlosti'!U30-'reálná rychlost'!U30)/'reálná rychlost'!U30 -> -0.16666667 | V30: BMW 530d xDrive Touring | W30: Bez rádia/se sudoku
